BEGIN:VCALENDAR
VERSION:2.0
PRODID:-//O&#039;Hanlon Center for the Arts - ECPv6.15.17.1//NONSGML v1.0//EN
CALSCALE:GREGORIAN
METHOD:PUBLISH
X-ORIGINAL-URL:https://www.ohanloncenter.org
X-WR-CALDESC:Events for O&#039;Hanlon Center for the Arts
REFRESH-INTERVAL;VALUE=DURATION:PT1H
X-Robots-Tag:noindex
X-PUBLISHED-TTL:PT1H
BEGIN:VTIMEZONE
TZID:America/Los_Angeles
BEGIN:DAYLIGHT
TZOFFSETFROM:-0800
TZOFFSETTO:-0700
TZNAME:PDT
DTSTART:20250309T100000
END:DAYLIGHT
BEGIN:STANDARD
TZOFFSETFROM:-0700
TZOFFSETTO:-0800
TZNAME:PST
DTSTART:20251102T090000
END:STANDARD
BEGIN:DAYLIGHT
TZOFFSETFROM:-0800
TZOFFSETTO:-0700
TZNAME:PDT
DTSTART:20260308T100000
END:DAYLIGHT
BEGIN:STANDARD
TZOFFSETFROM:-0700
TZOFFSETTO:-0800
TZNAME:PST
DTSTART:20261101T090000
END:STANDARD
BEGIN:DAYLIGHT
TZOFFSETFROM:-0800
TZOFFSETTO:-0700
TZNAME:PDT
DTSTART:20270314T100000
END:DAYLIGHT
BEGIN:STANDARD
TZOFFSETFROM:-0700
TZOFFSETTO:-0800
TZNAME:PST
DTSTART:20271107T090000
END:STANDARD
END:VTIMEZONE
BEGIN:VEVENT
DTSTART;TZID=America/Los_Angeles:20261209T130000
DTEND;TZID=America/Los_Angeles:20261209T153000
DTSTAMP:20260422T030019
CREATED:20260130T210729Z
LAST-MODIFIED:20260130T210729Z
UID:20004425-1796821200-1796830200@www.ohanloncenter.org
SUMMARY:Inside JUNK JOURNALING with Peller
DESCRIPTION:Junk journaling is a creative and mindful craft that blends scrapbooking and collaging\, serving as a heartfelt response to the fleeting nature of digital life. In a world dominated by screens and instant communication\, junk journaling invites you to slow down and reconnect with tangible\, physical materials—snipping\, gluing\, and layering to create meaningful art. \nBy transforming everyday “trash” like parking tickets\, luggage tags\, ticket stubs\, or even pieces of pizza boxes into beautiful collages\, you can discover the magic in the overlooked and discarded. It’s a fun challenge to seek out items you might normally toss away and repurpose them into personal journal entries or artistic pieces. \nAdopting a collector’s eye encourages mindfulness and observation\, inspiring you to notice the small ephemera of daily life—receipts\, labels\, snippets of wrapping paper—and see them as treasures waiting to be incorporated into your journal. \nJoin this creative journey to add a little magic and intentionality to your day-to-day life. Embrace the imperfect\, the transient\, and the beautiful in the ordinary through junk journaling—where one person’s junk becomes another’s treasured story. \nJoin me in adding a little magic to your day to day. \nLoft Gallery | 1 – 3:30 PM\nMax. 8 participants \n \n 
URL:https://www.ohanloncenter.org/event/inside-junk-journaling-with-peller-6/
LOCATION:O’Hanlon Center for the Arts
CATEGORIES:Visual Arts
ORGANIZER;CN="OHCA Staff":MAILTO:office@ohanloncenter.org
END:VEVENT
BEGIN:VEVENT
DTSTART;TZID=America/Los_Angeles:20261210T103000
DTEND;TZID=America/Los_Angeles:20261210T123000
DTSTAMP:20260422T030019
CREATED:20251222T201242Z
LAST-MODIFIED:20251230T224021Z
UID:20004279-1796898600-1796905800@www.ohanloncenter.org
SUMMARY:Creative Writing w/ Abby Wasserman
DESCRIPTION:  \nThis weekly group features freewriting (to loosen the Muse) with sustained and supportive group critiques of works in progress. \nThe facilitator is a journalist\, author\, and editor who has been leading OHCA writing groups for over 20 years. \n  \n$160\, $130 OH member for 6 sessions \nSingle session drop-in: $30 \nVisit Abby Wasserman’s Website » \n\n			\n				\n\n	\n	\n			\n\n\n	\n		Creative Writing w/ Abby Wasserman 2026$30.00 – $160.00Price range: $30.00 through $160.00 \n\n\n	\n			\n			\n									\n						Member/Non-Member\n						\n							Choose an optionNon-memberOHCA Member						\n					\n									\n						# of Sessions\n						\n							Choose an option6 sessionsSingle session drop-inClear						\n					\n							\n		\n		\n		\n		\n			\n	\n	\n		Creative Writing w/ Abby Wasserman 2026 quantity\n	\n	\n\n	Add to cart\n\n	\n	\n	\n	\n\n		\n	\n	\n\n\n\n	\n	\n		SKU: creative-writing-abby-2\n\n	\n	Category: Literary\n	\n	\n\n	\n\n	\n	\n		\n							\n					\n						Additional information					\n				\n					\n					\n				\n	Additional information\n\n\n			\n			Member/Non-Member\n			Non-member\, OHCA Member \n\n		\n			\n			# of Sessions\n			6 sessions\, Single session drop-in \n\n		\n	\n			\n		\n			\n\n\n	\n\n					Related products\n				\n\n			\n					\n	Creative Writing w/ Abby Wasserman\n	$27.00 – $156.00Price range: $27.00 through $156.00\n\n\n			\n		\n\n	\n	\n\n			\n			\n 
URL:https://www.ohanloncenter.org/event/creative-writing-w-abby-wasserman/2026-12-10/
LOCATION:O’Hanlon Center for the Arts
CATEGORIES:Literary Arts
ORGANIZER;CN="OHCA Staff":MAILTO:office@ohanloncenter.org
END:VEVENT
BEGIN:VEVENT
DTSTART;TZID=America/Los_Angeles:20261211T120000
DTEND;TZID=America/Los_Angeles:20261211T140000
DTSTAMP:20260422T030019
CREATED:20251209T202741Z
LAST-MODIFIED:20251209T202741Z
UID:20003833-1796990400-1796997600@www.ohanloncenter.org
SUMMARY:Art Forum (in-person)
DESCRIPTION:Get honest and thoughtful feedback on your current work in a welcoming and open group setting in person!\nFacilitated by Jackie La Lanne\, Tom Zizzo\, and Naomi Tamura\n\nWe will meet once a month on the second Friday of the month from 12-2 pm to discuss the work presented.\n\nBring in one or two pieces of your work. You will get practice talking about your work and get honest and thoughtful feedback from the group.\n\nWho: Up to 8 practicing artists\nWhen: The Second Friday of the Month\, 12-2pm\nCost: FREE – But donations of any amount to OHCA are much appreciated.\n\nPlease RSVP below!
URL:https://www.ohanloncenter.org/event/art-forum-in-person-25/
LOCATION:O’Hanlon Center for the Arts
CATEGORIES:Visual Arts
ORGANIZER;CN="OHCA Staff":MAILTO:office@ohanloncenter.org
END:VEVENT
END:VCALENDAR