BEGIN:VCALENDAR
VERSION:2.0
PRODID:-//O&#039;Hanlon Center for the Arts - ECPv6.15.17.1//NONSGML v1.0//EN
CALSCALE:GREGORIAN
METHOD:PUBLISH
X-ORIGINAL-URL:https://www.ohanloncenter.org
X-WR-CALDESC:Events for O&#039;Hanlon Center for the Arts
REFRESH-INTERVAL;VALUE=DURATION:PT1H
X-Robots-Tag:noindex
X-PUBLISHED-TTL:PT1H
BEGIN:VTIMEZONE
TZID:America/Los_Angeles
BEGIN:DAYLIGHT
TZOFFSETFROM:-0800
TZOFFSETTO:-0700
TZNAME:PDT
DTSTART:20250309T100000
END:DAYLIGHT
BEGIN:STANDARD
TZOFFSETFROM:-0700
TZOFFSETTO:-0800
TZNAME:PST
DTSTART:20251102T090000
END:STANDARD
BEGIN:DAYLIGHT
TZOFFSETFROM:-0800
TZOFFSETTO:-0700
TZNAME:PDT
DTSTART:20260308T100000
END:DAYLIGHT
BEGIN:STANDARD
TZOFFSETFROM:-0700
TZOFFSETTO:-0800
TZNAME:PST
DTSTART:20261101T090000
END:STANDARD
BEGIN:DAYLIGHT
TZOFFSETFROM:-0800
TZOFFSETTO:-0700
TZNAME:PDT
DTSTART:20270314T100000
END:DAYLIGHT
BEGIN:STANDARD
TZOFFSETFROM:-0700
TZOFFSETTO:-0800
TZNAME:PST
DTSTART:20271107T090000
END:STANDARD
END:VTIMEZONE
BEGIN:VEVENT
DTSTART;TZID=America/Los_Angeles:20260927T130000
DTEND;TZID=America/Los_Angeles:20260927T150000
DTSTAMP:20260422T063058
CREATED:20251209T194042Z
LAST-MODIFIED:20260317T195259Z
UID:20003819-1790514000-1790521200@www.ohanloncenter.org
SUMMARY:Sunday Family Art Day
DESCRIPTION:A monthly child-led art workshop with seasonal and nature themes layered into the activity \nwith Catherine Taylor Tai\nThe O’Hanlon Loft is a space for children (and grownups) to come get messy\, try new things and have fun. We will experiment with paint\, crayons\, glue\, glitter and found objects depending on the season and age of participants.  \nWorkshop will take place in the O’Hanlon Loft Studio. \nLast Sunday of the month\, 1-3 pm. \n$60 per family Plus $10 materials to be paid to facilitator day of event \n  \n  \n\nABOUT CATHERINE \nCatherine Taylor Tai is an artist\, mother and health coach. She has enjoyed raising her three children around the world from NYC to Singapore and now Northern California.  \nShe is an advocate of forest school and the arts and loves when the two meet.  \n \n  \n  \n  \n  \n  \n  \n  \n\n  \n			\n				\n\n	\n	\n			\n\n\n	\n		Sunday Family Art Day$60.00 \n\n	\n	\n		\n		\n		Sunday Family Art Day quantity\n	\n	\n\n		Add to cart\n\n			\n\n	\n\n\n	\n	\n		SKU: sunday-family-art\n\n	\n	Category: Youth and Family\n	\n	\n\n	\n\n	\n	\n		\n							\n					\n						Description					\n				\n					\n					\n				\n	Description\n\nA monthly child-led art workshop with seasonal and nature themes layered into the activity.
URL:https://www.ohanloncenter.org/event/sunday-family-art-day/2026-09-27/
LOCATION:O’Hanlon Center for the Arts
CATEGORIES:Community Events,Visual Arts,Youth & Family
ORGANIZER;CN="OHCA Staff":MAILTO:office@ohanloncenter.org
END:VEVENT
BEGIN:VEVENT
DTSTART;TZID=America/Los_Angeles:20261001T103000
DTEND;TZID=America/Los_Angeles:20261001T123000
DTSTAMP:20260422T063059
CREATED:20251222T201242Z
LAST-MODIFIED:20251230T224021Z
UID:20004269-1790850600-1790857800@www.ohanloncenter.org
SUMMARY:Creative Writing w/ Abby Wasserman
DESCRIPTION:  \nThis weekly group features freewriting (to loosen the Muse) with sustained and supportive group critiques of works in progress. \nThe facilitator is a journalist\, author\, and editor who has been leading OHCA writing groups for over 20 years. \n  \n$160\, $130 OH member for 6 sessions \nSingle session drop-in: $30 \nVisit Abby Wasserman’s Website » \n\n			\n				\n\n	\n	\n			\n\n\n	\n		Creative Writing w/ Abby Wasserman 2026$30.00 – $160.00Price range: $30.00 through $160.00 \n\n\n	\n			\n			\n									\n						Member/Non-Member\n						\n							Choose an optionNon-memberOHCA Member						\n					\n									\n						# of Sessions\n						\n							Choose an option6 sessionsSingle session drop-inClear						\n					\n							\n		\n		\n		\n		\n			\n	\n	\n		Creative Writing w/ Abby Wasserman 2026 quantity\n	\n	\n\n	Add to cart\n\n	\n	\n	\n	\n\n		\n	\n	\n\n\n\n	\n	\n		SKU: creative-writing-abby-2\n\n	\n	Category: Literary\n	\n	\n\n	\n\n	\n	\n		\n							\n					\n						Additional information					\n				\n					\n					\n				\n	Additional information\n\n\n			\n			Member/Non-Member\n			Non-member\, OHCA Member \n\n		\n			\n			# of Sessions\n			6 sessions\, Single session drop-in \n\n		\n	\n			\n		\n			\n\n\n	\n\n					Related products\n				\n\n			\n					\n	Creative Writing w/ Abby Wasserman\n	$27.00 – $156.00Price range: $27.00 through $156.00\n\n\n			\n		\n\n	\n	\n\n			\n			\n 
URL:https://www.ohanloncenter.org/event/creative-writing-w-abby-wasserman/2026-10-01/
LOCATION:O’Hanlon Center for the Arts
CATEGORIES:Literary Arts
ORGANIZER;CN="OHCA Staff":MAILTO:office@ohanloncenter.org
END:VEVENT
END:VCALENDAR