BEGIN:VCALENDAR
VERSION:2.0
PRODID:-//O&#039;Hanlon Center for the Arts - ECPv6.15.17.1//NONSGML v1.0//EN
CALSCALE:GREGORIAN
METHOD:PUBLISH
X-WR-CALNAME:O&#039;Hanlon Center for the Arts
X-ORIGINAL-URL:https://www.ohanloncenter.org
X-WR-CALDESC:Events for O&#039;Hanlon Center for the Arts
REFRESH-INTERVAL;VALUE=DURATION:PT1H
X-Robots-Tag:noindex
X-PUBLISHED-TTL:PT1H
BEGIN:VTIMEZONE
TZID:America/Los_Angeles
BEGIN:DAYLIGHT
TZOFFSETFROM:-0800
TZOFFSETTO:-0700
TZNAME:PDT
DTSTART:20230312T100000
END:DAYLIGHT
BEGIN:STANDARD
TZOFFSETFROM:-0700
TZOFFSETTO:-0800
TZNAME:PST
DTSTART:20231105T090000
END:STANDARD
BEGIN:DAYLIGHT
TZOFFSETFROM:-0800
TZOFFSETTO:-0700
TZNAME:PDT
DTSTART:20240310T100000
END:DAYLIGHT
BEGIN:STANDARD
TZOFFSETFROM:-0700
TZOFFSETTO:-0800
TZNAME:PST
DTSTART:20241103T090000
END:STANDARD
BEGIN:DAYLIGHT
TZOFFSETFROM:-0800
TZOFFSETTO:-0700
TZNAME:PDT
DTSTART:20250309T100000
END:DAYLIGHT
BEGIN:STANDARD
TZOFFSETFROM:-0700
TZOFFSETTO:-0800
TZNAME:PST
DTSTART:20251102T090000
END:STANDARD
END:VTIMEZONE
BEGIN:VEVENT
DTSTART;TZID=America/Los_Angeles:20240223T100000
DTEND;TZID=America/Los_Angeles:20241020T080000
DTSTAMP:20260421T062807
CREATED:20240128T221255Z
LAST-MODIFIED:20241213T010029Z
UID:20002740-1708682400-1729411200@www.ohanloncenter.org
SUMMARY:Vimala Sangha
DESCRIPTION:For information about the group please contact Celeste Perry: celesteperrytv@gmail.com\n \nBy Donation
URL:https://www.ohanloncenter.org/event/vimala-sangha-2/2024-02-23/3/
LOCATION:O’Hanlon Center for the Arts
CATEGORIES:Meditative Arts
ORGANIZER;CN="OHCA Staff":MAILTO:office@ohanloncenter.org
END:VEVENT
BEGIN:VEVENT
DTSTART;TZID=America/Los_Angeles:20240903T100000
DTEND;TZID=America/Los_Angeles:20240903T140000
DTSTAMP:20260421T062807
CREATED:20240526T142833Z
LAST-MODIFIED:20241219T184757Z
UID:20002828-1725357600-1725372000@www.ohanloncenter.org
SUMMARY:Tuesday Perception Workshop - Cancelled Dec 24 and 31
DESCRIPTION:Explore\, experiment\, and discover your unique form of creative expression. \nThe Visual Perception workshops are hands-on creating with materials\, experimenting\, and discovering without dependence on technique. Participants are encouraged to pay attention to what you see\, accept the marks you make\, explore\, experiment\, and discover your unique form of creative expression. \nA simple prompt or exercise is given at the beginning of class. Participants are free to elaborate on their initial efforts or do something else entirely. \nWe end the workshops with a gathering (coming together) of everyone and their work. Participants look\, discuss\, and value the work created. \n \nMost materials are provided and/or bring your own. \n$25 non-members | $20 OHCA members \nMasking may be required. Bring a mask in case. \n  \n  \n  \n  \n\n			\n				\n\n	\n	\n			\n\n\n	\n		Tuesday Perception Workshop \n\n\n	\n			\n			\n									\n						Member/Non-Member\n						\n							Choose an optionNon-memberOHCA MemberClear						\n					\n							\n		\n		\n		\n		\n			\n	\n	\n		Tuesday Perception Workshop quantity\n	\n	\n\n	Add to cart\n\n	\n	\n	\n	\n\n		\n	\n	\n\n\n\n	\n	\n		SKU: tues-perception\n\n	\n	Categories: Perception Workshops\, Visual Art\n	\n	\n\n	\n\n	\n	\n		\n							\n					\n						Additional information					\n				\n					\n					\n				\n	Additional information\n\n\n			\n			Member/Non-Member\n			Non-member\, OHCA Member \n\n		\n	\n			\n		\n			\n\n\n	\n\n					Related products\n				\n\n			\n					\n	Saturday Perception Workshop | 2026\n	$25.00 – $30.00Price range: $25.00 through $30.00\n\n\n			\n					\n	Surprise Yourself – Creation and Perception\n	$20.00\n\n\n			\n					\n	Saturday Perception Workshop\n	$20.00 – $25.00Price range: $20.00 through $25.00\n\n\n			\n		\n\n	\n	\n\n			\n			\n 
URL:https://www.ohanloncenter.org/event/tuesday-perception-workshop-2024-2/2024-09-03/
LOCATION:O’Hanlon Center for the Arts
CATEGORIES:Visual Arts
ORGANIZER;CN="OHCA Staff":MAILTO:office@ohanloncenter.org
END:VEVENT
BEGIN:VEVENT
DTSTART;TZID=America/Los_Angeles:20240903T170000
DTEND;TZID=America/Los_Angeles:20240903T190000
DTSTAMP:20260421T062807
CREATED:20240831T180458Z
LAST-MODIFIED:20240831T180628Z
UID:20002417-1725382800-1725390000@www.ohanloncenter.org
SUMMARY:Opening Receptions: Phyllis Thelen in Gallery and Iliana Soto in Loft
DESCRIPTION:Join us for 2 new show opening receptions.  These are in conjunction with the Mill Valley Art Commission First Tuesday Art Walk.\nPhyllis Thelen will give a short talk at 5 pm about her Climate Crisis show “living with climate change…or Not!”\n5:30 – 7:00 receptions. \nALL WELCOME! \nBoth venues will host life music! \n \n \n 
URL:https://www.ohanloncenter.org/event/opening-receptions-phyllis-thelen-in-gallery-and-iliana-soto-in-loft/
LOCATION:O’Hanlon Center for the Arts
CATEGORIES:Community Events,Special Events,Visual Arts
ORGANIZER;CN="OHCA Staff":MAILTO:office@ohanloncenter.org
END:VEVENT
BEGIN:VEVENT
DTSTART;TZID=America/Los_Angeles:20240904T133000
DTEND;TZID=America/Los_Angeles:20240904T153000
DTSTAMP:20260421T062807
CREATED:20240403T000044Z
LAST-MODIFIED:20240403T000443Z
UID:20002109-1725456600-1725463800@www.ohanloncenter.org
SUMMARY:Writing from the Heart w/ Dr. Peller Marion (on Zoom)
DESCRIPTION:An adventurous mix of writing\nand some art too \nThis FREE drop-in and on-going Zoom group requires no experience. All you need to bring is a notebook and a pen. Peller will bring the instruction\, inspiration\, safe space\, writing and art prompts. \n\nFind your writing voice.\nDive into your creativity.\nDeepen your writing practice.  \nShare your stories\, memories\, and inspirations.\nGet steady positive affirmation for your work in a  community of passionate writers.\n\n  \nFirst and and fourth Wednesdays each month\n1:30 p.m. to 3:30 p.m. \nContact facilitator Peller Marion via email to get the zoom link\npellermarion@gmail.com\nDonations accepted to O’Hanlon Center for the Arts\n616 Throckmorton Avenue • Mill Valley • CA • 94941 \n  \n\n  \nFacilitated by Dr. Peller Marion\, author of five books and exhibiting artist and psychologist.\nFor more workshops led by Peller: go to O’Hanlon Center for the Arts (www.ohanloncenter.org) or www.pellermarion.com\nemail facilitator with questions:pellermarion@gmail.com
URL:https://www.ohanloncenter.org/event/writing-from-the-heart-w-dr-peller-marion-on-zoom-2/2024-09-04/
LOCATION:O’Hanlon Center for the Arts
CATEGORIES:Literary Arts,Virtual
ORGANIZER;CN="OHCA Staff":MAILTO:office@ohanloncenter.org
END:VEVENT
BEGIN:VEVENT
DTSTART;TZID=America/Los_Angeles:20240905T100000
DTEND;TZID=America/Los_Angeles:20240905T120000
DTSTAMP:20260421T062807
CREATED:20240816T002116Z
LAST-MODIFIED:20240819T210749Z
UID:20002255-1725530400-1725537600@www.ohanloncenter.org
SUMMARY:Creative Writing w/ Abby Wasserman
DESCRIPTION:  \nThis weekly group features freewriting (to loosen the Muse) with sustained and supportive group critiques of works in progress. \nThe facilitator is a journalist\, author\, and editor who has been leading OHCA writing groups for over 20 years. \nThis ongoing Thursday workshop is held in person in the upper Loft. \n  \n$156\,  $125 OH member for 6 sessions \nSingle session drop-in: $27 \nVisit Abby Wasserman’s Website » \n\n			\n				\n\n	\n	\n			\n\n\n	\n		Creative Writing w/ Abby Wasserman$27.00 – $156.00Price range: $27.00 through $156.00 \n\n\n	\n			\n			\n									\n						Member/Non-Member\n						\n							Choose an optionNon-memberOHCA Member						\n					\n									\n						# of Sessions\n						\n							Choose an option6 sessionsSingle session drop-inClear						\n					\n							\n		\n		\n		\n		\n			\n	\n	\n		Creative Writing w/ Abby Wasserman quantity\n	\n	\n\n	Add to cart\n\n	\n	\n	\n	\n\n		\n	\n	\n\n\n\n	\n	\n		SKU: creative-writing-abby\n\n	\n	Category: Literary\n	\n	\n\n	\n\n	\n	\n		\n							\n					\n						Additional information					\n				\n					\n					\n				\n	Additional information\n\n\n			\n			Member/Non-Member\n			Non-member\, OHCA Member \n\n		\n			\n			# of Sessions\n			6 sessions\, Single session drop-in \n\n		\n	\n			\n		\n			\n\n\n	\n\n					Related products\n				\n\n			\n					\n	Creative Writing w/ Abby Wasserman 2026\n	$30.00 – $160.00Price range: $30.00 through $160.00\n\n\n			\n		\n\n	\n	\n\n			\n			\n 
URL:https://www.ohanloncenter.org/event/creative-writing-w-abby-wasserman-4/2024-09-05/
LOCATION:O’Hanlon Center for the Arts
CATEGORIES:Literary Arts
ORGANIZER;CN="OHCA Staff":MAILTO:office@ohanloncenter.org
END:VEVENT
BEGIN:VEVENT
DTSTART;TZID=America/Los_Angeles:20240905T140000
DTEND;TZID=America/Los_Angeles:20240905T153000
DTSTAMP:20260421T062807
CREATED:20240331T002820Z
LAST-MODIFIED:20241015T194434Z
UID:20002524-1725544800-1725550200@www.ohanloncenter.org
SUMMARY:O’Hanlon Poetry Collective on Zoom
DESCRIPTION:For O’Hanlon Member poets and poetry lovers. \nHosted by Suz Lipman\, Jonathan Livingston and guests. \nA bi-monthly online gathering started by OHCA resident poet Cruwys Brown and featuring 2010-2012 Marin County Poet Laureate\, CB Follett\, and others to explore\, read and discuss poetry. \nThis group is currently at maximum capacity of 12 active participants. If you’d like to get on the wait list please email office@ohanloncenter.org. \nOHCA Members only\n12 people max. $10 per session. \n  \nPayment for Current Poetry group members\n 
URL:https://www.ohanloncenter.org/event/ohanlon-poetry-collective-on-zoom-2-2/2024-09-05/
CATEGORIES:Literary Arts,Virtual
ORGANIZER;CN="OHCA Staff":MAILTO:office@ohanloncenter.org
END:VEVENT
BEGIN:VEVENT
DTSTART;TZID=America/Los_Angeles:20240907T100000
DTEND;TZID=America/Los_Angeles:20240907T140000
DTSTAMP:20260421T062807
CREATED:20231118T193554Z
LAST-MODIFIED:20240528T184020Z
UID:20001826-1725703200-1725717600@www.ohanloncenter.org
SUMMARY:Saturday Perception Workshop
DESCRIPTION:One of the core principles Ann O’Hanlon stressed was learning how to seeFor over 35 years – Saturdays have been a time to put that into practice. To experiment and discover.\n				\n			\n			\n				\n				\n				\n				\n			\n				\n				\n				\n				\n				\n				\n				\n				\n				\n				\n				Thank you to Ann Fricker and Noni Garner for organizing the return to the LOFT Saturdays from 10 am to 2 pm. \nThe morning starts with a simple exercise or prompt that informs the day. \n$25 non-members | $20 OHCA members.  \nMaterials provided or bring your own. \n  \nAttendees must be fully vaccinated and Masks required indoors \nWorkshop will be held in the LOFT \nBeginners Expected! \n			\n				\n				\n				\n				\n				LOVING THE SATURDAY WORKSHOP\nThe long-running Visual Perception Workshop is at the heart of O’Hanlon Center. Recently we asked workshop participants for their thoughts. \nI love doing art with friends…and then sharing it! \nI love that it is a drop-in class andI don’t have to sign up ahead of time. \nI like that I don’t have to know how to do art…It’s about our own creativity. \nIt is so much fun. \nI love the creative atmosphere. It breeds excitement and enjoyment of the process. \nI like the mix of people and their art. \nIt is free and fun. \nI like that I can get into the flow of art and forget the stressful world. \nI look forward to stepping into another time and place. It is a magical experience to visit this special piece of land at the foot of Mt Tam. \nBeing with people who care about art and artists is something I find worthwhile. I feel lucky to have discovered this class. It informs me well beyond 4 hours on Saturday. \nThis Saturday workshop serves as a tool to open up all of my senses and I  come alive. \nThe setting is gorgeous and serene. \nI love Saturday class. I wouldn’t think of missing it. I come every Saturday\, and have for years and years. \n			\n			\n				\n				\n				\n				\n				\n				\n				\n				\n				\n				\n			\n			\n				\n				\n				\n				\n			\n				\n				\n				\n				\n				\n				\n				\n				\n				\n				\n				\n				\n				\n					\n	\n			\n\n\n				\n			\n			\n				\n				\n				\n				\n				\n				\n				\n				\n				\n				\n				\n					Saturday Perception\n				\n				\n			\n				\n				\n				\n				\n				\n				\n				\n					$20.00 – $25.00Price range: $20.00 through $25.00 \n\n				\n			\n				\n				\n				\n				\n				\n				\n				\n					\n\n	\n			\n			\n									\n						Member/Non-Member\n						\n							Choose an optionNon-memberOHCA MemberClear						\n					\n							\n		\n		\n		\n		\n			\n	\n	\n		Saturday Perception Workshop quantity\n	\n	\n\n	Add to cart
URL:https://www.ohanloncenter.org/event/saturday-perception-workshop-2024/2024-09-07/
LOCATION:O’Hanlon Center for the Arts
CATEGORIES:Visual Arts
ORGANIZER;CN="OHCA Staff":MAILTO:office@ohanloncenter.org
END:VEVENT
END:VCALENDAR