BEGIN:VCALENDAR
VERSION:2.0
PRODID:-//O&#039;Hanlon Center for the Arts - ECPv6.15.17.1//NONSGML v1.0//EN
CALSCALE:GREGORIAN
METHOD:PUBLISH
X-WR-CALNAME:O&#039;Hanlon Center for the Arts
X-ORIGINAL-URL:https://www.ohanloncenter.org
X-WR-CALDESC:Events for O&#039;Hanlon Center for the Arts
REFRESH-INTERVAL;VALUE=DURATION:PT1H
X-Robots-Tag:noindex
X-PUBLISHED-TTL:PT1H
BEGIN:VTIMEZONE
TZID:America/Los_Angeles
BEGIN:DAYLIGHT
TZOFFSETFROM:-0800
TZOFFSETTO:-0700
TZNAME:PDT
DTSTART:20220313T100000
END:DAYLIGHT
BEGIN:STANDARD
TZOFFSETFROM:-0700
TZOFFSETTO:-0800
TZNAME:PST
DTSTART:20221106T090000
END:STANDARD
BEGIN:DAYLIGHT
TZOFFSETFROM:-0800
TZOFFSETTO:-0700
TZNAME:PDT
DTSTART:20230312T100000
END:DAYLIGHT
BEGIN:STANDARD
TZOFFSETFROM:-0700
TZOFFSETTO:-0800
TZNAME:PST
DTSTART:20231105T090000
END:STANDARD
BEGIN:DAYLIGHT
TZOFFSETFROM:-0800
TZOFFSETTO:-0700
TZNAME:PDT
DTSTART:20240310T100000
END:DAYLIGHT
BEGIN:STANDARD
TZOFFSETFROM:-0700
TZOFFSETTO:-0800
TZNAME:PST
DTSTART:20241103T090000
END:STANDARD
END:VTIMEZONE
BEGIN:VEVENT
DTSTART;TZID=America/Los_Angeles:20231022T130000
DTEND;TZID=America/Los_Angeles:20231022T153000
DTSTAMP:20260419T154846
CREATED:20230905T142011Z
LAST-MODIFIED:20230905T142253Z
UID:20001687-1697979600-1697988600@www.ohanloncenter.org
SUMMARY:Sunday Family Art Day w/ CATHERINE TAYLOR TAI or JACKIE LA LANNE
DESCRIPTION:A monthly child-led art workshop with seasonal and nature themes layered into the activity \nThe O’Hanlon Loft is a space for children (and grownups) to come get messy\, try new things and have fun. We will experiment with paint\, crayons\, glue\, glitter and found objects depending on the season and age of participants.  \nWorkshop will take place in the O’Hanlon Loft Studio.\n \n$35 per family Plus $5 materials to be paid to facilitator day of event \n\nFALL 2023 DATES: \nOctober 22\nNovember 12\nDecember 10\n  \n\nINTRO TO CATHERINE \nCatherine Taylor Tai is an artist\, mother and health coach. She has enjoyed raising her three children around the world from NYC to Singapore and now Northern California.  \nShe is an advocate of forest school and the arts and loves when the two meet. Catherine also serves on the OHCA Board. \n \n  \n  \n  \n  \n  \n  \n  \n\n  \n			\n				\n\n	\n	\n			\n\n\n	\n		Sunday Family Art Day$60.00 \n\n	\n	\n		\n		\n		Sunday Family Art Day quantity\n	\n	\n\n		Add to cart\n\n			\n\n	\n\n\n	\n	\n		SKU: sunday-family-art\n\n	\n	Category: Youth and Family\n	\n	\n\n	\n\n	\n	\n		\n							\n					\n						Description					\n				\n					\n					\n				\n	Description\n\nA monthly child-led art workshop with seasonal and nature themes layered into the activity.
URL:https://www.ohanloncenter.org/event/sunday-family-art-day-w-catherine-taylor-tai-or-jackie-la-lanne-3/
LOCATION:O’Hanlon Center for the Arts
CATEGORIES:Youth & Family
ORGANIZER;CN="OHCA Staff":MAILTO:office@ohanloncenter.org
END:VEVENT
BEGIN:VEVENT
DTSTART;TZID=America/Los_Angeles:20231023T090000
DTEND;TZID=America/Los_Angeles:20231023T170000
DTSTAMP:20260419T154846
CREATED:20230331T175301Z
LAST-MODIFIED:20230613T175251Z
UID:20001004-1698051600-1698080400@www.ohanloncenter.org
SUMMARY:Artist Member Loft Studio Use
DESCRIPTION:Loft Studios open for Members (Artist level & up)\nEvery Monday 9:00 am – 5:00pm \n$20 drop-in (no reservations needed) \nFREE on 1st Monday of the Month.
URL:https://www.ohanloncenter.org/event/artist-member-loft-studio-use-2/2023-10-23/
LOCATION:O’Hanlon Center for the Arts
CATEGORIES:Member Events,Visual Arts
ORGANIZER;CN="OHCA Staff":MAILTO:office@ohanloncenter.org
END:VEVENT
BEGIN:VEVENT
DTSTART;TZID=America/Los_Angeles:20231023T090000
DTEND;TZID=America/Los_Angeles:20231027T170000
DTSTAMP:20260419T154846
CREATED:20230712T233614Z
LAST-MODIFIED:20230713T230921Z
UID:20001542-1698051600-1698426000@www.ohanloncenter.org
SUMMARY:Artists’ Retreat – FALL 2023
DESCRIPTION:OHCA retreats offer a rare\, deepening experience. In the expanse of time\, the quiet and the connection to friends working nearby\, my confidence and powers of insight are strengthened.”\n– Candis Cousins \nMonday to Friday\,\nOctober 23-27\, 2023\n9 a.m. to 5 p.m. \nOHCA is once again offering a week-long ARTIST RETREAT. This is a 5-day opportunity for artists to work independently but in the company of other dedicated artists.  This is not a workshop\, and there will be no instruction. What there will be is an opportunity for serious self-directed artists to work in a quiet atmosphere for a sustained period of time\, working together but independently in the spirit of creativity. \nThe Retreat is open to anyone who agrees to some simple rules.  There is to be no talking except for quietly outside during the hours of 9 – 5 and no music is allowed except with earphones.   No visitors. Participants will be responsible for their own lunch and art supplies unless otherwise designated. Artists may leave their supplies and work set up during the week and will be required to clean up afterwards. \nSpace is limited to 5 visual artists and 1 writer.  Space allocations will be determined by the group. \nFriday afternoon everyone gets together to socialize and share their work/process. \n  \nWeek-long retreat: $180; $150 OHCA members. \n  \n  \n  \nPhotos: Janet Greenwood
URL:https://www.ohanloncenter.org/event/artists-retreat-fall-2023/
LOCATION:O’Hanlon Center for the Arts
CATEGORIES:Visual Arts
ORGANIZER;CN="OHCA Staff":MAILTO:office@ohanloncenter.org
END:VEVENT
BEGIN:VEVENT
DTSTART;TZID=America/Los_Angeles:20231023T160000
DTEND;TZID=America/Los_Angeles:20231023T173000
DTSTAMP:20260419T154846
CREATED:20231022T143409Z
LAST-MODIFIED:20231027T205655Z
UID:20001736-1698076800-1698082200@www.ohanloncenter.org
SUMMARY:Drawing for Teens with Laurel Shear (2023 series 5)
DESCRIPTION:Light\, tone\, line\, pattern\, mass\, perspective\, abstraction and composition\nMondays: 4 to 5:30 p.m. \n6-WEEK SERIES #5 2023:\nOctober 23\, 30\,\nNovember 6\, 13\, 20\, 27\n \nIn this 6-week series we will use a range of drawing materials. Each class will start with a warmup\, and then focus on translating three dimensional objects to a two-dimensional surface\, focusing on light\, tone\, line\, pattern\, mass\, perspective\, abstraction and composition \nMaximum 8 students \nA materials list will be emailed after registration \n$240 or $192 for OHCA members\n(register by 12 noon\, Oct 23) \n  \n\n \nABOUT LAUREL \nLaurel Shear lives and works in the California Bay Area. She opened her first New York solo show\, Daydreaming In My Nightmare\, at Fort Gansevoort in March 2018. Recent exhibitions include Right Here Right Now\, Richmond Art Center and NIAD (Richmond\, CA) My Silences Had Not Protected Me\, For Freedoms\, Fort Gansevoort\, (New York)\, Where Dreams Come True\, TSA LA (Los Angeles)\, Push\, Incline Gallery (San Francisco). She is a former member of the artist run gallery Tiger Strikes Asteroid in Los Angeles. Press for her work includes Artnet\, New York Magazine\, Brooklyn Magazine\, and Luxe Magazine\, among others. She facilitates drawing and painting workshops at O’Hanlon Center for the Arts and serves on the Board. Shear was a competitive cheerleader\, she’s an energy medicine practitioner\, and a proud mama.  \nwww.laurelshear.com
URL:https://www.ohanloncenter.org/event/drawing-for-teens-w-laurel-shear-2023-series-5/
LOCATION:O’Hanlon Center for the Arts
CATEGORIES:Visual Arts,Youth & Family
ORGANIZER;CN="OHCA Staff":MAILTO:office@ohanloncenter.org
END:VEVENT
BEGIN:VEVENT
DTSTART;TZID=America/Los_Angeles:20231024T100000
DTEND;TZID=America/Los_Angeles:20231024T140000
DTSTAMP:20260419T154846
CREATED:20231006T213213Z
LAST-MODIFIED:20231118T153425Z
UID:20001258-1698141600-1698156000@www.ohanloncenter.org
SUMMARY:Tuesday Perception Workshop
DESCRIPTION:Explore\, experiment\, and discover your unique form of creative expression. \nThe Visual Perception workshops are hands-on creating with materials\, experimenting\, and discovering without dependence on technique. Participants are encouraged to pay attention to what you see\, accept the marks you make\, explore\, experiment\, and discover your unique form of creative expression. \nA simple prompt or exercise is given at the beginning of class. Participants are free to elaborate on their initial efforts or do something else entirely. \nWe end the workshops with a gathering (coming together) of everyone and their work. Participants look\, discuss\, and value the work created. \nMost materials are provided and/or bring your own. \n$25 non-members  $20 OHCA members \nMasking may be required. Bring a mask in case. \nphotos: Janet Greenwood \n  \n  \n  \n  \n\n			\n				\n\n	\n	\n			\n\n\n	\n		Tuesday Perception Workshop \n\n\n	\n			\n			\n									\n						Member/Non-Member\n						\n							Choose an optionNon-memberOHCA MemberClear						\n					\n							\n		\n		\n		\n		\n			\n	\n	\n		Tuesday Perception Workshop quantity\n	\n	\n\n	Add to cart\n\n	\n	\n	\n	\n\n		\n	\n	\n\n\n\n	\n	\n		SKU: tues-perception\n\n	\n	Categories: Perception Workshops\, Visual Art\n	\n	\n\n	\n\n	\n	\n		\n							\n					\n						Additional information					\n				\n					\n					\n				\n	Additional information\n\n\n			\n			Member/Non-Member\n			Non-member\, OHCA Member \n\n		\n	\n			\n		\n			\n\n\n	\n\n					Related products\n				\n\n			\n					\n	Tuesday Perception Workshop 2026\n	$25.00 – $30.00Price range: $25.00 through $30.00\n\n\n			\n					\n	Saturday Perception Workshop\n	$20.00 – $25.00Price range: $20.00 through $25.00\n\n\n			\n					\n	Saturday Perception Workshop | 2026\n	$25.00 – $30.00Price range: $25.00 through $30.00\n\n\n			\n		\n\n	\n	\n\n			\n			\n 
URL:https://www.ohanloncenter.org/event/tuesday-perception-workshop-2023-2-2-2-2/2023-10-24/
LOCATION:O’Hanlon Center for the Arts
CATEGORIES:Visual Arts
ORGANIZER;CN="OHCA Staff":MAILTO:office@ohanloncenter.org
END:VEVENT
BEGIN:VEVENT
DTSTART;TZID=America/Los_Angeles:20231025T133000
DTEND;TZID=America/Los_Angeles:20231025T153000
DTSTAMP:20260419T154846
CREATED:20230525T224632Z
LAST-MODIFIED:20230526T173726Z
UID:20001462-1698240600-1698247800@www.ohanloncenter.org
SUMMARY:Writing from the Heart w/ Dr. PELLER MARION (on Zoom)
DESCRIPTION:An adventurous mix of writing\nand some art too \nThis FREE drop-in and on-going Zoom group requires no experience. All you need to bring is a notebook and a pen. Peller will bring the instruction\, inspiration\, safe space\, writing and art prompts. \n\nFind your writing voice.\nDive into your creativity.\nDeepen your writing practice.  \nShare your stories\, memories\, and inspirations.\nGet steady positive affirmation for your work in a  community of passionate writers.\n\n  \nFirst and and fourth Wednesdays each month\n1:30 p.m. to 3:30 p.m. \nContact facilitator Peller Marion via email to get the zoom link\npellermarion@gmail.com\nDonations accepted to O’Hanlon Center for the Arts\n616 Throckmorton Avenue • Mill Valley • CA • 94941 \n  \n\n  \nFacilitated by Dr. Peller Marion\, author of five books and exhibiting artist and psychologist.\nFor more workshops led by Peller: go to O’Hanlon Center for the Arts (www.ohanloncenter.org) or www.pellermarion.com\nemail facilitator with questions:pellermarion@gmail.com
URL:https://www.ohanloncenter.org/event/writing-from-the-heart-w-dr-peller-marion-on-zoom/2023-10-25/
LOCATION:O’Hanlon Center for the Arts
CATEGORIES:Literary Arts,Virtual
ORGANIZER;CN="OHCA Staff":MAILTO:office@ohanloncenter.org
END:VEVENT
BEGIN:VEVENT
DTSTART;TZID=America/Los_Angeles:20231026T100000
DTEND;TZID=America/Los_Angeles:20231026T120000
DTSTAMP:20260419T154846
CREATED:20230811T140402Z
LAST-MODIFIED:20230811T140618Z
UID:20001664-1698314400-1698321600@www.ohanloncenter.org
SUMMARY:Creative Writing w/ ABBY WASSERMAN
DESCRIPTION:  \nThis weekly group features freewriting (to loosen the Muse) with sustained and supportive group critiques of works in progress. \nThe facilitator is a journalist\, author\, and editor who has been leading OHCA writing groups for 15 years. \nThis ongoing Thursday workshop will be held in person in the upper Loft.\nContact Abby to be included:\nabby.wasserman@gmail.com \n$156\,  $125 OH member for 6 sessions \nSingle session drop-in: $27 \nVisit Abby Wasserman’s Website » \n\n			\n				\n\n	\n	\n			\n\n\n	\n		Creative Writing w/ Abby Wasserman$27.00 – $156.00Price range: $27.00 through $156.00 \n\n\n	\n			\n			\n									\n						Member/Non-Member\n						\n							Choose an optionNon-memberOHCA Member						\n					\n									\n						# of Sessions\n						\n							Choose an option6 sessionsSingle session drop-inClear						\n					\n							\n		\n		\n		\n		\n			\n	\n	\n		Creative Writing w/ Abby Wasserman quantity\n	\n	\n\n	Add to cart\n\n	\n	\n	\n	\n\n		\n	\n	\n\n\n\n	\n	\n		SKU: creative-writing-abby\n\n	\n	Category: Literary\n	\n	\n\n	\n\n	\n	\n		\n							\n					\n						Additional information					\n				\n					\n					\n				\n	Additional information\n\n\n			\n			Member/Non-Member\n			Non-member\, OHCA Member \n\n		\n			\n			# of Sessions\n			6 sessions\, Single session drop-in \n\n		\n	\n			\n		\n			\n\n\n	\n\n					Related products\n				\n\n			\n					\n	Creative Writing w/ Abby Wasserman 2026\n	$30.00 – $160.00Price range: $30.00 through $160.00\n\n\n			\n		\n\n	\n	\n\n			\n			\n 
URL:https://www.ohanloncenter.org/event/creative-writing-abby-wasserman-fall-2023/2023-10-26/
LOCATION:O’Hanlon Center for the Arts
CATEGORIES:Literary Arts
ORGANIZER;CN="OHCA Staff":MAILTO:office@ohanloncenter.org
END:VEVENT
BEGIN:VEVENT
DTSTART;TZID=America/Los_Angeles:20231026T140000
DTEND;TZID=America/Los_Angeles:20231026T153000
DTSTAMP:20260419T154846
CREATED:20230526T203634Z
LAST-MODIFIED:20230912T171530Z
UID:20001697-1698328800-1698334200@www.ohanloncenter.org
SUMMARY:O’Hanlon Poetry Collective on Zoom
DESCRIPTION:For O’Hanlon Member poets and poetry lovers. \nHosted by Suz Lipman and Noni Garner. \nA bi-monthly online gathering with OHCA resident poet Cruwys Brown and 2010-2012 Poet Laureate of Marin County\, CB Follett and others to explore\, read and discuss poetry. \nThis group is currently at maximum capacity of 12 active participants. If you’d like to get on the wait list please email office@ohanloncenter.org. \nOHCA Members only\n12 people max. $10 per session. \n  \nPayment for Current Poetry group members\n 
URL:https://www.ohanloncenter.org/event/ohanlon-poetry-collective-on-zoom/2023-10-26/
CATEGORIES:Literary Arts,Virtual
ORGANIZER;CN="OHCA Staff":MAILTO:office@ohanloncenter.org
END:VEVENT
BEGIN:VEVENT
DTSTART;TZID=America/Los_Angeles:20231026T151500
DTEND;TZID=America/Los_Angeles:20231026T161500
DTSTAMP:20260419T154846
CREATED:20230714T140722Z
LAST-MODIFIED:20231002T215415Z
UID:20001706-1698333300-1698336900@www.ohanloncenter.org
SUMMARY:Art of World Cultures for Kids Ages 8 to 10: with Zoe Harris – Fall 2023
DESCRIPTION:In these fun and unique classes\, children will learn about different creative traditions from cultures around the world.  \nNEW Fall 2023 Series\nstarts September 7\, 2023\nNO CLASS November 23 \nFor children ages 8-10\n(note updated time: 3:15 – 4:15pm) \nSessions will incorporate recycled materials\, found and natural objects\, paint\, special papers\, ink\, and more! \nA $20 materials fee paid directly to the instructor will be required 1x during the school year per participant. \nRSVP the Friday prior to each session.  \nNEW: For the safety of all\, children must be fully vaccinated against COVID to participate. \n\n\n\n1 session\n6 sessions\n12 sessions\n\n\n$23\, $19 OHCA Family* members\n$120\, $96 Family members\n$200\, $160 Family members\n\n\n\n  \n*Family membership is $160/year for a couple and two children and includes lots of benefits like discounts on workshops – call 415-388-4331 today to join or enroll online! \n\nZoe Harris has been teaching art and culture in Marin and the Bay Area for over thirty years.  She has worked in both public and private elementary and middle schools.  In addition\, she has also taught in museums\, libraries and community centers. Some of the Marin institutions she has worked in include Bay Area Discovery Museum\,  Global Education of Marin\, Marin County Office of Education; Willowcreek\, Gallinas\, Coleman\, Olive\, Lagunitas\, Bacich\, and Bahia Vista Schools\, Ross Valley Summer School\, Canal Ministry and Pickleweed Community Center Kids Club. \n  \n  \n\nPlease enter CHILD FULL NAME & AGE when you Checkout\, in the “Additional Information” section.
URL:https://www.ohanloncenter.org/event/art-of-world-cultures-for-kids-with-zoe-harris-fall-2023/2023-10-26/
LOCATION:O’Hanlon Center for the Arts
CATEGORIES:Visual Arts,Youth & Family
ORGANIZER;CN="OHCA Staff":MAILTO:office@ohanloncenter.org
END:VEVENT
BEGIN:VEVENT
DTSTART;TZID=America/Los_Angeles:20231027T090000
DTEND;TZID=America/Los_Angeles:20231027T103000
DTSTAMP:20260419T154846
CREATED:20230329T171225Z
LAST-MODIFIED:20230329T181128Z
UID:20000945-1698397200-1698402600@www.ohanloncenter.org
SUMMARY:Vimala Sangha
DESCRIPTION:For information about the group please contact Celeste Perry: celesteperrytv@gmail.com\n \nBy Donation
URL:https://www.ohanloncenter.org/event/vimala-sangha/2023-10-27/
LOCATION:O’Hanlon Center for the Arts
CATEGORIES:Meditative Arts
ORGANIZER;CN="OHCA Staff":MAILTO:office@ohanloncenter.org
END:VEVENT
BEGIN:VEVENT
DTSTART;TZID=America/Los_Angeles:20231028T100000
DTEND;TZID=America/Los_Angeles:20231028T140000
DTSTAMP:20260419T154846
CREATED:20230405T000016Z
LAST-MODIFIED:20231219T010746Z
UID:20001721-1698487200-1698501600@www.ohanloncenter.org
SUMMARY:Saturday Perception Workshop
DESCRIPTION:One of the core principles Ann O’Hanlon stressed was learning how to seeFor over 35 years – Saturdays have been a time to put that into practice. To experiment and discover.\n				\n			\n			\n				\n				\n				\n				\n			\n				\n				\n				\n				\n				\n				\n				\n				\n				\n				\n				Thank you to Ann Fricker and Noni Garner for organizing the return to the LOFT Saturdays from 10 am to 2 pm. \nThe morning starts with a simple exercise or prompt that informs the day. \n$25 for non-members and $20 for members.  \nMaterials provided or bring your own. \n  \nAttendees must be fully vaccinated and Masks required indoors \nWorkshop will be held in the LOFT \nBeginners Expected! \n			\n			\n				\n				\n				\n				\n				\n				\n				\n				\n				\n				\n				\n				\n					\n	\n			\n\n\n				\n			\n				\n				\n				\n				\n				\n				\n					Saturday Perception\n				\n				\n			\n				\n				\n				\n				\n				\n				\n				\n					$20.00 – $25.00Price range: $20.00 through $25.00 \n\n				\n			\n				\n				\n				\n				\n				\n				\n				\n					\n\n	\n			\n			\n									\n						Member/Non-Member\n						\n							Choose an optionNon-memberOHCA MemberClear						\n					\n							\n		\n		\n		\n		\n			\n	\n	\n		Saturday Perception Workshop quantity\n	\n	\n\n	Add to cart\n\n	\n	\n	\n	\n\n		\n	\n	\n\n\n				\n			\n			\n				\n				\n				\n				\n			\n				\n				\n				\n				\n				\n				\n				\n				\n				\n				\n				\n			\n			\n				\n				\n				\n				\n				\n				\n				\n				\n				\n				LOVING THE SATURDAY WORKSHOP\nThe long-running Visual Perception Workshop is at the heart of O’Hanlon Center. Recently we asked workshop participants for their thoughts. \nI love doing art with friends…and then sharing it! \nI love that it is a drop-in class andI don’t have to sign up ahead of time. \nI like that I don’t have to know how to do art…It’s about our own creativity. \nIt is so much fun. \nI love the creative atmosphere. It breeds excitement and enjoyment of the process. \nI like the mix of people and their art. \nIt is free and fun. \nI like that I can get into the flow of art and forget the stressful world. \nI look forward to stepping into another time and place. It is a magical experience to visit this special piece of land at the foot of Mt Tam. \nBeing with people who care about art and artists is something I find worthwhile. I feel lucky to have discovered this class. It informs me well beyond 4 hours on Saturday. \nThis Saturday workshop serves as a tool to open up all of my senses and I  come alive. \nThe setting is gorgeous and serene. \nI love Saturday class. I wouldn’t think of missing it. I come every Saturday\, and have for years and years.
URL:https://www.ohanloncenter.org/event/saturday-perception-workshop-2023/2023-10-28/
LOCATION:O’Hanlon Center for the Arts
CATEGORIES:Visual Arts
ORGANIZER;CN="OHCA Staff":MAILTO:office@ohanloncenter.org
END:VEVENT
END:VCALENDAR