BEGIN:VCALENDAR
VERSION:2.0
PRODID:-//O&#039;Hanlon Center for the Arts - ECPv6.15.17.1//NONSGML v1.0//EN
CALSCALE:GREGORIAN
METHOD:PUBLISH
X-ORIGINAL-URL:https://www.ohanloncenter.org
X-WR-CALDESC:Events for O&#039;Hanlon Center for the Arts
REFRESH-INTERVAL;VALUE=DURATION:PT1H
X-Robots-Tag:noindex
X-PUBLISHED-TTL:PT1H
BEGIN:VTIMEZONE
TZID:America/Los_Angeles
BEGIN:DAYLIGHT
TZOFFSETFROM:-0800
TZOFFSETTO:-0700
TZNAME:PDT
DTSTART:20220313T100000
END:DAYLIGHT
BEGIN:STANDARD
TZOFFSETFROM:-0700
TZOFFSETTO:-0800
TZNAME:PST
DTSTART:20221106T090000
END:STANDARD
BEGIN:DAYLIGHT
TZOFFSETFROM:-0800
TZOFFSETTO:-0700
TZNAME:PDT
DTSTART:20230312T100000
END:DAYLIGHT
BEGIN:STANDARD
TZOFFSETFROM:-0700
TZOFFSETTO:-0800
TZNAME:PST
DTSTART:20231105T090000
END:STANDARD
BEGIN:DAYLIGHT
TZOFFSETFROM:-0800
TZOFFSETTO:-0700
TZNAME:PDT
DTSTART:20240310T100000
END:DAYLIGHT
BEGIN:STANDARD
TZOFFSETFROM:-0700
TZOFFSETTO:-0800
TZNAME:PST
DTSTART:20241103T090000
END:STANDARD
END:VTIMEZONE
BEGIN:VEVENT
DTSTART;TZID=America/Los_Angeles:20230813T130000
DTEND;TZID=America/Los_Angeles:20230813T150000
DTSTAMP:20260419T210913
CREATED:20230712T232321Z
LAST-MODIFIED:20230713T184930Z
UID:20001541-1691931600-1691938800@www.ohanloncenter.org
SUMMARY:The Way of Wabi Sabi and the charm of Paper w/NAOMI KUBOTA LEE
DESCRIPTION:Lose yourself in the philosophy of seeing the Perfection in the Imperfection. \n\nSunday\, August 13\, 2023\n1:00 pm to 3:00 pm \n$40\, $32 OHCA Members\nMaterials fee: $2 (paid to Facilitator) \nMaximum 12 people\nmust register by Aug 13 noon \n  \nWelcome to the world of the Japanese aesthetic of wabi sabi.  We will create insightful pieces of wabi sabi art using natural materials\, as we lose ourselves in the philosophy of seeing the Perfection in the Imperfection. \nThis session\, we will be focusing on Paper. We will create light playful meaningful paper forms\, including how to fold tsuru – paper cranes – a global symbol for peace\, hope and remembrance. \nIf you wish\, bring some item or a saying that is personal\, to integrate into your artwork. Sip some tea\, take a breath\, and engage in your creative spirit. \nFacilitator: Naomi Kubota Lee\nwww.NaomiLeeGallery.com \n  \n“A beautiful class.” \n“I learned so much from you.  And you created such a feeling of calmness…a feeling that was also descriptive of the concept.” \n“Thank you for one lovely day. I hope to do it again.”
URL:https://www.ohanloncenter.org/event/the-way-of-wabi-sabi-paper-w-naomi-kubota-lee/
LOCATION:O’Hanlon Center for the Arts
CATEGORIES:Visual Arts,Wabi-Sabi
ORGANIZER;CN="OHCA Staff":MAILTO:office@ohanloncenter.org
END:VEVENT
BEGIN:VEVENT
DTSTART;TZID=America/Los_Angeles:20230814T090000
DTEND;TZID=America/Los_Angeles:20230814T170000
DTSTAMP:20260419T210913
CREATED:20230331T175301Z
LAST-MODIFIED:20230613T175251Z
UID:20000994-1692003600-1692032400@www.ohanloncenter.org
SUMMARY:Artist Member Loft Studio Use
DESCRIPTION:Loft Studios open for Members (Artist level & up)\nEvery Monday 9:00 am – 5:00pm \n$20 drop-in (no reservations needed) \nFREE on 1st Monday of the Month.
URL:https://www.ohanloncenter.org/event/artist-member-loft-studio-use-2/2023-08-14/
LOCATION:O’Hanlon Center for the Arts
CATEGORIES:Member Events,Visual Arts
ORGANIZER;CN="OHCA Staff":MAILTO:office@ohanloncenter.org
END:VEVENT
BEGIN:VEVENT
DTSTART;TZID=America/Los_Angeles:20230815T100000
DTEND;TZID=America/Los_Angeles:20230815T140000
DTSTAMP:20260419T210913
CREATED:20230630T201400Z
LAST-MODIFIED:20230804T193413Z
UID:20001248-1692093600-1692108000@www.ohanloncenter.org
SUMMARY:Tuesday Perception Workshop
DESCRIPTION:Explore\, experiment\, and discover your unique form of creative expression. \nThe Visual Perception workshops are hands-on creating with materials\, experimenting\, and discovering without dependence on technique. Participants are encouraged to pay attention to what you see\, accept the marks you make\, explore\, experiment\, and discover your unique form of creative expression. \nA simple prompt or exercise is given at the beginning of class. Participants are free to elaborate on their initial efforts or do something else entirely. \nWe end the workshops with a gathering (coming together) of everyone and their work. Participants look\, discuss\, and value the work created. \nMost materials are provided and/or bring your own. \n$25 non-members\n$20 OHCA members \nMasking may be required. Bring a mask in case. \n\n  \n			\n				\n\n	\n	\n			\n\n\n	\n		Tuesday Perception Workshop \n\n\n	\n			\n			\n									\n						Member/Non-Member\n						\n							Choose an optionNon-memberOHCA MemberClear						\n					\n							\n		\n		\n		\n		\n			\n	\n	\n		Tuesday Perception Workshop quantity\n	\n	\n\n	Add to cart\n\n	\n	\n	\n	\n\n		\n	\n	\n\n\n\n	\n	\n		SKU: tues-perception\n\n	\n	Categories: Perception Workshops\, Visual Art\n	\n	\n\n	\n\n	\n	\n		\n							\n					\n						Additional information					\n				\n					\n					\n				\n	Additional information\n\n\n			\n			Member/Non-Member\n			Non-member\, OHCA Member \n\n		\n	\n			\n		\n			\n\n\n	\n\n					Related products\n				\n\n			\n					\n	Surprise Yourself – Creation and Perception\n	$20.00\n\n\n			\n					\n	Tuesday Perception Workshop 2026\n	$25.00 – $30.00Price range: $25.00 through $30.00\n\n\n			\n					\n	Saturday Perception Workshop | 2026\n	$25.00 – $30.00Price range: $25.00 through $30.00
URL:https://www.ohanloncenter.org/event/tuesday-perception-workshop-2023-2-2/2023-08-15/
LOCATION:O’Hanlon Center for the Arts
CATEGORIES:Visual Arts
ORGANIZER;CN="OHCA Staff":MAILTO:office@ohanloncenter.org
END:VEVENT
BEGIN:VEVENT
DTSTART;TZID=America/Los_Angeles:20230816T130000
DTEND;TZID=America/Los_Angeles:20230816T160000
DTSTAMP:20260419T210913
CREATED:20230708T185257Z
LAST-MODIFIED:20230712T164247Z
UID:20001517-1692190800-1692201600@www.ohanloncenter.org
SUMMARY:Sketchbook Exploration with Jackie La Lanne
DESCRIPTION:Explore new possibilities in your sketchbook!\nWednesdays\, August 16 and 23 (2 days)\n1:00 to 4:00 pm \nExplore possibilities in your sketchbook: mixed media\, textiles\, found objects\, printmaking\, paint\, ink\, collage \n\nTry different materials in different ways\nExperiment with image transfer processes\nMake a journal using a variety of papers\n\n  \nPlease register by Tuesday August 15.\nMaximum 10 people\nCost: $64.00 for members\, $80.00 for non-members \n\nJackie La Lanne has kept sketchbook/journals since she could write. Since the Pandemic she started working into them with a wide array of crazy materials and would love to share with others in that experience. She has made her own journals in a variety of ways and finds the process unique and creative. \nBring a collection of different papers\, a sketchbook/journal you would like to work into\, and any personal supplies you would prefer to use. I will have materials for everyone as welcome.
URL:https://www.ohanloncenter.org/event/sketchbook-exploration-with-jackie-la-lanne/
LOCATION:O’Hanlon Center for the Arts
CATEGORIES:Visual Arts
ORGANIZER;CN="OHCA Staff":MAILTO:office@ohanloncenter.org
END:VEVENT
BEGIN:VEVENT
DTSTART;TZID=America/Los_Angeles:20230817T140000
DTEND;TZID=America/Los_Angeles:20230817T153000
DTSTAMP:20260419T210913
CREATED:20230526T203634Z
LAST-MODIFIED:20230912T171530Z
UID:20001497-1692280800-1692286200@www.ohanloncenter.org
SUMMARY:O’Hanlon Poetry Collective on Zoom
DESCRIPTION:For O’Hanlon Member poets and poetry lovers. \nHosted by Suz Lipman and Noni Garner. \nA bi-monthly online gathering with OHCA resident poet Cruwys Brown and 2010-2012 Poet Laureate of Marin County\, CB Follett and others to explore\, read and discuss poetry. \nThis group is currently at maximum capacity of 12 active participants. If you’d like to get on the wait list please email office@ohanloncenter.org. \nOHCA Members only\n12 people max. $10 per session. \n  \nPayment for Current Poetry group members\n 
URL:https://www.ohanloncenter.org/event/ohanlon-poetry-collective-on-zoom/2023-08-17/
CATEGORIES:Literary Arts,Virtual
ORGANIZER;CN="OHCA Staff":MAILTO:office@ohanloncenter.org
END:VEVENT
BEGIN:VEVENT
DTSTART;TZID=America/Los_Angeles:20230819T100000
DTEND;TZID=America/Los_Angeles:20230819T140000
DTSTAMP:20260419T210913
CREATED:20230405T000016Z
LAST-MODIFIED:20231219T010746Z
UID:20001371-1692439200-1692453600@www.ohanloncenter.org
SUMMARY:Saturday Perception Workshop
DESCRIPTION:One of the core principles Ann O’Hanlon stressed was learning how to seeFor over 35 years – Saturdays have been a time to put that into practice. To experiment and discover.\n				\n			\n			\n				\n				\n				\n				\n			\n				\n				\n				\n				\n				\n				\n				\n				\n				\n				\n				Thank you to Ann Fricker and Noni Garner for organizing the return to the LOFT Saturdays from 10 am to 2 pm. \nThe morning starts with a simple exercise or prompt that informs the day. \n$25 for non-members and $20 for members.  \nMaterials provided or bring your own. \n  \nAttendees must be fully vaccinated and Masks required indoors \nWorkshop will be held in the LOFT \nBeginners Expected! \n			\n			\n				\n				\n				\n				\n				\n				\n				\n				\n				\n				\n				\n				\n					\n	\n			\n\n\n				\n			\n				\n				\n				\n				\n				\n				\n					Saturday Perception\n				\n				\n			\n				\n				\n				\n				\n				\n				\n				\n					$20.00 – $25.00Price range: $20.00 through $25.00 \n\n				\n			\n				\n				\n				\n				\n				\n				\n				\n					\n\n	\n			\n			\n									\n						Member/Non-Member\n						\n							Choose an optionNon-memberOHCA MemberClear						\n					\n							\n		\n		\n		\n		\n			\n	\n	\n		Saturday Perception Workshop quantity\n	\n	\n\n	Add to cart\n\n	\n	\n	\n	\n\n		\n	\n	\n\n\n				\n			\n			\n				\n				\n				\n				\n			\n				\n				\n				\n				\n				\n				\n				\n				\n				\n				\n				\n			\n			\n				\n				\n				\n				\n				\n				\n				\n				\n				\n				LOVING THE SATURDAY WORKSHOP\nThe long-running Visual Perception Workshop is at the heart of O’Hanlon Center. Recently we asked workshop participants for their thoughts. \nI love doing art with friends…and then sharing it! \nI love that it is a drop-in class andI don’t have to sign up ahead of time. \nI like that I don’t have to know how to do art…It’s about our own creativity. \nIt is so much fun. \nI love the creative atmosphere. It breeds excitement and enjoyment of the process. \nI like the mix of people and their art. \nIt is free and fun. \nI like that I can get into the flow of art and forget the stressful world. \nI look forward to stepping into another time and place. It is a magical experience to visit this special piece of land at the foot of Mt Tam. \nBeing with people who care about art and artists is something I find worthwhile. I feel lucky to have discovered this class. It informs me well beyond 4 hours on Saturday. \nThis Saturday workshop serves as a tool to open up all of my senses and I  come alive. \nThe setting is gorgeous and serene. \nI love Saturday class. I wouldn’t think of missing it. I come every Saturday\, and have for years and years.
URL:https://www.ohanloncenter.org/event/saturday-perception-workshop-2023/2023-08-19/
LOCATION:O’Hanlon Center for the Arts
CATEGORIES:Visual Arts
ORGANIZER;CN="OHCA Staff":MAILTO:office@ohanloncenter.org
END:VEVENT
BEGIN:VEVENT
DTSTART;TZID=America/Los_Angeles:20230819T143000
DTEND;TZID=America/Los_Angeles:20230819T154500
DTSTAMP:20260419T210913
CREATED:20230612T220120Z
LAST-MODIFIED:20230612T222747Z
UID:20001501-1692455400-1692459900@www.ohanloncenter.org
SUMMARY:Marin Poetry Center's Traveling Show at O'Hanlon
DESCRIPTION:MPC Traveling Show: Episode 9\n\nSATURDAY\, AUGUST 19th | 2:30-3:45 PM\nO’HANLON CENTER FOR THE ARTS \nHost: Mark Meierding\nReaders: Lonner Holden\, Maxine Flasher-Düzgünes\, Jan Seagrave\, Gabrielle Rilleau\, Elizabeth Underwood\, Gail Entrekin\, Laurel Feigenbaum \nAll Library events are free. Call 415-868-0252 or visit www.marinlibrary.org \nEvents sponsored or conducted by the County of Marin are held in accessible sites. For accommodation requests call 415-473-3220 (voice)\, CRS dial 711\, or email library@marincounty.org at least four work days in advance. Documents are available in alternative formats\, upon request.
URL:https://www.ohanloncenter.org/event/marin-poetry-centers-traveling-show-at-ohanlon/
LOCATION:O’Hanlon Center for the Arts
CATEGORIES:Community Events,Literary Arts,Performing Arts
END:VEVENT
END:VCALENDAR