BEGIN:VCALENDAR
VERSION:2.0
PRODID:-//O&#039;Hanlon Center for the Arts - ECPv6.15.17.1//NONSGML v1.0//EN
CALSCALE:GREGORIAN
METHOD:PUBLISH
X-ORIGINAL-URL:https://www.ohanloncenter.org
X-WR-CALDESC:Events for O&#039;Hanlon Center for the Arts
REFRESH-INTERVAL;VALUE=DURATION:PT1H
X-Robots-Tag:noindex
X-PUBLISHED-TTL:PT1H
BEGIN:VTIMEZONE
TZID:America/Los_Angeles
BEGIN:DAYLIGHT
TZOFFSETFROM:-0800
TZOFFSETTO:-0700
TZNAME:PDT
DTSTART:20220313T100000
END:DAYLIGHT
BEGIN:STANDARD
TZOFFSETFROM:-0700
TZOFFSETTO:-0800
TZNAME:PST
DTSTART:20221106T090000
END:STANDARD
BEGIN:DAYLIGHT
TZOFFSETFROM:-0800
TZOFFSETTO:-0700
TZNAME:PDT
DTSTART:20230312T100000
END:DAYLIGHT
BEGIN:STANDARD
TZOFFSETFROM:-0700
TZOFFSETTO:-0800
TZNAME:PST
DTSTART:20231105T090000
END:STANDARD
BEGIN:DAYLIGHT
TZOFFSETFROM:-0800
TZOFFSETTO:-0700
TZNAME:PDT
DTSTART:20240310T100000
END:DAYLIGHT
BEGIN:STANDARD
TZOFFSETFROM:-0700
TZOFFSETTO:-0800
TZNAME:PST
DTSTART:20241103T090000
END:STANDARD
END:VTIMEZONE
BEGIN:VEVENT
DTSTART;TZID=America/Los_Angeles:20230717T090000
DTEND;TZID=America/Los_Angeles:20230717T170000
DTSTAMP:20260419T232032
CREATED:20230331T175301Z
LAST-MODIFIED:20230613T175251Z
UID:20000990-1689584400-1689613200@www.ohanloncenter.org
SUMMARY:Artist Member Loft Studio Use
DESCRIPTION:Loft Studios open for Members (Artist level & up)\nEvery Monday 9:00 am – 5:00pm \n$20 drop-in (no reservations needed) \nFREE on 1st Monday of the Month.
URL:https://www.ohanloncenter.org/event/artist-member-loft-studio-use-2/2023-07-17/
LOCATION:O’Hanlon Center for the Arts
CATEGORIES:Member Events,Visual Arts
ORGANIZER;CN="OHCA Staff":MAILTO:office@ohanloncenter.org
END:VEVENT
BEGIN:VEVENT
DTSTART;TZID=America/Los_Angeles:20230720T100000
DTEND;TZID=America/Los_Angeles:20230720T120000
DTSTAMP:20260419T232032
CREATED:20230608T230004Z
LAST-MODIFIED:20230627T205232Z
UID:20001509-1689847200-1689854400@www.ohanloncenter.org
SUMMARY:Creative Writing w/ ABBY WASSERMAN
DESCRIPTION:  \nThis weekly group features freewriting (to loosen the Muse) with sustained and supportive group critiques of works in progress. \nThe facilitator is a journalist\, author\, and editor who has been leading OHCA writing groups for 15 years. \nThis ongoing Thursday workshop will be held in person in the upper Loft.\nContact Abby to be included:\nabby.wasserman@gmail.com \n$156\,  $125 OH member for 6 sessions \nSingle session drop-in: $27 \nVisit Abby Wasserman’s Website » \n\n			\n				\n\n	\n	\n			\n\n\n	\n		Creative Writing w/ Abby Wasserman$27.00 – $156.00Price range: $27.00 through $156.00 \n\n\n	\n			\n			\n									\n						Member/Non-Member\n						\n							Choose an optionNon-memberOHCA Member						\n					\n									\n						# of Sessions\n						\n							Choose an option6 sessionsSingle session drop-inClear						\n					\n							\n		\n		\n		\n		\n			\n	\n	\n		Creative Writing w/ Abby Wasserman quantity\n	\n	\n\n	Add to cart\n\n	\n	\n	\n	\n\n		\n	\n	\n\n\n\n	\n	\n		SKU: creative-writing-abby\n\n	\n	Category: Literary\n	\n	\n\n	\n\n	\n	\n		\n							\n					\n						Additional information					\n				\n					\n					\n				\n	Additional information\n\n\n			\n			Member/Non-Member\n			Non-member\, OHCA Member \n\n		\n			\n			# of Sessions\n			6 sessions\, Single session drop-in \n\n		\n	\n			\n		\n			\n\n\n	\n\n					Related products\n				\n\n			\n					\n	Creative Writing w/ Abby Wasserman 2026\n	$30.00 – $160.00Price range: $30.00 through $160.00\n\n\n			\n		\n\n	\n	\n\n			\n			\n 
URL:https://www.ohanloncenter.org/event/creative-writing-w-abby-wasserman-2-2/2023-07-20/
LOCATION:O’Hanlon Center for the Arts
CATEGORIES:Literary Arts
ORGANIZER;CN="OHCA Staff":MAILTO:office@ohanloncenter.org
END:VEVENT
BEGIN:VEVENT
DTSTART;TZID=America/Los_Angeles:20230720T140000
DTEND;TZID=America/Los_Angeles:20230720T153000
DTSTAMP:20260419T232032
CREATED:20230526T203634Z
LAST-MODIFIED:20230912T171530Z
UID:20001495-1689861600-1689867000@www.ohanloncenter.org
SUMMARY:O’Hanlon Poetry Collective on Zoom
DESCRIPTION:For O’Hanlon Member poets and poetry lovers. \nHosted by Suz Lipman and Noni Garner. \nA bi-monthly online gathering with OHCA resident poet Cruwys Brown and 2010-2012 Poet Laureate of Marin County\, CB Follett and others to explore\, read and discuss poetry. \nThis group is currently at maximum capacity of 12 active participants. If you’d like to get on the wait list please email office@ohanloncenter.org. \nOHCA Members only\n12 people max. $10 per session. \n  \nPayment for Current Poetry group members\n 
URL:https://www.ohanloncenter.org/event/ohanlon-poetry-collective-on-zoom/2023-07-20/
CATEGORIES:Literary Arts,Virtual
ORGANIZER;CN="OHCA Staff":MAILTO:office@ohanloncenter.org
END:VEVENT
BEGIN:VEVENT
DTSTART;TZID=America/Los_Angeles:20230722T100000
DTEND;TZID=America/Los_Angeles:20230722T140000
DTSTAMP:20260419T232032
CREATED:20230405T000016Z
LAST-MODIFIED:20231219T010746Z
UID:20001207-1690020000-1690034400@www.ohanloncenter.org
SUMMARY:Saturday Perception Workshop
DESCRIPTION:One of the core principles Ann O’Hanlon stressed was learning how to seeFor over 35 years – Saturdays have been a time to put that into practice. To experiment and discover.\n				\n			\n			\n				\n				\n				\n				\n			\n				\n				\n				\n				\n				\n				\n				\n				\n				\n				\n				Thank you to Ann Fricker and Noni Garner for organizing the return to the LOFT Saturdays from 10 am to 2 pm. \nThe morning starts with a simple exercise or prompt that informs the day. \n$25 for non-members and $20 for members.  \nMaterials provided or bring your own. \n  \nAttendees must be fully vaccinated and Masks required indoors \nWorkshop will be held in the LOFT \nBeginners Expected! \n			\n			\n				\n				\n				\n				\n				\n				\n				\n				\n				\n				\n				\n				\n					\n	\n			\n\n\n				\n			\n				\n				\n				\n				\n				\n				\n					Saturday Perception\n				\n				\n			\n				\n				\n				\n				\n				\n				\n				\n					$20.00 – $25.00Price range: $20.00 through $25.00 \n\n				\n			\n				\n				\n				\n				\n				\n				\n				\n					\n\n	\n			\n			\n									\n						Member/Non-Member\n						\n							Choose an optionNon-memberOHCA MemberClear						\n					\n							\n		\n		\n		\n		\n			\n	\n	\n		Saturday Perception Workshop quantity\n	\n	\n\n	Add to cart\n\n	\n	\n	\n	\n\n		\n	\n	\n\n\n				\n			\n			\n				\n				\n				\n				\n			\n				\n				\n				\n				\n				\n				\n				\n				\n				\n				\n				\n			\n			\n				\n				\n				\n				\n				\n				\n				\n				\n				\n				LOVING THE SATURDAY WORKSHOP\nThe long-running Visual Perception Workshop is at the heart of O’Hanlon Center. Recently we asked workshop participants for their thoughts. \nI love doing art with friends…and then sharing it! \nI love that it is a drop-in class andI don’t have to sign up ahead of time. \nI like that I don’t have to know how to do art…It’s about our own creativity. \nIt is so much fun. \nI love the creative atmosphere. It breeds excitement and enjoyment of the process. \nI like the mix of people and their art. \nIt is free and fun. \nI like that I can get into the flow of art and forget the stressful world. \nI look forward to stepping into another time and place. It is a magical experience to visit this special piece of land at the foot of Mt Tam. \nBeing with people who care about art and artists is something I find worthwhile. I feel lucky to have discovered this class. It informs me well beyond 4 hours on Saturday. \nThis Saturday workshop serves as a tool to open up all of my senses and I  come alive. \nThe setting is gorgeous and serene. \nI love Saturday class. I wouldn’t think of missing it. I come every Saturday\, and have for years and years.
URL:https://www.ohanloncenter.org/event/saturday-perception-workshop-2023/2023-07-22/
LOCATION:O’Hanlon Center for the Arts
CATEGORIES:Visual Arts
ORGANIZER;CN="OHCA Staff":MAILTO:office@ohanloncenter.org
END:VEVENT
BEGIN:VEVENT
DTSTART;TZID=America/Los_Angeles:20230722T103000
DTEND;TZID=America/Los_Angeles:20230722T143000
DTSTAMP:20260419T232032
CREATED:20230627T151542Z
LAST-MODIFIED:20230627T151542Z
UID:20001508-1690021800-1690036200@www.ohanloncenter.org
SUMMARY:Art is a Way of Knowing (on Zoom) w/ PEGGY LILIENTHAL LINDEN 7/22/23
DESCRIPTION:Art is a means to enter\, to play with\, to dance with\, to wrestle with anything that intrigues\, delights\, disturbs or terrifies us.\n– PAT B. ALLEN\, introduction\, Art Is a Spiritual Path \nThis short series of drop-in classes offers a space for art making as personal inquiry. Using journaling and art making we open to our “‘Creative Source.” Total beginners and experienced artists are welcome. Please have art making materials of your choice and a journal for the workshop. \nThe session will provide the setting for you to explore your own creative work. This is a time to be open to exploring\, adventuring\, trying something new (or old)\, and expressing your intuition\, imagination\, thoughts or beliefs. From past sessions participants have reported an expanded a sense of clarity\, expressing themselves more creatively\, and increased insight into themselves.\n\n \n“Art is a way of Knowing”\, an insightful class led by Peggy Linden\, has given me an opportunity to explore and expand my artistic abilities and perceptions. Having four hours to work and interface with a group of gifted individuals (via zoom) engages me with new creative energy and ideas that I wouldn’t have working alone.  Peggy is an experienced guide for this enriching workshop.” – Workshop Participant. \nThis Zoom workshop is for 10 people max.  Meets on Zoom one day per month (Date/time may vary – Check calendar listing for specifics)\n \n  \n$40\, $32 OHCA members\, per session \nPeggy will send you the invite link 2 hours before start of zoom.  Check your email.  Time is Pacific Time so add 3 hours if in East Coast. \n  \n  \nPlease read Zoom prerequisite before signing up.* \n*Participants should be familiar with Zoom – how to use the chat\, how to mute and un-mute\, how to toggle between video and audio only. Ensuring your web-cam and microphone are working beforehand is essential. Having earbuds or a headset is helpful if you don’t have a private space from which to participate. \nParticipants need to provide their own art materials and a journal. Take time to create a sacred space\, comfortable and free from distractions. Having a water bottle at hand is helpful. Art materials can be really simple or elaborate. It is a great practice to improvise with what is available. \nIt is requested that participants stay until the end of the session in order to preserve the “alchemical container”. Sharing words and images at the end of the session is an important part of the practice. When we create a group “field” together\, the words or imagery that arise for any one person may have important meaning for other members of the group. The more we practice together the more connection and synchronicity we invite. \n  \n\n  \nPEGGY LINDEN – Embodiment Coaching: Combining Coaching\, Creativity & the Body \nBiography \nPeggy Linden studied with and was mentored by Ann O’Hanlon during her 20’s and 30’s and this launched her into the world of art. Peggy had the privilege of being invited to Ann’s cabin at Lake Tahoe for a week at a time on two separate occasions where all she was ‘allowed to do’ was paint all day on Ann’s deck. \nPeggy also studied with Josef Albers and Josep Grau-Garigga. Peggy’s mother was Windy Lilienthal\, the fiber-artist. They attended Ann’s workshops together. Peggy’s former husband\, David Linden was the attorney who incorporated the O’Hanlon Center for the Arts. \nPeggy combines her career as a CranioSacral Therapist (a hands-on-healing modality) with her work as a Certified Resilient Leadership Coach and an artist. Her Visual Journaling Art Workshops have elements of coaching built into them\, while also using body awareness for grounding. \nPeggy holds a Masters in Adult Education and has completed a majority of all classes for her PH.D. \n 
URL:https://www.ohanloncenter.org/event/art-is-a-way-of-knowing-on-zoom-w-peggy-lilienthal-linden-7-22-23/
CATEGORIES:Virtual,Visual Arts
ORGANIZER;CN="OHCA Staff":MAILTO:office@ohanloncenter.org
END:VEVENT
BEGIN:VEVENT
DTSTART;TZID=America/Los_Angeles:20230722T143000
DTEND;TZID=America/Los_Angeles:20230722T163000
DTSTAMP:20260419T232032
CREATED:20230611T195058Z
LAST-MODIFIED:20230611T195402Z
UID:20001500-1690036200-1690043400@www.ohanloncenter.org
SUMMARY:Midsummer Members' Social
DESCRIPTION:Midsummer Members’ Social\nJuly 22\, 2023\n2:30 – 4:30pm\nFREE – RSVP suggested (below) \nPlease join us for a Midsummer Members’ Social on July 22nd\, 2023. Come dressed in your party clothes and enjoy tasty bites\, beverages\, live music and studio tours by our current artists in residence. Membership will be sending a follow-up email in the coming month with volunteer slots for helping out at the party – this is a fun and easy way to get to know fellow members!
URL:https://www.ohanloncenter.org/event/midsummer-members-social/
LOCATION:O’Hanlon Center for the Arts
CATEGORIES:Community Events,Member Events,Special Events
ORGANIZER;CN="OHCA Staff":MAILTO:office@ohanloncenter.org
END:VEVENT
END:VCALENDAR