BEGIN:VCALENDAR
VERSION:2.0
PRODID:-//O&#039;Hanlon Center for the Arts - ECPv6.15.17.1//NONSGML v1.0//EN
CALSCALE:GREGORIAN
METHOD:PUBLISH
X-ORIGINAL-URL:https://www.ohanloncenter.org
X-WR-CALDESC:Events for O&#039;Hanlon Center for the Arts
REFRESH-INTERVAL;VALUE=DURATION:PT1H
X-Robots-Tag:noindex
X-PUBLISHED-TTL:PT1H
BEGIN:VTIMEZONE
TZID:America/Los_Angeles
BEGIN:DAYLIGHT
TZOFFSETFROM:-0800
TZOFFSETTO:-0700
TZNAME:PDT
DTSTART:20220313T100000
END:DAYLIGHT
BEGIN:STANDARD
TZOFFSETFROM:-0700
TZOFFSETTO:-0800
TZNAME:PST
DTSTART:20221106T090000
END:STANDARD
BEGIN:DAYLIGHT
TZOFFSETFROM:-0800
TZOFFSETTO:-0700
TZNAME:PDT
DTSTART:20230312T100000
END:DAYLIGHT
BEGIN:STANDARD
TZOFFSETFROM:-0700
TZOFFSETTO:-0800
TZNAME:PST
DTSTART:20231105T090000
END:STANDARD
BEGIN:DAYLIGHT
TZOFFSETFROM:-0800
TZOFFSETTO:-0700
TZNAME:PDT
DTSTART:20240310T100000
END:DAYLIGHT
BEGIN:STANDARD
TZOFFSETFROM:-0700
TZOFFSETTO:-0800
TZNAME:PST
DTSTART:20241103T090000
END:STANDARD
END:VTIMEZONE
BEGIN:VEVENT
DTSTART;TZID=America/Los_Angeles:20230625T130000
DTEND;TZID=America/Los_Angeles:20230625T153000
DTSTAMP:20260419T165716
CREATED:20230401T133019Z
LAST-MODIFIED:20230713T182415Z
UID:20001088-1687698000-1687707000@www.ohanloncenter.org
SUMMARY:Sunday Family Art Day w/ CATHERINE TAYLOR TAI or JACKIE LA LANNE
DESCRIPTION:A monthly child-led art workshop with seasonal and nature themes layered into the activity \nThe O’Hanlon Loft is a space for children (and grownups) to come get messy\, try new things and have fun. We will experiment with paint\, crayons\, glue\, glitter and found objects depending on the season and age of participants.  \nWorkshop will take place in the O’Hanlon Loft Studio.\n \n$35 per family Plus $5 materials to be paid to instructor day of event \n\nUPCOMING DATES: \n July 30\, August 27\, 2023\n  \n\nINTRO TO CATHERINE \nCatherine is an artist\, mother and health coach. She has enjoyed raising her three children around the world from NYC to Singapore and now Northern California.  \nShe is an advocate of forest school and the arts and loves when the two meet. Catherine also serves on the OHCA Board. \n \n  \n  \n  \n  \n  \n  \n  \n\n  \n			\n				\n\n	\n	\n			\n\n\n	\n		Sunday Family Art Day$60.00 \n\n	\n	\n		\n		\n		Sunday Family Art Day quantity\n	\n	\n\n		Add to cart\n\n			\n\n	\n\n\n	\n	\n		SKU: sunday-family-art\n\n	\n	Category: Youth and Family\n	\n	\n\n	\n\n	\n	\n		\n							\n					\n						Description					\n				\n					\n					\n				\n	Description\n\nA monthly child-led art workshop with seasonal and nature themes layered into the activity.
URL:https://www.ohanloncenter.org/event/sunday-family-art-day-w-catherine-taylor-tai-or-jackie-la-lanne-2/2023-06-25/
LOCATION:O’Hanlon Center for the Arts
CATEGORIES:Youth & Family
ORGANIZER;CN="OHCA Staff":MAILTO:office@ohanloncenter.org
END:VEVENT
BEGIN:VEVENT
DTSTART;TZID=America/Los_Angeles:20230626T090000
DTEND;TZID=America/Los_Angeles:20230630T170000
DTSTAMP:20260419T165716
CREATED:20230313T193022Z
LAST-MODIFIED:20230314T193815Z
UID:20000930-1687770000-1688144400@www.ohanloncenter.org
SUMMARY:Artists’ Retreat – Summer 2023
DESCRIPTION:OHCA retreats offer a rare\, deepening experience. In the expanse of time\, the quiet and the connection to friends working nearby\, my confidence and powers of insight are strengthened.”\n– Candis Cousins \nMonday to Friday\, June 26–30\, 2023.\n9 a.m. to 5 p.m. \nOHCA is once again offering a week-long ARTIST RETREAT. This is a 5-day opportunity for artists to work independently but in the company of other dedicated artists.  This is not a workshop\, and there will be no instruction. What there will be is an opportunity for serious self-directed artists to work in a quiet atmosphere for a sustained period of time\, working together but independently in the spirit of creativity. \nThe Retreat is open to anyone who agrees to some simple rules.  There is to be no talking except for quietly outside during the hours of 9 – 5 and no music is allowed except with earphones.   No visitors. Participants will be responsible for their own lunch and art supplies unless otherwise designated. Artists may leave their supplies and work set up during the week and will be required to clean up afterwards. \nThere is a limited amount of space available for this retreat.  There is space for 6 Visual Artists. Spaces are given to those who reserve first and with fees paid.  If we find we have many more applicants than we have space\, we may schedule another retreat. \nFriday afternoon everyone gets together to socialize and share their work/process. \n  \nWeek-long retreat: $180; $150 OHCA members. \nSix artists max \n  \n  \n  \nPhotos: Janet Greenwood
URL:https://www.ohanloncenter.org/event/artists-retreat-summer-2023/
LOCATION:O’Hanlon Center for the Arts
CATEGORIES:Visual Arts
ORGANIZER;CN="OHCA Staff":MAILTO:office@ohanloncenter.org
END:VEVENT
BEGIN:VEVENT
DTSTART;VALUE=DATE:20230626
DTEND;VALUE=DATE:20230627
DTSTAMP:20260419T165716
CREATED:20230613T173940Z
LAST-MODIFIED:20230613T174944Z
UID:20001504-1687776585-1687776585@www.ohanloncenter.org
SUMMARY:Loft Studios [CLOSED TODAY]
DESCRIPTION:Loft Studios CLOSED for Member use today\, due to Artist Retreat and Summer Youth Camps.\nAffected dates: June 26\, July 31\, August 7 \nCheck the Calendar for open dates! \n 
URL:https://www.ohanloncenter.org/event/artist-member-loft-studio-use-closed-today/2023-06-26/
LOCATION:O’Hanlon Center for the Arts
CATEGORIES:Member Events,Visual Arts
ORGANIZER;CN="OHCA Staff":MAILTO:office@ohanloncenter.org
END:VEVENT
BEGIN:VEVENT
DTSTART;TZID=America/Los_Angeles:20230628T110000
DTEND;TZID=America/Los_Angeles:20230628T130000
DTSTAMP:20260419T165716
CREATED:20230426T164703Z
LAST-MODIFIED:20230426T164703Z
UID:20001283-1687950000-1687957200@www.ohanloncenter.org
SUMMARY:Surprise Yourself - Creation and Perception w/ CANDIS & CAYEN
DESCRIPTION:Every other Wednesday Cayen and Candis are offering a Zoomed art talk! \nUsing Ann O’Hanlon’s book\, seeing/perception\, as inspiration\, Cayen and Candis lead discussions of what we see when we look at the artworks of others or our own. \n11 am to 1 pm \nLimited number of participants. \nContact Cayen if you are interested in joining the group to get on the wait list: cayenr@comcast.net \n  \n  \nCayen Robertson is an active visual artist working in paper and inks. She has been a long time facilitator at the O’Hanlon Center and loves talking with people about their art. \nCandis Cousins works in monoprint\, collage and drawing. For twelve years she was in the monoprint workshop led by Cayen Robertson. When Cayen stepped down five years ago\, Candis began facilitating the workshop. Whether we are looking at the work of other artists or our own work\, Candis believes that our discussions can move us from prejudice to a state of wonder\, recognizing beauty in unexpected places. \n  \n  \n\n  \n			\n				\n\n	\n	\n			\n\n\n	\n		Surprise Yourself – Creation and Perception$20.00 \n\n	Please contact Cayen if you are interested in joining the group to get on the wait list: cayenr@comcast.net \n\n\n	\n	\n		\n		\n		Surprise Yourself – Creation and Perception quantity\n	\n	\n\n		Add to cart\n\n			\n\n	\n\n\n	\n	\n	Categories: Perception Workshops\, Virtual Event\, Visual Art\n	\n	\n\n	\n\n	\n	\n		\n							\n					\n						Description					\n				\n					\n					\n				\n	Description\n\nA zoomed art talk. Using Ann O’Hanlon’s book\, seeing/perception\, as inspiration\, Cayen Robertson and Candis Cousins lead discussions of what we see when we look at the artworks of others or our own. 			\n		\n			\n\n\n	\n\n					Related products\n				\n\n			\n					\n	Tuesday Perception Workshop 2026\n	$25.00 – $30.00Price range: $25.00 through $30.00\n\n\n			\n					\n	Saturday Perception Workshop\n	$20.00 – $25.00Price range: $20.00 through $25.00\n\n\n			\n					\n	Saturday Perception Workshop | 2026\n	$25.00 – $30.00Price range: $25.00 through $30.00
URL:https://www.ohanloncenter.org/event/surprise-yourself-creation-and-perception-w-candis-cayen/2023-06-28/
CATEGORIES:Virtual,Visual Arts
ORGANIZER;CN="OHCA Staff":MAILTO:office@ohanloncenter.org
END:VEVENT
BEGIN:VEVENT
DTSTART;TZID=America/Los_Angeles:20230628T133000
DTEND;TZID=America/Los_Angeles:20230628T153000
DTSTAMP:20260419T165716
CREATED:20230525T224632Z
LAST-MODIFIED:20230526T173726Z
UID:20001454-1687959000-1687966200@www.ohanloncenter.org
SUMMARY:Writing from the Heart w/ Dr. PELLER MARION (on Zoom)
DESCRIPTION:An adventurous mix of writing\nand some art too \nThis FREE drop-in and on-going Zoom group requires no experience. All you need to bring is a notebook and a pen. Peller will bring the instruction\, inspiration\, safe space\, writing and art prompts. \n\nFind your writing voice.\nDive into your creativity.\nDeepen your writing practice.  \nShare your stories\, memories\, and inspirations.\nGet steady positive affirmation for your work in a  community of passionate writers.\n\n  \nFirst and and fourth Wednesdays each month\n1:30 p.m. to 3:30 p.m. \nContact facilitator Peller Marion via email to get the zoom link\npellermarion@gmail.com\nDonations accepted to O’Hanlon Center for the Arts\n616 Throckmorton Avenue • Mill Valley • CA • 94941 \n  \n\n  \nFacilitated by Dr. Peller Marion\, author of five books and exhibiting artist and psychologist.\nFor more workshops led by Peller: go to O’Hanlon Center for the Arts (www.ohanloncenter.org) or www.pellermarion.com\nemail facilitator with questions:pellermarion@gmail.com
URL:https://www.ohanloncenter.org/event/writing-from-the-heart-w-dr-peller-marion-on-zoom/2023-06-28/
LOCATION:O’Hanlon Center for the Arts
CATEGORIES:Literary Arts,Virtual
ORGANIZER;CN="OHCA Staff":MAILTO:office@ohanloncenter.org
END:VEVENT
BEGIN:VEVENT
DTSTART;TZID=America/Los_Angeles:20230630T090000
DTEND;TZID=America/Los_Angeles:20230630T103000
DTSTAMP:20260419T165716
CREATED:20230329T171225Z
LAST-MODIFIED:20230329T181128Z
UID:20000941-1688115600-1688121000@www.ohanloncenter.org
SUMMARY:Vimala Sangha
DESCRIPTION:For information about the group please contact Celeste Perry: celesteperrytv@gmail.com\n \nBy Donation
URL:https://www.ohanloncenter.org/event/vimala-sangha/2023-06-30/
LOCATION:O’Hanlon Center for the Arts
CATEGORIES:Meditative Arts
ORGANIZER;CN="OHCA Staff":MAILTO:office@ohanloncenter.org
END:VEVENT
BEGIN:VEVENT
DTSTART;TZID=America/Los_Angeles:20230701T100000
DTEND;TZID=America/Los_Angeles:20230701T140000
DTSTAMP:20260419T165716
CREATED:20230405T000016Z
LAST-MODIFIED:20231219T010746Z
UID:20001204-1688205600-1688220000@www.ohanloncenter.org
SUMMARY:Saturday Perception Workshop
DESCRIPTION:One of the core principles Ann O’Hanlon stressed was learning how to seeFor over 35 years – Saturdays have been a time to put that into practice. To experiment and discover.\n				\n			\n			\n				\n				\n				\n				\n			\n				\n				\n				\n				\n				\n				\n				\n				\n				\n				\n				Thank you to Ann Fricker and Noni Garner for organizing the return to the LOFT Saturdays from 10 am to 2 pm. \nThe morning starts with a simple exercise or prompt that informs the day. \n$25 for non-members and $20 for members.  \nMaterials provided or bring your own. \n  \nAttendees must be fully vaccinated and Masks required indoors \nWorkshop will be held in the LOFT \nBeginners Expected! \n			\n			\n				\n				\n				\n				\n				\n				\n				\n				\n				\n				\n				\n				\n					\n	\n			\n\n\n				\n			\n				\n				\n				\n				\n				\n				\n					Saturday Perception\n				\n				\n			\n				\n				\n				\n				\n				\n				\n				\n					$20.00 – $25.00Price range: $20.00 through $25.00 \n\n				\n			\n				\n				\n				\n				\n				\n				\n				\n					\n\n	\n			\n			\n									\n						Member/Non-Member\n						\n							Choose an optionNon-memberOHCA MemberClear						\n					\n							\n		\n		\n		\n		\n			\n	\n	\n		Saturday Perception Workshop quantity\n	\n	\n\n	Add to cart\n\n	\n	\n	\n	\n\n		\n	\n	\n\n\n				\n			\n			\n				\n				\n				\n				\n			\n				\n				\n				\n				\n				\n				\n				\n				\n				\n				\n				\n			\n			\n				\n				\n				\n				\n				\n				\n				\n				\n				\n				LOVING THE SATURDAY WORKSHOP\nThe long-running Visual Perception Workshop is at the heart of O’Hanlon Center. Recently we asked workshop participants for their thoughts. \nI love doing art with friends…and then sharing it! \nI love that it is a drop-in class andI don’t have to sign up ahead of time. \nI like that I don’t have to know how to do art…It’s about our own creativity. \nIt is so much fun. \nI love the creative atmosphere. It breeds excitement and enjoyment of the process. \nI like the mix of people and their art. \nIt is free and fun. \nI like that I can get into the flow of art and forget the stressful world. \nI look forward to stepping into another time and place. It is a magical experience to visit this special piece of land at the foot of Mt Tam. \nBeing with people who care about art and artists is something I find worthwhile. I feel lucky to have discovered this class. It informs me well beyond 4 hours on Saturday. \nThis Saturday workshop serves as a tool to open up all of my senses and I  come alive. \nThe setting is gorgeous and serene. \nI love Saturday class. I wouldn’t think of missing it. I come every Saturday\, and have for years and years.
URL:https://www.ohanloncenter.org/event/saturday-perception-workshop-2023/2023-07-01/
LOCATION:O’Hanlon Center for the Arts
CATEGORIES:Visual Arts
ORGANIZER;CN="OHCA Staff":MAILTO:office@ohanloncenter.org
END:VEVENT
END:VCALENDAR