BEGIN:VCALENDAR
VERSION:2.0
PRODID:-//O&#039;Hanlon Center for the Arts - ECPv6.15.17.1//NONSGML v1.0//EN
CALSCALE:GREGORIAN
METHOD:PUBLISH
X-WR-CALNAME:O&#039;Hanlon Center for the Arts
X-ORIGINAL-URL:https://www.ohanloncenter.org
X-WR-CALDESC:Events for O&#039;Hanlon Center for the Arts
REFRESH-INTERVAL;VALUE=DURATION:PT1H
X-Robots-Tag:noindex
X-PUBLISHED-TTL:PT1H
BEGIN:VTIMEZONE
TZID:America/Los_Angeles
BEGIN:DAYLIGHT
TZOFFSETFROM:-0800
TZOFFSETTO:-0700
TZNAME:PDT
DTSTART:20220313T100000
END:DAYLIGHT
BEGIN:STANDARD
TZOFFSETFROM:-0700
TZOFFSETTO:-0800
TZNAME:PST
DTSTART:20221106T090000
END:STANDARD
BEGIN:DAYLIGHT
TZOFFSETFROM:-0800
TZOFFSETTO:-0700
TZNAME:PDT
DTSTART:20230312T100000
END:DAYLIGHT
BEGIN:STANDARD
TZOFFSETFROM:-0700
TZOFFSETTO:-0800
TZNAME:PST
DTSTART:20231105T090000
END:STANDARD
BEGIN:DAYLIGHT
TZOFFSETFROM:-0800
TZOFFSETTO:-0700
TZNAME:PDT
DTSTART:20240310T100000
END:DAYLIGHT
BEGIN:STANDARD
TZOFFSETFROM:-0700
TZOFFSETTO:-0800
TZNAME:PST
DTSTART:20241103T090000
END:STANDARD
END:VTIMEZONE
BEGIN:VEVENT
DTSTART;TZID=America/Los_Angeles:20230611T120000
DTEND;TZID=America/Los_Angeles:20230611T163000
DTSTAMP:20260419T185839
CREATED:20230424T220725Z
LAST-MODIFIED:20230424T220901Z
UID:20001269-1686484800-1686501000@www.ohanloncenter.org
SUMMARY:Developing Film with Plants w/ BEATRICE THORNTON
DESCRIPTION:Experience the world around you in a different light…\n…and learn how to develop film sustainably without traditional darkroom chemistry. In this workshop\, participants will take photos with black-and-white film\, learn about local native and invasive plants\, and develop film with low-toxicity\, homemade\, plant-based chemistry. \nThe workshop will be composed of three parts: \n1. An introduction to process: the instructor will give a brief presentation of her work and experiments with sustainable developers \n2. Photo walk and foraging for plants to use in developers: wandering individually or as a group around the grounds of OHCA or down the street in Cascade Canyon. \n3. Darkroom: making developers and developing the film. \nNo prior darkroom experience is necessary\, but please inform the instructor if you do have any experience with film developing. Participants are also welcome to bring their own 35mm or 120 cameras and developing tanks. A selection of cameras\, film\, and all other necessary materials will be provided. \nThe instructor will also offer to perform any tasks for participants — aside from actually taking the pictures. These include loading film in cameras\, loading film in tanks\, and mixing chemistry. The instructor will offer to scan film afterwards if this is desired. If film is dry by the end of the workshop\, this can be done quickly\, or participants can pick up film and scans will be emailed at a later date. \nA selection of pre-brewed plants will be available should anyone want to use these for developers. Chemicals used for developing\, stopping\, and fixing include: washing soda\, Vitamin-C\, steeped plants\, water\, and EcoPro Fixer. All chemicals will be disposed of safely by the instructor. \n  \n$72 or $60 OHCA member \nMaterials fee $20 paid to instructor day of workshop \nAttendance Limit: 8 \nRegister by Friday June 9\, 2:00 pm \n			\n			\n				\n				\n				\n				\n				\n				\n				\n				\n				\n				\n			\n			\n				\n				\n				\n				\n			\n				\n				\n				\n				\n				\n				\n				\n				\n				\n				\n				About the instructor: \nBeatrice Thornton is an Oakland-based artist who grew up in Mill Valley. She works primarily in black-and-white film photography through the lens of bioregionalism\, engaging in awareness of our role as humans in our environments. Since returning to her home state from New York in 2018\, she has been building an art practice centered around sustainable analog photographic processes. \nBeatrice develops film and prints in her home darkroom\, creating developer recipes and using ingredients that include foraged plants\, rainwater\, and low-toxicity household ingredients in place of traditional darkroom chemicals. Her evolving photographic style mainly depicts her local landscape\, often through in-camera double exposures. She frequently pairs developers with plants featured in or that grow within the landscape pictured. \nBeatrice sees developing with plants as a circular process where the art she produces is as much about process as it is the final objects. Her work is a continuous practice of learning about photography and about native and invasive plants.
URL:https://www.ohanloncenter.org/event/developing-film-with-plants-with-beatrice-thornton/
LOCATION:O’Hanlon Center for the Arts
CATEGORIES:Visual Arts
ORGANIZER;CN="OHCA Staff":MAILTO:office@ohanloncenter.org
END:VEVENT
BEGIN:VEVENT
DTSTART;TZID=America/Los_Angeles:20230612T090000
DTEND;TZID=America/Los_Angeles:20230612T170000
DTSTAMP:20260419T185839
CREATED:20230331T175301Z
LAST-MODIFIED:20230613T175251Z
UID:20000985-1686560400-1686589200@www.ohanloncenter.org
SUMMARY:Artist Member Loft Studio Use
DESCRIPTION:Loft Studios open for Members (Artist level & up)\nEvery Monday 9:00 am – 5:00pm \n$20 drop-in (no reservations needed) \nFREE on 1st Monday of the Month.
URL:https://www.ohanloncenter.org/event/artist-member-loft-studio-use-2/2023-06-12/
LOCATION:O’Hanlon Center for the Arts
CATEGORIES:Member Events,Visual Arts
ORGANIZER;CN="OHCA Staff":MAILTO:office@ohanloncenter.org
END:VEVENT
BEGIN:VEVENT
DTSTART;TZID=America/Los_Angeles:20230613T100000
DTEND;TZID=America/Los_Angeles:20230613T140000
DTSTAMP:20260419T185839
CREATED:20230424T173843Z
LAST-MODIFIED:20230710T182631Z
UID:20001239-1686650400-1686664800@www.ohanloncenter.org
SUMMARY:Tuesday Perception Workshop
DESCRIPTION:Explore\, experiment\, and discover your unique form of creative expression. \nThe Visual Perception workshops are hands-on creating with materials\, experimenting\, and discovering without dependence on technique. Participants are encouraged to pay attention to what you see\, accept the marks you make\, explore\, experiment\, and discover your unique form of creative expression. \nA simple prompt or exercise is given at the beginning of class. Participants are free to elaborate on their initial efforts or do something else entirely. \nWe end the workshops with a gathering (coming together) of everyone and their work. Participants look\, discuss\, and value the work created. \nMost materials are provided and/or bring your own. \n$25 non-members\n$20 OHCA members \nMasking may be required. Bring a mask in case. \n\n  \n			\n				\n\n	\n	\n			\n\n\n	\n		Tuesday Perception Workshop \n\n\n	\n			\n			\n									\n						Member/Non-Member\n						\n							Choose an optionNon-memberOHCA MemberClear						\n					\n							\n		\n		\n		\n		\n			\n	\n	\n		Tuesday Perception Workshop quantity\n	\n	\n\n	Add to cart\n\n	\n	\n	\n	\n\n		\n	\n	\n\n\n\n	\n	\n		SKU: tues-perception\n\n	\n	Categories: Perception Workshops\, Visual Art\n	\n	\n\n	\n\n	\n	\n		\n							\n					\n						Additional information					\n				\n					\n					\n				\n	Additional information\n\n\n			\n			Member/Non-Member\n			Non-member\, OHCA Member \n\n		\n	\n			\n		\n			\n\n\n	\n\n					Related products\n				\n\n			\n					\n	Tuesday Perception Workshop 2026\n	$25.00 – $30.00Price range: $25.00 through $30.00\n\n\n			\n					\n	Saturday Perception Workshop | 2026\n	$25.00 – $30.00Price range: $25.00 through $30.00\n\n\n			\n					\n	Saturday Perception Workshop\n	$20.00 – $25.00Price range: $20.00 through $25.00
URL:https://www.ohanloncenter.org/event/tuesday-perception-workshop-2023-2/2023-06-13/
LOCATION:O’Hanlon Center for the Arts
CATEGORIES:Visual Arts
ORGANIZER;CN="OHCA Staff":MAILTO:office@ohanloncenter.org
END:VEVENT
BEGIN:VEVENT
DTSTART;TZID=America/Los_Angeles:20230614T110000
DTEND;TZID=America/Los_Angeles:20230614T130000
DTSTAMP:20260419T185839
CREATED:20230426T164703Z
LAST-MODIFIED:20230426T164703Z
UID:20001282-1686740400-1686747600@www.ohanloncenter.org
SUMMARY:Surprise Yourself - Creation and Perception w/ CANDIS & CAYEN
DESCRIPTION:Every other Wednesday Cayen and Candis are offering a Zoomed art talk! \nUsing Ann O’Hanlon’s book\, seeing/perception\, as inspiration\, Cayen and Candis lead discussions of what we see when we look at the artworks of others or our own. \n11 am to 1 pm \nLimited number of participants. \nContact Cayen if you are interested in joining the group to get on the wait list: cayenr@comcast.net \n  \n  \nCayen Robertson is an active visual artist working in paper and inks. She has been a long time facilitator at the O’Hanlon Center and loves talking with people about their art. \nCandis Cousins works in monoprint\, collage and drawing. For twelve years she was in the monoprint workshop led by Cayen Robertson. When Cayen stepped down five years ago\, Candis began facilitating the workshop. Whether we are looking at the work of other artists or our own work\, Candis believes that our discussions can move us from prejudice to a state of wonder\, recognizing beauty in unexpected places. \n  \n  \n\n  \n			\n				\n\n	\n	\n			\n\n\n	\n		Surprise Yourself – Creation and Perception$20.00 \n\n	Please contact Cayen if you are interested in joining the group to get on the wait list: cayenr@comcast.net \n\n\n	\n	\n		\n		\n		Surprise Yourself – Creation and Perception quantity\n	\n	\n\n		Add to cart\n\n			\n\n	\n\n\n	\n	\n	Categories: Perception Workshops\, Virtual Event\, Visual Art\n	\n	\n\n	\n\n	\n	\n		\n							\n					\n						Description					\n				\n					\n					\n				\n	Description\n\nA zoomed art talk. Using Ann O’Hanlon’s book\, seeing/perception\, as inspiration\, Cayen Robertson and Candis Cousins lead discussions of what we see when we look at the artworks of others or our own. 			\n		\n			\n\n\n	\n\n					Related products\n				\n\n			\n					\n	Tuesday Perception Workshop 2026\n	$25.00 – $30.00Price range: $25.00 through $30.00\n\n\n			\n					\n	Saturday Perception Workshop | 2026\n	$25.00 – $30.00Price range: $25.00 through $30.00\n\n\n			\n					\n	Saturday Perception Workshop\n	$20.00 – $25.00Price range: $20.00 through $25.00
URL:https://www.ohanloncenter.org/event/surprise-yourself-creation-and-perception-w-candis-cayen/2023-06-14/
CATEGORIES:Virtual,Visual Arts
ORGANIZER;CN="OHCA Staff":MAILTO:office@ohanloncenter.org
END:VEVENT
BEGIN:VEVENT
DTSTART;TZID=America/Los_Angeles:20230617T100000
DTEND;TZID=America/Los_Angeles:20230617T140000
DTSTAMP:20260419T185839
CREATED:20230405T000016Z
LAST-MODIFIED:20231219T010746Z
UID:20001202-1686996000-1687010400@www.ohanloncenter.org
SUMMARY:Saturday Perception Workshop
DESCRIPTION:One of the core principles Ann O’Hanlon stressed was learning how to seeFor over 35 years – Saturdays have been a time to put that into practice. To experiment and discover.\n				\n			\n			\n				\n				\n				\n				\n			\n				\n				\n				\n				\n				\n				\n				\n				\n				\n				\n				Thank you to Ann Fricker and Noni Garner for organizing the return to the LOFT Saturdays from 10 am to 2 pm. \nThe morning starts with a simple exercise or prompt that informs the day. \n$25 for non-members and $20 for members.  \nMaterials provided or bring your own. \n  \nAttendees must be fully vaccinated and Masks required indoors \nWorkshop will be held in the LOFT \nBeginners Expected! \n			\n			\n				\n				\n				\n				\n				\n				\n				\n				\n				\n				\n				\n				\n					\n	\n			\n\n\n				\n			\n				\n				\n				\n				\n				\n				\n					Saturday Perception\n				\n				\n			\n				\n				\n				\n				\n				\n				\n				\n					$20.00 – $25.00Price range: $20.00 through $25.00 \n\n				\n			\n				\n				\n				\n				\n				\n				\n				\n					\n\n	\n			\n			\n									\n						Member/Non-Member\n						\n							Choose an optionNon-memberOHCA MemberClear						\n					\n							\n		\n		\n		\n		\n			\n	\n	\n		Saturday Perception Workshop quantity\n	\n	\n\n	Add to cart\n\n	\n	\n	\n	\n\n		\n	\n	\n\n\n				\n			\n			\n				\n				\n				\n				\n			\n				\n				\n				\n				\n				\n				\n				\n				\n				\n				\n				\n			\n			\n				\n				\n				\n				\n				\n				\n				\n				\n				\n				LOVING THE SATURDAY WORKSHOP\nThe long-running Visual Perception Workshop is at the heart of O’Hanlon Center. Recently we asked workshop participants for their thoughts. \nI love doing art with friends…and then sharing it! \nI love that it is a drop-in class andI don’t have to sign up ahead of time. \nI like that I don’t have to know how to do art…It’s about our own creativity. \nIt is so much fun. \nI love the creative atmosphere. It breeds excitement and enjoyment of the process. \nI like the mix of people and their art. \nIt is free and fun. \nI like that I can get into the flow of art and forget the stressful world. \nI look forward to stepping into another time and place. It is a magical experience to visit this special piece of land at the foot of Mt Tam. \nBeing with people who care about art and artists is something I find worthwhile. I feel lucky to have discovered this class. It informs me well beyond 4 hours on Saturday. \nThis Saturday workshop serves as a tool to open up all of my senses and I  come alive. \nThe setting is gorgeous and serene. \nI love Saturday class. I wouldn’t think of missing it. I come every Saturday\, and have for years and years.
URL:https://www.ohanloncenter.org/event/saturday-perception-workshop-2023/2023-06-17/
LOCATION:O’Hanlon Center for the Arts
CATEGORIES:Visual Arts
ORGANIZER;CN="OHCA Staff":MAILTO:office@ohanloncenter.org
END:VEVENT
END:VCALENDAR