BEGIN:VCALENDAR
VERSION:2.0
PRODID:-//O&#039;Hanlon Center for the Arts - ECPv6.15.17.1//NONSGML v1.0//EN
CALSCALE:GREGORIAN
METHOD:PUBLISH
X-ORIGINAL-URL:https://www.ohanloncenter.org
X-WR-CALDESC:Events for O&#039;Hanlon Center for the Arts
REFRESH-INTERVAL;VALUE=DURATION:PT1H
X-Robots-Tag:noindex
X-PUBLISHED-TTL:PT1H
BEGIN:VTIMEZONE
TZID:America/Los_Angeles
BEGIN:DAYLIGHT
TZOFFSETFROM:-0800
TZOFFSETTO:-0700
TZNAME:PDT
DTSTART:20220313T100000
END:DAYLIGHT
BEGIN:STANDARD
TZOFFSETFROM:-0700
TZOFFSETTO:-0800
TZNAME:PST
DTSTART:20221106T090000
END:STANDARD
BEGIN:DAYLIGHT
TZOFFSETFROM:-0800
TZOFFSETTO:-0700
TZNAME:PDT
DTSTART:20230312T100000
END:DAYLIGHT
BEGIN:STANDARD
TZOFFSETFROM:-0700
TZOFFSETTO:-0800
TZNAME:PST
DTSTART:20231105T090000
END:STANDARD
BEGIN:DAYLIGHT
TZOFFSETFROM:-0800
TZOFFSETTO:-0700
TZNAME:PDT
DTSTART:20240310T100000
END:DAYLIGHT
BEGIN:STANDARD
TZOFFSETFROM:-0700
TZOFFSETTO:-0800
TZNAME:PST
DTSTART:20241103T090000
END:STANDARD
END:VTIMEZONE
BEGIN:VEVENT
DTSTART;TZID=America/Los_Angeles:20230528T130000
DTEND;TZID=America/Los_Angeles:20230528T153000
DTSTAMP:20260419T152225
CREATED:20230522T170420Z
LAST-MODIFIED:20230522T173750Z
UID:20001087-1685278800-1685287800@www.ohanloncenter.org
SUMMARY:[CANCELLED) Sunday Family Art Day
DESCRIPTION:May 28 Workshop has been cancelled.\nSee below for upcoming dates! \n\nA monthly child-led art workshop with seasonal and nature themes layered into the activity \nThe O’Hanlon Loft is a space for children (and grownups) to come get messy\, try new things and have fun. We will experiment with paint\, crayons\, glue\, glitter and found objects depending on the season and age of participants.  \nWorkshop will take place in the O’Hanlon Loft Studio.\n \n$35 per family Plus $5 materials to be paid to instructor day of event \n\nUPCOMING DATES: \nJune 25\, July 30\, August 27\, 2023\n  \n\nINTRO TO CATHERINE \nCatherine is an artist\, mother and health coach. She has enjoyed raising her three children around the world from NYC to Singapore and now Northern California.  \nShe is an advocate of forest school and the arts and loves when the two meet. Catherine also serves on the OHCA Board. \n \n  \n  \n  \n  \n  \n  \n  \n\n 
URL:https://www.ohanloncenter.org/event/sunday-family-art-day-w-catherine-taylor-tai-or-jackie-la-lanne/
LOCATION:O’Hanlon Center for the Arts
CATEGORIES:Youth & Family
ORGANIZER;CN="OHCA Staff":MAILTO:office@ohanloncenter.org
END:VEVENT
BEGIN:VEVENT
DTSTART;TZID=America/Los_Angeles:20230529T090000
DTEND;TZID=America/Los_Angeles:20230529T170000
DTSTAMP:20260419T152225
CREATED:20230331T175301Z
LAST-MODIFIED:20230613T175251Z
UID:20000983-1685350800-1685379600@www.ohanloncenter.org
SUMMARY:Artist Member Loft Studio Use
DESCRIPTION:Loft Studios open for Members (Artist level & up)\nEvery Monday 9:00 am – 5:00pm \n$20 drop-in (no reservations needed) \nFREE on 1st Monday of the Month.
URL:https://www.ohanloncenter.org/event/artist-member-loft-studio-use-2/2023-05-29/
LOCATION:O’Hanlon Center for the Arts
CATEGORIES:Member Events,Visual Arts
ORGANIZER;CN="OHCA Staff":MAILTO:office@ohanloncenter.org
END:VEVENT
BEGIN:VEVENT
DTSTART;TZID=America/Los_Angeles:20230529T160000
DTEND;TZID=America/Los_Angeles:20230529T173000
DTSTAMP:20260419T152225
CREATED:20230426T162625Z
LAST-MODIFIED:20230426T162909Z
UID:20001363-1685376000-1685381400@www.ohanloncenter.org
SUMMARY:Drawing for Teens  w/ LAUREL SHEAR (2023 series 3-continues)
DESCRIPTION:Light\, tone\, line\, pattern\, mass\, perspective\, abstraction and composition\nMondays: 4 to 5:30 p.m. \n8-WEEK SERIES #3 2023:\n4/17\, 4/24\, 5/1\, 5/8\, 5/15\, 5/22\, 5/29\, 6/5 \nIn this 8-week series we will use a range of drawing materials. Each class will start with a warmup\, and then focus on translating three dimensional objects to a two-dimensional surface\, focusing on light\, tone\, line\, pattern\, mass\, perspective\, abstraction and composition \nMaximum 8 students \nA materials list will be emailed after registration \n$320 or $256 for OHCA members \n  \n\n \nABOUT LAUREL \nLaurel Shear lives and works in the California Bay Area. She opened her first New York solo show\, Daydreaming In My Nightmare\, at Fort Gansevoort in March 2018. Recent exhibitions include Right Here Right Now\, Richmond Art Center and NIAD (Richmond\, CA) My Silences Had Not Protected Me\, For Freedoms\, Fort Gansevoort\, (New York)\, Where Dreams Come True\, TSA LA (Los Angeles)\, Push\, Incline Gallery (San Francisco). She is a former member of the artist run gallery Tiger Strikes Asteroid in Los Angeles. Press for her work includes Artnet\, New York Magazine\, Brooklyn Magazine\, and Luxe Magazine\, among others. She facilitates drawing and painting workshops at O’Hanlon Center for the Arts and serves on the Board. Shear was a competitive cheerleader\, she’s an energy medicine practitioner\, and a proud mama.  \nwww.laurelshear.com \n  \n 
URL:https://www.ohanloncenter.org/event/drawing-for-teens-w-laurel-shear-2023-series-3-continues/2023-05-29/
LOCATION:O’Hanlon Center for the Arts
CATEGORIES:Visual Arts,Youth & Family
ORGANIZER;CN="OHCA Staff":MAILTO:office@ohanloncenter.org
END:VEVENT
BEGIN:VEVENT
DTSTART;TZID=America/Los_Angeles:20230531T100000
DTEND;TZID=America/Los_Angeles:20230531T120000
DTSTAMP:20260419T152225
CREATED:20230227T215435Z
LAST-MODIFIED:20230426T162230Z
UID:20001356-1685527200-1685534400@www.ohanloncenter.org
SUMMARY:Introduction to Drawing w/ NAOMI TAMURA (continues)
DESCRIPTION:Set aside your inhibitions and learn to draw!\n6 Wednesdays: April 19 & 26\, May 3\, 17\, 24 & 31. (No class May 10)\n10:00 am to 12:00 pm \n$240 or $190 for OHCA Members \nMaterials Fee:$20 paid to Facilitator 1st day of class \nDrawing is fundamental to any form of visual art and can be the most easily accessible form of individual expression. It is as unique to each artist as a person’s handwriting. \nSet aside your inhibitions and learn to draw! In this beginner class\, we will learn the basics of drawing using a variety of materials\, techniques\, and methods. \nBring your open and curious mind\, a sketchbook (minimum 9” x 12”)\, and your favorite writing tool. All other materials will be provided. (Materials fee $20 paid to the instructor at the beginning of class). \n3-6 students \n			\n				\n				\n				\n				\n				\n			\n			\n				\n				\n				\n				\n				\n				\n				\n				\n				\n				\n				\n				\n					\n			\n				\n				\n					\n					\n						\n						\n						\n						\n					\n					\n					\n						\n						\n						\n						\n					\n					\n					\n						\n						\n						\n						\n					\n					\n	  			\n	  			\n  			\n  			\n				\n			\n			\n				\n				\n				\n				\n			\n				\n				\n				\n				\n				\n				\n				\n				\n				\n				\n				ABOUT NAOMI\nNaomi Tamura has been exploring artistic endeavors most of her life\, taking an interest in drawing and painting at a young age. After graduating from Scripps College with a Studio Arts Degree\, Naomi worked professionally as a graphic designer /art director in both print and online. \nNaomi is a practicing artist and philanthropist. She is involved in various creative and community endeavors\, most notably serving as a former board chair of O’Hanlon Center for the Arts\, and currently serving as the longest-serving board chair at Youth in Arts in San Rafael. \nAfter raising her family and retiring from commercial work\, she refocused her energies on her many creative pursuits\, including sharing her knowledge and enthusiasm for the creative process with others.\n			\n				\n				\n				\n				\n				TICKETS cover all dates in the Series
URL:https://www.ohanloncenter.org/event/introduction-to-drawing-w-naomi-tamura-continues/2023-05-31/
LOCATION:O’Hanlon Center for the Arts
CATEGORIES:Visual Arts
ORGANIZER;CN="OHCA Staff":MAILTO:office@ohanloncenter.org
END:VEVENT
BEGIN:VEVENT
DTSTART;TZID=America/Los_Angeles:20230531T110000
DTEND;TZID=America/Los_Angeles:20230531T130000
DTSTAMP:20260419T152225
CREATED:20230426T164703Z
LAST-MODIFIED:20230426T164703Z
UID:20001281-1685530800-1685538000@www.ohanloncenter.org
SUMMARY:Surprise Yourself - Creation and Perception w/ CANDIS & CAYEN
DESCRIPTION:Every other Wednesday Cayen and Candis are offering a Zoomed art talk! \nUsing Ann O’Hanlon’s book\, seeing/perception\, as inspiration\, Cayen and Candis lead discussions of what we see when we look at the artworks of others or our own. \n11 am to 1 pm \nLimited number of participants. \nContact Cayen if you are interested in joining the group to get on the wait list: cayenr@comcast.net \n  \n  \nCayen Robertson is an active visual artist working in paper and inks. She has been a long time facilitator at the O’Hanlon Center and loves talking with people about their art. \nCandis Cousins works in monoprint\, collage and drawing. For twelve years she was in the monoprint workshop led by Cayen Robertson. When Cayen stepped down five years ago\, Candis began facilitating the workshop. Whether we are looking at the work of other artists or our own work\, Candis believes that our discussions can move us from prejudice to a state of wonder\, recognizing beauty in unexpected places. \n  \n  \n\n  \n			\n				\n\n	\n	\n			\n\n\n	\n		Surprise Yourself – Creation and Perception$20.00 \n\n	Please contact Cayen if you are interested in joining the group to get on the wait list: cayenr@comcast.net \n\n\n	\n	\n		\n		\n		Surprise Yourself – Creation and Perception quantity\n	\n	\n\n		Add to cart\n\n			\n\n	\n\n\n	\n	\n	Categories: Perception Workshops\, Virtual Event\, Visual Art\n	\n	\n\n	\n\n	\n	\n		\n							\n					\n						Description					\n				\n					\n					\n				\n	Description\n\nA zoomed art talk. Using Ann O’Hanlon’s book\, seeing/perception\, as inspiration\, Cayen Robertson and Candis Cousins lead discussions of what we see when we look at the artworks of others or our own. 			\n		\n			\n\n\n	\n\n					Related products\n				\n\n			\n					\n	Saturday Perception Workshop\n	$20.00 – $25.00Price range: $20.00 through $25.00\n\n\n			\n					\n	Tuesday Perception Workshop 2026\n	$25.00 – $30.00Price range: $25.00 through $30.00\n\n\n			\n					\n	Saturday Perception Workshop | 2026\n	$25.00 – $30.00Price range: $25.00 through $30.00
URL:https://www.ohanloncenter.org/event/surprise-yourself-creation-and-perception-w-candis-cayen/2023-05-31/
CATEGORIES:Virtual,Visual Arts
ORGANIZER;CN="OHCA Staff":MAILTO:office@ohanloncenter.org
END:VEVENT
BEGIN:VEVENT
DTSTART;TZID=America/Los_Angeles:20230603T100000
DTEND;TZID=America/Los_Angeles:20230603T140000
DTSTAMP:20260419T152225
CREATED:20230405T000016Z
LAST-MODIFIED:20231219T010746Z
UID:20001200-1685786400-1685800800@www.ohanloncenter.org
SUMMARY:Saturday Perception Workshop
DESCRIPTION:One of the core principles Ann O’Hanlon stressed was learning how to seeFor over 35 years – Saturdays have been a time to put that into practice. To experiment and discover.\n				\n			\n			\n				\n				\n				\n				\n			\n				\n				\n				\n				\n				\n				\n				\n				\n				\n				\n				Thank you to Ann Fricker and Noni Garner for organizing the return to the LOFT Saturdays from 10 am to 2 pm. \nThe morning starts with a simple exercise or prompt that informs the day. \n$25 for non-members and $20 for members.  \nMaterials provided or bring your own. \n  \nAttendees must be fully vaccinated and Masks required indoors \nWorkshop will be held in the LOFT \nBeginners Expected! \n			\n			\n				\n				\n				\n				\n				\n				\n				\n				\n				\n				\n				\n				\n					\n	\n			\n\n\n				\n			\n				\n				\n				\n				\n				\n				\n					Saturday Perception\n				\n				\n			\n				\n				\n				\n				\n				\n				\n				\n					$20.00 – $25.00Price range: $20.00 through $25.00 \n\n				\n			\n				\n				\n				\n				\n				\n				\n				\n					\n\n	\n			\n			\n									\n						Member/Non-Member\n						\n							Choose an optionNon-memberOHCA MemberClear						\n					\n							\n		\n		\n		\n		\n			\n	\n	\n		Saturday Perception Workshop quantity\n	\n	\n\n	Add to cart\n\n	\n	\n	\n	\n\n		\n	\n	\n\n\n				\n			\n			\n				\n				\n				\n				\n			\n				\n				\n				\n				\n				\n				\n				\n				\n				\n				\n				\n			\n			\n				\n				\n				\n				\n				\n				\n				\n				\n				\n				LOVING THE SATURDAY WORKSHOP\nThe long-running Visual Perception Workshop is at the heart of O’Hanlon Center. Recently we asked workshop participants for their thoughts. \nI love doing art with friends…and then sharing it! \nI love that it is a drop-in class andI don’t have to sign up ahead of time. \nI like that I don’t have to know how to do art…It’s about our own creativity. \nIt is so much fun. \nI love the creative atmosphere. It breeds excitement and enjoyment of the process. \nI like the mix of people and their art. \nIt is free and fun. \nI like that I can get into the flow of art and forget the stressful world. \nI look forward to stepping into another time and place. It is a magical experience to visit this special piece of land at the foot of Mt Tam. \nBeing with people who care about art and artists is something I find worthwhile. I feel lucky to have discovered this class. It informs me well beyond 4 hours on Saturday. \nThis Saturday workshop serves as a tool to open up all of my senses and I  come alive. \nThe setting is gorgeous and serene. \nI love Saturday class. I wouldn’t think of missing it. I come every Saturday\, and have for years and years.
URL:https://www.ohanloncenter.org/event/saturday-perception-workshop-2023/2023-06-03/
LOCATION:O’Hanlon Center for the Arts
CATEGORIES:Visual Arts
ORGANIZER;CN="OHCA Staff":MAILTO:office@ohanloncenter.org
END:VEVENT
END:VCALENDAR