BEGIN:VCALENDAR
VERSION:2.0
PRODID:-//O&#039;Hanlon Center for the Arts - ECPv6.15.17.1//NONSGML v1.0//EN
CALSCALE:GREGORIAN
METHOD:PUBLISH
X-WR-CALNAME:O&#039;Hanlon Center for the Arts
X-ORIGINAL-URL:https://www.ohanloncenter.org
X-WR-CALDESC:Events for O&#039;Hanlon Center for the Arts
REFRESH-INTERVAL;VALUE=DURATION:PT1H
X-Robots-Tag:noindex
X-PUBLISHED-TTL:PT1H
BEGIN:VTIMEZONE
TZID:America/Los_Angeles
BEGIN:DAYLIGHT
TZOFFSETFROM:-0800
TZOFFSETTO:-0700
TZNAME:PDT
DTSTART:20220313T100000
END:DAYLIGHT
BEGIN:STANDARD
TZOFFSETFROM:-0700
TZOFFSETTO:-0800
TZNAME:PST
DTSTART:20221106T090000
END:STANDARD
BEGIN:DAYLIGHT
TZOFFSETFROM:-0800
TZOFFSETTO:-0700
TZNAME:PDT
DTSTART:20230312T100000
END:DAYLIGHT
BEGIN:STANDARD
TZOFFSETFROM:-0700
TZOFFSETTO:-0800
TZNAME:PST
DTSTART:20231105T090000
END:STANDARD
BEGIN:DAYLIGHT
TZOFFSETFROM:-0800
TZOFFSETTO:-0700
TZNAME:PDT
DTSTART:20240310T100000
END:DAYLIGHT
BEGIN:STANDARD
TZOFFSETFROM:-0700
TZOFFSETTO:-0800
TZNAME:PST
DTSTART:20241103T090000
END:STANDARD
END:VTIMEZONE
BEGIN:VEVENT
DTSTART;TZID=America/Los_Angeles:20230424T090000
DTEND;TZID=America/Los_Angeles:20230424T170000
DTSTAMP:20260419T071204
CREATED:20230331T175301Z
LAST-MODIFIED:20230613T175251Z
UID:20000978-1682326800-1682355600@www.ohanloncenter.org
SUMMARY:Artist Member Loft Studio Use
DESCRIPTION:Loft Studios open for Members (Artist level & up)\nEvery Monday 9:00 am – 5:00pm \n$20 drop-in (no reservations needed) \nFREE on 1st Monday of the Month.
URL:https://www.ohanloncenter.org/event/artist-member-loft-studio-use-2/2023-04-24/
LOCATION:O’Hanlon Center for the Arts
CATEGORIES:Member Events,Visual Arts
ORGANIZER;CN="OHCA Staff":MAILTO:office@ohanloncenter.org
END:VEVENT
BEGIN:VEVENT
DTSTART;TZID=America/Los_Angeles:20230423T130000
DTEND;TZID=America/Los_Angeles:20230423T153000
DTSTAMP:20260419T071204
CREATED:20230401T133019Z
LAST-MODIFIED:20230713T182415Z
UID:20001086-1682254800-1682263800@www.ohanloncenter.org
SUMMARY:Sunday Family Art Day w/ CATHERINE TAYLOR TAI or JACKIE LA LANNE
DESCRIPTION:A monthly child-led art workshop with seasonal and nature themes layered into the activity \nThe O’Hanlon Loft is a space for children (and grownups) to come get messy\, try new things and have fun. We will experiment with paint\, crayons\, glue\, glitter and found objects depending on the season and age of participants.  \nWorkshop will take place in the O’Hanlon Loft Studio.\n \n$35 per family Plus $5 materials to be paid to instructor day of event \n\nUPCOMING DATES: \n July 30\, August 27\, 2023\n  \n\nINTRO TO CATHERINE \nCatherine is an artist\, mother and health coach. She has enjoyed raising her three children around the world from NYC to Singapore and now Northern California.  \nShe is an advocate of forest school and the arts and loves when the two meet. Catherine also serves on the OHCA Board. \n \n  \n  \n  \n  \n  \n  \n  \n\n  \n			\n				\n\n	\n	\n			\n\n\n	\n		Sunday Family Art Day$60.00 \n\n	\n	\n		\n		\n		Sunday Family Art Day quantity\n	\n	\n\n		Add to cart\n\n			\n\n	\n\n\n	\n	\n		SKU: sunday-family-art\n\n	\n	Category: Youth and Family\n	\n	\n\n	\n\n	\n	\n		\n							\n					\n						Description					\n				\n					\n					\n				\n	Description\n\nA monthly child-led art workshop with seasonal and nature themes layered into the activity.
URL:https://www.ohanloncenter.org/event/sunday-family-art-day-w-catherine-taylor-tai-or-jackie-la-lanne-2/2023-04-23/
LOCATION:O’Hanlon Center for the Arts
CATEGORIES:Youth & Family
ORGANIZER;CN="OHCA Staff":MAILTO:office@ohanloncenter.org
END:VEVENT
BEGIN:VEVENT
DTSTART;TZID=America/Los_Angeles:20230422T150000
DTEND;TZID=America/Los_Angeles:20230422T170000
DTSTAMP:20260419T071204
CREATED:20230330T150949Z
LAST-MODIFIED:20230330T150957Z
UID:20000970-1682175600-1682182800@www.ohanloncenter.org
SUMMARY:Beethoven A Life Remembered presented by CONTEMPORARY OPERA MARIN
DESCRIPTION:Contemporary Opera Marin\nContemporary Opera Marin presents Beethoven\, A Life Remembered — A weaving of music by and about Beethoven\, with his closest friends’ and contemporaries’ readings of letters and observations. Learn things you never knew\, and hear fascinating music unjustly overlooked in an intimate setting. \nFeaturing: Michael Mendelsohn\, Sibel Demirmen \nFREE\n3:00pm \nFor more info\, visit pa.marin.edu/music-from-marin \n 
URL:https://www.ohanloncenter.org/event/beethoven-a-life-remembered-presented-by-contemporary-opera-marin-2/
LOCATION:O’Hanlon Center for the Arts
CATEGORIES:Performing Arts,Special Events
ORGANIZER;CN="OHCA Staff":MAILTO:office@ohanloncenter.org
END:VEVENT
BEGIN:VEVENT
DTSTART;TZID=America/Los_Angeles:20230422T100000
DTEND;TZID=America/Los_Angeles:20230422T140000
DTSTAMP:20260419T071204
CREATED:20230405T000016Z
LAST-MODIFIED:20231219T010746Z
UID:20001194-1682157600-1682172000@www.ohanloncenter.org
SUMMARY:Saturday Perception Workshop
DESCRIPTION:One of the core principles Ann O’Hanlon stressed was learning how to seeFor over 35 years – Saturdays have been a time to put that into practice. To experiment and discover.\n				\n			\n			\n				\n				\n				\n				\n			\n				\n				\n				\n				\n				\n				\n				\n				\n				\n				\n				Thank you to Ann Fricker and Noni Garner for organizing the return to the LOFT Saturdays from 10 am to 2 pm. \nThe morning starts with a simple exercise or prompt that informs the day. \n$25 for non-members and $20 for members.  \nMaterials provided or bring your own. \n  \nAttendees must be fully vaccinated and Masks required indoors \nWorkshop will be held in the LOFT \nBeginners Expected! \n			\n			\n				\n				\n				\n				\n				\n				\n				\n				\n				\n				\n				\n				\n					\n	\n			\n\n\n				\n			\n				\n				\n				\n				\n				\n				\n					Rhythms of Africa through Song\, Dance & Drums with James Henry and Hands on Fire\n				\n				\n			\n				\n				\n				\n				\n				\n				\n				\n					$20.00 – $25.00Price range: $20.00 through $25.00 \n\n				\n			\n				\n				\n				\n				\n				\n				\n				\n					\n\n	\n			\n			\n									\n						Member/Non-Member\n						\n							Choose an optionNon-memberOHCA MemberClear						\n					\n							\n		\n		\n		\n		\n			\n	\n	\n		Saturday Perception Workshop quantity\n	\n	\n\n	Add to cart\n\n	\n	\n	\n	\n\n		\n	\n	\n\n\n				\n			\n			\n				\n				\n				\n				\n			\n				\n				\n				\n				\n				\n				\n				\n				\n				\n				\n				\n			\n			\n				\n				\n				\n				\n				\n				\n				\n				\n				\n				LOVING THE SATURDAY WORKSHOP\nThe long-running Visual Perception Workshop is at the heart of O’Hanlon Center. Recently we asked workshop participants for their thoughts. \nI love doing art with friends…and then sharing it! \nI love that it is a drop-in class andI don’t have to sign up ahead of time. \nI like that I don’t have to know how to do art…It’s about our own creativity. \nIt is so much fun. \nI love the creative atmosphere. It breeds excitement and enjoyment of the process. \nI like the mix of people and their art. \nIt is free and fun. \nI like that I can get into the flow of art and forget the stressful world. \nI look forward to stepping into another time and place. It is a magical experience to visit this special piece of land at the foot of Mt Tam. \nBeing with people who care about art and artists is something I find worthwhile. I feel lucky to have discovered this class. It informs me well beyond 4 hours on Saturday. \nThis Saturday workshop serves as a tool to open up all of my senses and I  come alive. \nThe setting is gorgeous and serene. \nI love Saturday class. I wouldn’t think of missing it. I come every Saturday\, and have for years and years.
URL:https://www.ohanloncenter.org/event/saturday-perception-workshop-2023/2023-04-22/
LOCATION:O’Hanlon Center for the Arts
CATEGORIES:Visual Arts
ORGANIZER;CN="OHCA Staff":MAILTO:office@ohanloncenter.org
END:VEVENT
BEGIN:VEVENT
DTSTART;TZID=America/Los_Angeles:20230419T100000
DTEND;TZID=America/Los_Angeles:20230419T120000
DTSTAMP:20260419T071204
CREATED:20230227T214112Z
LAST-MODIFIED:20230309T195703Z
UID:20000912-1681898400-1681905600@www.ohanloncenter.org
SUMMARY:Introduction to Drawing w/ NAOMI TAMURA
DESCRIPTION:Set aside your inhibitions and learn to draw!\n6 Wednesdays: April 19 & 26\, May 3\, 17\, 24 & 31. (No class May 10)\n10:00 am to 12:00 pm \n$240 or $190 for OHCA Members \nMaterials Fee:$20 paid to Facilitator 1st day of class \nDrawing is fundamental to any form of visual art and can be the most easily accessible form of individual expression. It is as unique to each artist as a person’s handwriting. \nSet aside your inhibitions and learn to draw! In this beginner class\, we will learn the basics of drawing using a variety of materials\, techniques\, and methods. \nBring your open and curious mind\, a sketchbook (minimum 9” x 12”)\, and your favorite writing tool. All other materials will be provided. (Materials fee $20 paid to the instructor at the beginning of class). \n3-6 students \n			\n				\n				\n				\n				\n				\n			\n			\n				\n				\n				\n				\n				\n				\n				\n				\n				\n				\n				\n				\n					\n			\n				\n				\n					\n					\n						\n						\n						\n						\n					\n					\n					\n						\n						\n						\n						\n					\n					\n					\n						\n						\n						\n						\n					\n					\n	  			\n	  			\n  			\n  			\n				\n			\n			\n				\n				\n				\n				\n			\n				\n				\n				\n				\n				\n				\n				\n				\n				\n				\n				ABOUT NAOMI\nNaomi Tamura has been exploring artistic endeavors most of her life\, taking an interest in drawing and painting at a young age. After graduating from Scripps College with a Studio Arts Degree\, Naomi worked professionally as a graphic designer /art director in both print and online. \nNaomi is a practicing artist and philanthropist. She is involved in various creative and community endeavors\, most notably serving as a former board chair of O’Hanlon Center for the Arts\, and currently serving as the longest-serving board chair at Youth in Arts in San Rafael. \nAfter raising her family and retiring from commercial work\, she refocused her energies on her many creative pursuits\, including sharing her knowledge and enthusiasm for the creative process with others. \n			\n				\n				\n				\n				\n				TICKETS cover all dates in the Series
URL:https://www.ohanloncenter.org/event/introduction-to-drawing-w-naomi-tamura/
LOCATION:O’Hanlon Center for the Arts
CATEGORIES:Visual Arts
ORGANIZER;CN="OHCA Staff":MAILTO:office@ohanloncenter.org
END:VEVENT
END:VCALENDAR