BEGIN:VCALENDAR
VERSION:2.0
PRODID:-//O&#039;Hanlon Center for the Arts - ECPv6.15.17.1//NONSGML v1.0//EN
CALSCALE:GREGORIAN
METHOD:PUBLISH
X-WR-CALNAME:O&#039;Hanlon Center for the Arts
X-ORIGINAL-URL:https://www.ohanloncenter.org
X-WR-CALDESC:Events for O&#039;Hanlon Center for the Arts
REFRESH-INTERVAL;VALUE=DURATION:PT1H
X-Robots-Tag:noindex
X-PUBLISHED-TTL:PT1H
BEGIN:VTIMEZONE
TZID:America/Los_Angeles
BEGIN:DAYLIGHT
TZOFFSETFROM:-0800
TZOFFSETTO:-0700
TZNAME:PDT
DTSTART:20250309T100000
END:DAYLIGHT
BEGIN:STANDARD
TZOFFSETFROM:-0700
TZOFFSETTO:-0800
TZNAME:PST
DTSTART:20251102T090000
END:STANDARD
BEGIN:DAYLIGHT
TZOFFSETFROM:-0800
TZOFFSETTO:-0700
TZNAME:PDT
DTSTART:20260308T100000
END:DAYLIGHT
BEGIN:STANDARD
TZOFFSETFROM:-0700
TZOFFSETTO:-0800
TZNAME:PST
DTSTART:20261101T090000
END:STANDARD
BEGIN:DAYLIGHT
TZOFFSETFROM:-0800
TZOFFSETTO:-0700
TZNAME:PDT
DTSTART:20270314T100000
END:DAYLIGHT
BEGIN:STANDARD
TZOFFSETFROM:-0700
TZOFFSETTO:-0800
TZNAME:PST
DTSTART:20271107T090000
END:STANDARD
END:VTIMEZONE
BEGIN:VEVENT
DTSTART;TZID=America/Los_Angeles:20260506T110000
DTEND;TZID=America/Los_Angeles:20260506T130000
DTSTAMP:20260419T213029
CREATED:20260217T215712Z
LAST-MODIFIED:20260413T200446Z
UID:20004432-1778065200-1778072400@www.ohanloncenter.org
SUMMARY:Based on a True Story: Developing Memories into Literature - with Bart Schneider
DESCRIPTION:Based on a True Story: Developing Memories Into Literaturewith Bart Schneider\n				\n			\n				\n				\n				\n				\n				Bringing the tools of poetry and fiction to memoir. \nMany folks are drawn to the idea of writing a memoir but find the notion of composing a book-length account daunting. This class will encourage writing from personal experience in a variety of forms and lengths\, will introduce a range of narrative approaches\, and explore methods for developing a germ of memory into a substantial form. We will also consider the ethical concerns of taking liberty with “the facts” to enhance the story\, (or how much poetic license will the puritanical worm in your brain allow?) The instructor will introduce literary examples and offer prompts for in-class writing. Participants will be invited to share their in-class writing as well as their writing from home. \nIn addition to writing implements please bring memories and stories to the gathering. \n4 Wednesdays in May – 11 am to 1 pm \n$140\, $115 OHCA Members \nMax 8 participants \n			\n			\n				\n				\n				\n				\n				\n				\n				\n				\n				\n				\n			\n			\n				\n				\n				\n				\n			\n				\n				\n				\n				\n				\n				\n				\n				\n				\n				\n				About Bart: \nBart Schneider is the author of six novels\, including Blue Bossa\, a finalist for the Los Angeles Times Book Prize\, and Secret Love\, a New York Times Notable Book of the Year. Bart presented his novel Giacometti’s Last Ride at OHCA in 2026 with artist Chester Arnold. Schneider is also the author of three volumes of poetry and the publisher of Kelly’s Cove Press.  \nVisit: https://www.kellyscovepress.com/bart-schneider/
URL:https://www.ohanloncenter.org/event/based-on-a-true-story-developing-memories-into-literature-with-bart-schneider-may-6/
LOCATION:O’Hanlon Center for the Arts
CATEGORIES:Literary Arts
ORGANIZER;CN="OHCA Staff":MAILTO:office@ohanloncenter.org
END:VEVENT
BEGIN:VEVENT
DTSTART;TZID=America/Los_Angeles:20260508T190000
DTEND;TZID=America/Los_Angeles:20260508T203000
DTSTAMP:20260419T213029
CREATED:20260407T200235Z
LAST-MODIFIED:20260409T225508Z
UID:20004503-1778266800-1778272200@www.ohanloncenter.org
SUMMARY:A Safe Place to Land - Deborah Winters in Concert
DESCRIPTION:A Safe Place to LandDeborah Winters in Concert\n				\n			\n				\n				\n				\n				\n				Join professional vocalist\, Deborah Winters with pianist Ken Cook and bassist Jeff Denson\, for an intimate evening of music that opens the heart and welcome the promise of spring. Through soul-stirring melodies and luminous storytelling\, this concert offer a gentle refuge – a space to soften\, reflect\, and reconnect. \n \nIn this collaboration of music with Ken Cook (keys) and Jeff Denson (jazz bassist)\, she shapes an evening of jazz that feels like an exhale – gentle\, spacious\, and quietly luminous – offering a calm refuge where ears can soften and safely land in the promise of spring. \nSeating is limited to 50 guests.Ticket: $35 \nReserve your seat below
URL:https://www.ohanloncenter.org/event/a-safe-place-to-land-deborah-winters-in-concert/
LOCATION:O’Hanlon Center for the Arts
CATEGORIES:Community Events,Performing Arts,Special Events
ORGANIZER;CN="OHCA Staff":MAILTO:office@ohanloncenter.org
END:VEVENT
BEGIN:VEVENT
DTSTART;TZID=America/Los_Angeles:20260509T110000
DTEND;TZID=America/Los_Angeles:20260509T130000
DTSTAMP:20260419T213029
CREATED:20260326T233236Z
LAST-MODIFIED:20260402T010207Z
UID:20004502-1778324400-1778331600@www.ohanloncenter.org
SUMMARY:Shibori Dyeing with Chris Hurwitz
DESCRIPTION:Shibori Dyeing workshop Saturday\, May 9\, for those 12 years and older. \n \nShibori Dyeing:   Participants will explore the indigo-blue dye method popularized in Japan in this two-hour workshop. Participants will supply their own prewashed natural fiber white t-shirt or other clothing\, or white table runner\, placemats and napkins. Participants bring a sack lunch to eat while the projects soak in dye.  \nOpen to ages 12+ \nChris Hurwitz is a local artist and art facilitator (far right in photo)
URL:https://www.ohanloncenter.org/event/shibori-dyeing-with-chris-hurwitz/
LOCATION:O’Hanlon Center for the Arts
CATEGORIES:Visual Arts
ORGANIZER;CN="OHCA Staff":MAILTO:office@ohanloncenter.org
END:VEVENT
BEGIN:VEVENT
DTSTART;TZID=America/Los_Angeles:20260523T100000
DTEND;TZID=America/Los_Angeles:20260523T150000
DTSTAMP:20260419T213029
CREATED:20260407T203343Z
LAST-MODIFIED:20260408T165340Z
UID:20004504-1779530400-1779548400@www.ohanloncenter.org
SUMMARY:Printing with the Press with Jackie La Lanne and Candis Cousins
DESCRIPTION:Printing with the PressFacilitated by Jackie La Lanne and Candis Cousins\n				\n			\n				\n				\n				\n				\n				Saturday\, May 23 | 10AM – 3PM \nExperiment with a printing press!\nTry your hands at collagraphs\, intaglio and Chine Collé. Carve into plexiglass from a drawing and make a one-of-a-kind print. Make a collage\, ink and print a collagraph. Paint on plexiglass and add Chine Collé. \nExperiment with different fun printmaking strategies and come up with surprising and wonderful prints. \n$120 or $96 OHCA members$20 materials fee to facilitator \nMaximum 6 participants \n			\n			\n				\n				\n				\n				\n				\n				\n				\n				\n				\n				\n				\n				\n					\n			\n				\n				\n					\n					\n						\n						\n						\n						\n					\n					\n					\n						\n						\n						\n						\n					\n					\n					\n						\n						\n						\n						\n					\n					\n	  			\n	  			\n  			\n  			\n				\n			\n			\n				\n				\n				\n				\n			\n				\n				\n				\n				\n				\n				\n			\n				\n				\n				\n				\n			\n				\n				\n				\n				\n				\n				\n				\n				\n				\n				\n				\n			\n			\n				\n				\n				\n				\n				\n				\n				\n				\n				\n				ABOUT THE FACILITATOR\nJackie La Lanne retired at the end of 2021 from over 30 years teaching art in the Mill Valley School district. She is currently Board President of of O’Hanlon. She graduated from Sonoma State University with a Bachelor’s of Fine Arts in Studio Art and a Masters Degree in Art Education. She loves teaching art and making photographs\, which she says have a lot in common: discovering\, making\, envisioning\, sharing\, and having fun. La Lanne\, who can often be found in the artroom wearing the earrings she made from her old bike lock keys\, has been teaching elementary art curriculum in Mill Valley public schools for many years. She is an accomplished artist\, teacher\, and photographer and has created wonderful collaborative textile projects for her five grandchildren.\n			\n			\n				\n				\n				\n				\n			\n				\n				\n				\n				\n				\n				\n				\n				\n				\n				\n				\n			\n			\n				\n				\n				\n				\n				\n				\n				\n				\n				\n				ABOUT THE FACILITATOR\nCandis Cousins first came to the Center in 1972. Ann O’Hanlon was alive and at that time the Center was called ‘Sight and Insight.’ On Candis’ first day\, Ann’s suggestion for working was this: “Every decision you make\, try to make the wrong decision.” \nIn 2002\, Candis returned to OHCA to join the mono printing group led by Cayen Robertson and Karen Cox. In her own work\, Candis tries to keep moving forward without a plan\, just to see what comes. \n“It is such an invigorating\, soul-finding experience to facilitate this workshop. A love-fest\, a laugh-fest on the high seas of creativity!” \n– Candis
URL:https://www.ohanloncenter.org/event/printing-with-the-press-with-jackie-la-lanne-and-candis-cousins-2026/
LOCATION:O’Hanlon Center for the Arts
CATEGORIES:Visual Arts
ORGANIZER;CN="OHCA Staff":MAILTO:office@ohanloncenter.org
END:VEVENT
BEGIN:VEVENT
DTSTART;TZID=America/Los_Angeles:20260607T100000
DTEND;TZID=America/Los_Angeles:20260607T150000
DTSTAMP:20260419T213029
CREATED:20260319T180302Z
LAST-MODIFIED:20260319T180302Z
UID:20004496-1780826400-1780844400@www.ohanloncenter.org
SUMMARY:Monoprint - June 7
DESCRIPTION:WE ARE OFFERING THIS WORKSHOP TWICE A MONTH \nMonoprinting is a playful\, exploratory process requiring neither a press nor a background in art\n \nOn a plate of gel or plexiglass\, images are made with paint\, rollers\, sponges\, netting\, leaves or anything else which might create an interesting pattern. The focus is not upon the finished work but upon the experience of discovery and making art. \nIn the workshop\, after two or three hours\, the group gathers to discuss what has been created.  The purpose of the discussion is to help each person recognize the beauty in their work. Or\, in the words of Ann O’Hanlon\, our purpose is “to look upon a seemingly random work of our own with interest” and with “the same fulfillment… experienced on an unknown wilderness trail.” \nFirst and Third Sundays\, 10 a.m. to 3:00 p.m.\n$60 | $50 OHCA members + \n$10 materials fee paid to facilitator on day of workshop \n6 people MAX\n \nART DETAIL: JANET GREENWOOD\n \n\nAbout Candis Cousins \nCandis Cousins first came to the Center in 1972. Ann O’Hanlon was alive and at that time the Center was called ‘Sight and Insight.’ On Candis’ first day\, Ann’s suggestion for working was this: “Every decision you make\, try to make the wrong decision.” \nIn 2002\, Candis returned to OHCA to join the mono printing group led by Cayen Robertson and Karen Cox. In her own work\, Candis tries to keep moving forward without a plan\, just to see what comes. \n  \n“It is such an invigorating\, soul-finding experience to facilitate this workshop. A love-fest\, a laugh-fest on the high seas of creativity!” \n– Candis \n 
URL:https://www.ohanloncenter.org/event/monoprint-june-7/
LOCATION:O’Hanlon Center for the Arts
CATEGORIES:Visual Arts
ORGANIZER;CN="OHCA Staff":MAILTO:office@ohanloncenter.org
END:VEVENT
BEGIN:VEVENT
DTSTART;TZID=America/Los_Angeles:20260622T093000
DTEND;TZID=America/Los_Angeles:20260622T150000
DTSTAMP:20260419T213029
CREATED:20260115T185411Z
LAST-MODIFIED:20260120T191220Z
UID:20004414-1782120600-1782140400@www.ohanloncenter.org
SUMMARY:O’Hanlon Youth Art Camp 2026 - Ages 6-12. Week 1: June 22 - 26
DESCRIPTION:O’Hanlon Youth Art Camp 2026\nABOUT THE CAMP \nThis fun and exploratory camp will introduce young artists to several media including ceramics\, sculpture\, drawing and painting. \nWith facilitators Jackie La Lanne and Laurel Shear \nWeek 1: Ages 6 to 12 \nJune 22 – 26\, 2026 \n9:30 a.m. to 3:00 p.m. each day \nMany mediums will be explored: \n• Photography• Ceramics• Painting• Collage• Printmaking• Sculptureand MORE! \nThere is plenty of freedom for students to discover and create.O’Hanlon Center is in a quiet nature filled property full of inspiration. \n$495 per student per week – 20% off for OHCA family members.Includes all materials and 2 snacks/day \n12 Students Maximum  \nRegister by 3:00 pm Friday June 19 \nThe camp is VERY popular so sign up early!(Scroll down for Registration) \n			\n			\n				\n				\n				\n				\n				\n				\n				\n				\n				\n				\n				\n				\n					\n			\n				\n				\n					\n					\n						\n						\n						\n						\n					\n					\n					\n						\n						\n						\n						\n					\n					\n					\n						\n						\n						\n						\n					\n					\n					\n						\n						\n						\n						\n					\n					\n	  			\n	  			\n  			\n  			\n				\n			\n				\n				\n				\n				\n				“I LOVE this Camp!” \n“I loved the people here\, kids and adults.” \n“I wouldn’t change anything about the camp except making last longer.” \n– campers from prior years\n			\n			\n				\n				\n				\n				\n			\n				\n				\n			\n				\n				\n				\n				\n				\n				\n				\n				\n				\n				\n				\n				\n				\n				\n				\n				\n				\n				ABOUT OUR FACILITATORS\n			\n			\n				\n				\n				\n				\n			\n				\n				\n				\n				\n				\n				\n				\n				\n				\n				\n				\n			\n			\n				\n				\n				\n				\n				\n				\n				\n				\n				\n				Jackie La Lanne \nJackie La Lanne retired at the end of 2021 from over 30 years teaching art in the Mill Valley School district. She is a recent Board President of of O’Hanlon. She graduated from Sonoma State University with a Bachelor’s of Fine Arts in Studio Art and a Masters Degree in Art Education. She loves teaching art and making photographs\, which she says have a lot in common: discovering\, making\, envisioning\, sharing\, and having fun. La Lanne\, who can often be found in the artroom wearing the earrings she made from her old bike lock keys\, has been teaching elementary art curriculum in Mill Valley public schools for many years. She is an accomplished artist\, teacher\, and photographer and has created wonderful collaborative textile projects for her five grandchildren.\n			\n			\n				\n				\n				\n				\n			\n				\n				\n				\n				\n				\n				\n			\n				\n				\n				\n				\n			\n				\n				\n				\n				\n				\n				\n				\n				\n				\n				\n				\n			\n			\n				\n				\n				\n				\n				\n				\n				\n				\n				\n				Laurel Shear \nLaurel Shear lives and works in the California Bay Area. She opened her first New York solo show\, Daydreaming In My Nightmare\, at Fort Gansevoort in March 2018. Recent exhibitions include Right Here Right Now\, Richmond Art Center and NIAD (Richmond\, CA) My Silences Had Not Protected Me\, For Freedoms\, Fort Gansevoort\, (New York)\, Where Dreams Come True\, TSA LA (Los Angeles)\, Push\, Incline Gallery (San Francisco). She is a former member of the artist run gallery Tiger Strikes Asteroid in Los Angeles. Press for her work includes Artnet\, New York Magazine\, Brooklyn Magazine\, and Luxe Magazine\, among others. She facilitates drawing and painting workshops at O’Hanlon Center for the Arts and serves on the Board. Shear was a competitive cheerleader\, she’s an energy medicine practitioner\, and a proud mama.  www.laurelshear.com
URL:https://www.ohanloncenter.org/event/ohanlon-youth-art-camp-2025-ages-6-12-week-1-june-22-26/
LOCATION:O’Hanlon Center for the Arts
CATEGORIES:Visual Arts,Youth & Family
ORGANIZER;CN="OHCA Staff":MAILTO:office@ohanloncenter.org
END:VEVENT
BEGIN:VEVENT
DTSTART;TZID=America/Los_Angeles:20260626T123000
DTEND;TZID=America/Los_Angeles:20260626T163000
DTSTAMP:20260419T213029
CREATED:20251023T193432Z
LAST-MODIFIED:20260210T195156Z
UID:20003411-1782477000-1782491400@www.ohanloncenter.org
SUMMARY:Abstract Painting: Collage and Color - with Peller Marion | June 26\, 2026
DESCRIPTION:Explore\, experiment\, and surprise yourself. This is an invitation to give yourself permission to discover a deeper creative you.  Learn to use unique techniques with collage\, oil sticks\, tempera\, acrylics\, and oversized paper\, while forgetting  all preconceived ideas and judgements.  \nExperience how to get over blocks to creativity\, inhibitions\, and an inner critic. \nSurprise yourself and get to the next level of your creativity. \nLed by Dr. Peller Marion. Consulting psychologist\, author\, artist.\nwww.pellermarion.com \n  \n$75 Non-members | $60 OHCA Members \nplus $20 Materials Fee to be paid to the facilitator the day of the workshop \nLimit: 8 attendees \n \n 
URL:https://www.ohanloncenter.org/event/abstract-painting-collage-and-color-with-peller-marion-june-26-2026/
LOCATION:O’Hanlon Center for the Arts
CATEGORIES:Visual Arts
ORGANIZER;CN="OHCA Staff":MAILTO:office@ohanloncenter.org
END:VEVENT
BEGIN:VEVENT
DTSTART;TZID=America/Los_Angeles:20260925T123000
DTEND;TZID=America/Los_Angeles:20260925T163000
DTSTAMP:20260419T213029
CREATED:20251023T193125Z
LAST-MODIFIED:20260210T195339Z
UID:20003412-1790339400-1790353800@www.ohanloncenter.org
SUMMARY:Abstract Painting: Collage and Color - with Peller Marion | September 25\, 2026
DESCRIPTION:Explore\, experiment\, and surprise yourself. This is an invitation to give yourself permission to discover a deeper creative you.  Learn to use unique techniques with collage\, oil sticks\, tempera\, acrylics\, and oversized paper\, while forgetting  all preconceived ideas and judgements.  \nExperience how to get over blocks to creativity\, inhibitions\, and an inner critic. \nSurprise yourself and get to the next level of your creativity. \nLed by Dr. Peller Marion. Consulting psychologist\, author\, artist.\nwww.pellermarion.com \n  \n$75 Non-members | $60 OHCA Members \nplus $20 Materials Fee to be paid to the facilitator the day of the workshop \nLimit: 8 attendees \n \n 
URL:https://www.ohanloncenter.org/event/abstract-painting-collage-and-color-with-peller-marion-september-25-2026/
LOCATION:O’Hanlon Center for the Arts
CATEGORIES:Visual Arts
ORGANIZER;CN="OHCA Staff":MAILTO:office@ohanloncenter.org
END:VEVENT
BEGIN:VEVENT
DTSTART;TZID=America/Los_Angeles:20261113T123000
DTEND;TZID=America/Los_Angeles:20261113T163000
DTSTAMP:20260419T213029
CREATED:20251023T193327Z
LAST-MODIFIED:20260210T195625Z
UID:20003413-1794573000-1794587400@www.ohanloncenter.org
SUMMARY:Abstract Painting: Collage and Color - with Peller Marion | November 13\, 2026
DESCRIPTION:Explore\, experiment\, and surprise yourself. This is an invitation to give yourself permission to discover a deeper creative you.  Learn to use unique techniques with collage\, oil sticks\, tempera\, acrylics\, and oversized paper\, while forgetting  all preconceived ideas and judgements.  \nExperience how to get over blocks to creativity\, inhibitions\, and an inner critic. \nSurprise yourself and get to the next level of your creativity. \nLed by Dr. Peller Marion. Consulting psychologist\, author\, artist.\nwww.pellermarion.com \n  \n$75 Non-members | $60 OHCA Members \nplus $20 Materials Fee to be paid to the facilitator the day of the workshop \nLimit: 8 attendees \n \n 
URL:https://www.ohanloncenter.org/event/abstract-painting-collage-and-color-with-peller-marion-november-13-2026/
LOCATION:O’Hanlon Center for the Arts
CATEGORIES:Visual Arts
ORGANIZER;CN="OHCA Staff":MAILTO:office@ohanloncenter.org
END:VEVENT
END:VCALENDAR