BEGIN:VCALENDAR
VERSION:2.0
PRODID:-//O&#039;Hanlon Center for the Arts - ECPv6.15.17.1//NONSGML v1.0//EN
CALSCALE:GREGORIAN
METHOD:PUBLISH
X-ORIGINAL-URL:https://www.ohanloncenter.org
X-WR-CALDESC:Events for O&#039;Hanlon Center for the Arts
REFRESH-INTERVAL;VALUE=DURATION:PT1H
X-Robots-Tag:noindex
X-PUBLISHED-TTL:PT1H
BEGIN:VTIMEZONE
TZID:America/Los_Angeles
BEGIN:DAYLIGHT
TZOFFSETFROM:-0800
TZOFFSETTO:-0700
TZNAME:PDT
DTSTART:20220313T100000
END:DAYLIGHT
BEGIN:STANDARD
TZOFFSETFROM:-0700
TZOFFSETTO:-0800
TZNAME:PST
DTSTART:20221106T090000
END:STANDARD
BEGIN:DAYLIGHT
TZOFFSETFROM:-0800
TZOFFSETTO:-0700
TZNAME:PDT
DTSTART:20230312T100000
END:DAYLIGHT
BEGIN:STANDARD
TZOFFSETFROM:-0700
TZOFFSETTO:-0800
TZNAME:PST
DTSTART:20231105T090000
END:STANDARD
BEGIN:DAYLIGHT
TZOFFSETFROM:-0800
TZOFFSETTO:-0700
TZNAME:PDT
DTSTART:20240310T100000
END:DAYLIGHT
BEGIN:STANDARD
TZOFFSETFROM:-0700
TZOFFSETTO:-0800
TZNAME:PST
DTSTART:20241103T090000
END:STANDARD
END:VTIMEZONE
BEGIN:VEVENT
DTSTART;TZID=America/Los_Angeles:20230731T093000
DTEND;TZID=America/Los_Angeles:20230804T153000
DTSTAMP:20260421T090310
CREATED:20230308T200647Z
LAST-MODIFIED:20230608T180229Z
UID:20000921-1690795800-1691163000@www.ohanloncenter.org
SUMMARY:Youth Creativity Camp 2023 for 7-12 year olds w/ JACKIE LA LANNE & CHARLIE FREIBURGER
DESCRIPTION:This fun and exploratory camp will introduce young artists to several media including ceramics\, sculpture\, drawing and painting. \nJuly 31 – August 4\, 2023 \n9:30 a.m. to 3:30 p.m. each day \n$550 per student per week – 20% off for OHCA family members.Includes all materials and 2 snacks/day12 Students Maximum \nMany mediums will be explored:• Photography• Ceramics (hand building and wheel)• Painting• Collage• Printmaking• Sculpture    and MORE! \nThere is plenty of freedom for students to discover and create.O’Hanlon Center is in a quiet nature filled property full of inspiration. \nThe camp is VERY popular so sign up early! \n  \n  \n			\n			\n				\n				\n				\n				\n				\n				\n				\n				\n				\n				\n			\n				\n				\n				\n				\n				“I LOVE this Camp!”“I loved the people here\, kids and adults.”“I wouldn’t change anything about the camp except making last longer.” \n– 2018 campers \n			\n			\n				\n				\n				\n				\n			\n				\n				\n			\n				\n				\n				\n				\n				\n				\n				\n				\n				\n				\n				\n				\n				\n				\n				\n				\n				\n				ABOUT THE TEACHERS\n			\n			\n				\n				\n				\n				\n			\n				\n				\n				\n				\n				\n				\n				\n				\n				\n				\n				\n			\n			\n				\n				\n				\n				\n				\n				\n				\n				\n				\n				Jackie La Lanne\nJackie La Lanne retired at the end of 2021 from over 30 years teaching art in the Mill Valley School district. She is currently Board President of of O’Hanlon. She graduated from Sonoma State University with a Bachelor’s of Fine Arts in Studio Art and a Masters Degree in Art Education. She loves teaching art and making photographs\, which she says have a lot in common: discovering\, making\, envisioning\, sharing\, and having fun. La Lanne\, who can often be found in the artroom wearing the earrings she made from her old bike lock keys\, has been teaching elementary art curriculum in Mill Valley public schools for many years. She is an accomplished artist\, teacher\, and photographer and has created wonderful collaborative textile projects for her five grandchildren. \n			\n			\n				\n				\n				\n				\n			\n				\n				\n				\n				\n				\n				\n				\n				\n				\n				\n				\n			\n			\n				\n				\n				\n				\n				\n				\n				\n				\n				\n				Charlie Freiburger\nCharlie Freiburger is a local artist from Marin County who specializes in music and pottery. He is a graduate of Tamiscal High School and will be studying ceramics next year. Wood-fire pottery is of particular interest to him and he has taught ceramics at various studios around the Bay. Charlie plays bass in a local band called Everything and also records his own music; both of which can be found online. Charliesvariousart.com
URL:https://www.ohanloncenter.org/event/youth-creativity-camp-2023-for-8-12-year-olds-w-jackie-la-lanne-charlie-freiburger/
CATEGORIES:Visual Arts,Youth & Family
ORGANIZER;CN="OHCA Staff":MAILTO:office@ohanloncenter.org
END:VEVENT
BEGIN:VEVENT
DTSTART;VALUE=DATE:20230731
DTEND;VALUE=DATE:20230801
DTSTAMP:20260421T090310
CREATED:20230613T173940Z
LAST-MODIFIED:20230613T174944Z
UID:20001505-1690800585-1690800585@www.ohanloncenter.org
SUMMARY:Loft Studios [CLOSED TODAY]
DESCRIPTION:Loft Studios CLOSED for Member use today\, due to Artist Retreat and Summer Youth Camps.\nAffected dates: June 26\, July 31\, August 7 \nCheck the Calendar for open dates! \n 
URL:https://www.ohanloncenter.org/event/artist-member-loft-studio-use-closed-today/2023-07-31/
LOCATION:O’Hanlon Center for the Arts
CATEGORIES:Member Events,Visual Arts
ORGANIZER;CN="OHCA Staff":MAILTO:office@ohanloncenter.org
END:VEVENT
BEGIN:VEVENT
DTSTART;TZID=America/Los_Angeles:20230801T160000
DTEND;TZID=America/Los_Angeles:20230801T193000
DTSTAMP:20260421T090310
CREATED:20230723T141851Z
LAST-MODIFIED:20230723T141851Z
UID:20001560-1690905600-1690918200@www.ohanloncenter.org
SUMMARY:First Tuesday Art Opening: Call & Response and Shamy Noily
DESCRIPTION:Art openings for: \n\nO’HANLON GALLERY \nCALL & RESPONSE: Art and Poetry \nArtist Roundtable: 4:00 p.m.\nOpening Reception: 5:30–7:30 p.m. \n  \n  \n  \n\nLOFT GALLERY \nShamy Noily\nMY WORK \nReception 5:30 – 7:30 p.m.
URL:https://www.ohanloncenter.org/event/first-tuesday-art-opening-call-response-and-shamy-noily/
CATEGORIES:Community Events,Member Events,Visual Arts
ORGANIZER;CN="OHCA Staff":MAILTO:office@ohanloncenter.org
END:VEVENT
END:VCALENDAR