BEGIN:VCALENDAR
VERSION:2.0
PRODID:-//O&#039;Hanlon Center for the Arts - ECPv6.15.17.1//NONSGML v1.0//EN
CALSCALE:GREGORIAN
METHOD:PUBLISH
X-WR-CALNAME:O&#039;Hanlon Center for the Arts
X-ORIGINAL-URL:https://www.ohanloncenter.org
X-WR-CALDESC:Events for O&#039;Hanlon Center for the Arts
REFRESH-INTERVAL;VALUE=DURATION:PT1H
X-Robots-Tag:noindex
X-PUBLISHED-TTL:PT1H
BEGIN:VTIMEZONE
TZID:America/Los_Angeles
BEGIN:DAYLIGHT
TZOFFSETFROM:-0800
TZOFFSETTO:-0700
TZNAME:PDT
DTSTART:20240310T100000
END:DAYLIGHT
BEGIN:STANDARD
TZOFFSETFROM:-0700
TZOFFSETTO:-0800
TZNAME:PST
DTSTART:20241103T090000
END:STANDARD
BEGIN:DAYLIGHT
TZOFFSETFROM:-0800
TZOFFSETTO:-0700
TZNAME:PDT
DTSTART:20250309T100000
END:DAYLIGHT
BEGIN:STANDARD
TZOFFSETFROM:-0700
TZOFFSETTO:-0800
TZNAME:PST
DTSTART:20251102T090000
END:STANDARD
BEGIN:DAYLIGHT
TZOFFSETFROM:-0800
TZOFFSETTO:-0700
TZNAME:PDT
DTSTART:20260308T100000
END:DAYLIGHT
BEGIN:STANDARD
TZOFFSETFROM:-0700
TZOFFSETTO:-0800
TZNAME:PST
DTSTART:20261101T090000
END:STANDARD
END:VTIMEZONE
BEGIN:VEVENT
DTSTART;TZID=America/Los_Angeles:20250520T183000
DTEND;TZID=America/Los_Angeles:20250520T200000
DTSTAMP:20260422T044814
CREATED:20250502T183221Z
LAST-MODIFIED:20250502T183236Z
UID:20003131-1747765800-1747771200@www.ohanloncenter.org
SUMMARY:Writers Night Out 2025
DESCRIPTION:Readings by Abby Wasserman’s Creative Writing Class at O’Hanlon Center for the Arts\n			\n				\n				\n				\n				\n				Confirmed presenters: \nJenny Jedeikin \nJackie La Lanne \nJonathan Erb \nJade Justice \nLaurie Hong \nNatalie McCullough \nPotter Wickware \nTuesday May 20\n6:30 – 8:00 pm\nin the O’Hanlon Gallery\n\nFREE but $10 suggested donation gladly accepted.\nRefreshments will be served after the presentation.\n\nPlease RSVP – capacity 40\n(see form below to RSVP) \n			\n			\n				\n				\n				\n				\n				\n				\n				\n				\n				\n				\n			\n				\n				\n				\n				\n				\n				\n				\n					\n			\n				\n				\n					\n					\n						\n						\n						\n					\n						Writer's Night Out \n						Marti Sousanis \n					\n				\n						\n					\n					\n					\n						\n						\n						\n					\n						Writer's Night Out \n						Abby Wasserman
URL:https://www.ohanloncenter.org/event/writers-night-out-2025/
CATEGORIES:Literary Arts,Special Events
ORGANIZER;CN="OHCA Staff":MAILTO:office@ohanloncenter.org
END:VEVENT
END:VCALENDAR