BEGIN:VCALENDAR
VERSION:2.0
PRODID:-//O&#039;Hanlon Center for the Arts - ECPv6.15.17.1//NONSGML v1.0//EN
CALSCALE:GREGORIAN
METHOD:PUBLISH
X-WR-CALNAME:O&#039;Hanlon Center for the Arts
X-ORIGINAL-URL:https://www.ohanloncenter.org
X-WR-CALDESC:Events for O&#039;Hanlon Center for the Arts
REFRESH-INTERVAL;VALUE=DURATION:PT1H
X-Robots-Tag:noindex
X-PUBLISHED-TTL:PT1H
BEGIN:VTIMEZONE
TZID:America/Los_Angeles
BEGIN:DAYLIGHT
TZOFFSETFROM:-0800
TZOFFSETTO:-0700
TZNAME:PDT
DTSTART:20230312T100000
END:DAYLIGHT
BEGIN:STANDARD
TZOFFSETFROM:-0700
TZOFFSETTO:-0800
TZNAME:PST
DTSTART:20231105T090000
END:STANDARD
BEGIN:DAYLIGHT
TZOFFSETFROM:-0800
TZOFFSETTO:-0700
TZNAME:PDT
DTSTART:20240310T100000
END:DAYLIGHT
BEGIN:STANDARD
TZOFFSETFROM:-0700
TZOFFSETTO:-0800
TZNAME:PST
DTSTART:20241103T090000
END:STANDARD
BEGIN:DAYLIGHT
TZOFFSETFROM:-0800
TZOFFSETTO:-0700
TZNAME:PDT
DTSTART:20250309T100000
END:DAYLIGHT
BEGIN:STANDARD
TZOFFSETFROM:-0700
TZOFFSETTO:-0800
TZNAME:PST
DTSTART:20251102T090000
END:STANDARD
END:VTIMEZONE
BEGIN:VEVENT
DTSTART;TZID=America/Los_Angeles:20240806T170000
DTEND;TZID=America/Los_Angeles:20240806T193000
DTSTAMP:20260422T075625
CREATED:20240718T201648Z
LAST-MODIFIED:20240718T201648Z
UID:20002228-1722963600-1722972600@www.ohanloncenter.org
SUMMARY:Cedars Art Studio Art Talk and Opening Reception
DESCRIPTION:
URL:https://www.ohanloncenter.org/event/cedars-art-studio-art-talk-and-opening-reception/
LOCATION:O’Hanlon Center for the Arts
CATEGORIES:Special Events,Visual Arts
ORGANIZER;CN="OHCA Staff":MAILTO:office@ohanloncenter.org
END:VEVENT
BEGIN:VEVENT
DTSTART;TZID=America/Los_Angeles:20240806T173000
DTEND;TZID=America/Los_Angeles:20240806T193000
DTSTAMP:20260422T075625
CREATED:20240718T201140Z
LAST-MODIFIED:20240718T201140Z
UID:20002227-1722965400-1722972600@www.ohanloncenter.org
SUMMARY:Tom Zizzo's Loft Show Opening Reception
DESCRIPTION:
URL:https://www.ohanloncenter.org/event/tom-zizzos-loft-show-opening-reception/
LOCATION:O’Hanlon Center for the Arts
CATEGORIES:Special Events,Visual Arts
ORGANIZER;CN="OHCA Staff":MAILTO:office@ohanloncenter.org
END:VEVENT
BEGIN:VEVENT
DTSTART;TZID=America/Los_Angeles:20240808T190000
DTEND;TZID=America/Los_Angeles:20240808T203000
DTSTAMP:20260422T075625
CREATED:20240511T162616Z
LAST-MODIFIED:20240702T152558Z
UID:20002160-1723143600-1723149000@www.ohanloncenter.org
SUMMARY:Book event with author Bridget Quinn
DESCRIPTION:Portrait of a Woman: Art\, Rivalry & Revolution in the Life of Adélaïde Labille-GuiardReading\, Q&A and book signing with author Bridget Quinn\n				\n			\n				\n				\n				\n				\n				Aug 8 at 7:00 pm \nO’Hanlon Center for the Arts Main Gallery \nBridget is Back!\nIf you attended her talk at OH for her book Broad Strokes – you know how informative and entertaining the evening will be. \nJoin us to celebrate her newest book: \nPortrait of a Woman: Art\, Rivalry & Revolution in the Life of Adélaïde Labille-Guiard   \nFree – please RSVP below. \nSeating limited to 50 \n			\n			\n				\n				\n				\n				\n				\n				\n				\n				\n				\n				\n			\n			\n				\n				\n				\n				\n			\n				\n				\n				\n				\n				\n				\n				\n				\n				\n				\n				\n			\n			\n				\n				\n				\n				\n				\n				\n				\n				\n				\n				Bridget Quinn is a writer\, art historian\, and critic. She’s the author of the new biography\, Portrait of a Woman: Art\, Rivalry & Revolution in the Life of Adélaïde Labille-Guiard (think Hamiltonor Amadeus\, but women artists).  \nHer book She Votes was an Amazon Editors’ pick for Best History books 2020\, and her debut\,Broad Strokes\, was an Amazon pick for Best Art & Photography Books 2017 and a 2018 Amelia Bloomer List selection of recommended feminist literature from the American Library Association. Translated into four languages\, in 2018 Broad Strokes was a national finalist for best art book of the year in Ukraine.  \nA regular contributor to arts magazine Hyperallergic\, Bridget is a sought-after speaker on women and art. She lives in the San Francisco Bay Area with her family.
URL:https://www.ohanloncenter.org/event/book-event-with-author-bridget-quinn/
LOCATION:O’Hanlon Center for the Arts
CATEGORIES:Literary Arts,Special Events
ORGANIZER;CN="OHCA Staff":MAILTO:office@ohanloncenter.org
END:VEVENT
BEGIN:VEVENT
DTSTART;TZID=America/Los_Angeles:20240810T143000
DTEND;TZID=America/Los_Angeles:20240810T163000
DTSTAMP:20260422T075625
CREATED:20240630T132430Z
LAST-MODIFIED:20240630T132430Z
UID:20002215-1723300200-1723307400@www.ohanloncenter.org
SUMMARY:Midsummer Members' Social
DESCRIPTION:Midsummer Members’ Social\nSaturday\, August 10\, 2024\n2:30 – 4:30 pm\nFREE – RSVP appreciated (below) \nPlease join us for a Midsummer Members’ Social on August 10\, 2024. Plan to party and enjoy tasty bites\, beverages\, and live guitar music with Phil Richardson. Meet and greet with our current Artist-in-Residence Zoe Caron. \nMembership Committee will be reaching out via email\, asking for volunteers to help with the party in July – this is a fun and easy way to get to know fellow members!
URL:https://www.ohanloncenter.org/event/midsummer-members-social-2024/
LOCATION:O’Hanlon Center for the Arts
CATEGORIES:Community Events,Member Events,Special Events
ORGANIZER;CN="OHCA Staff":MAILTO:office@ohanloncenter.org
END:VEVENT
END:VCALENDAR