BEGIN:VCALENDAR
VERSION:2.0
PRODID:-//O&#039;Hanlon Center for the Arts - ECPv6.15.17.1//NONSGML v1.0//EN
CALSCALE:GREGORIAN
METHOD:PUBLISH
X-WR-CALNAME:O&#039;Hanlon Center for the Arts
X-ORIGINAL-URL:https://www.ohanloncenter.org
X-WR-CALDESC:Events for O&#039;Hanlon Center for the Arts
REFRESH-INTERVAL;VALUE=DURATION:PT1H
X-Robots-Tag:noindex
X-PUBLISHED-TTL:PT1H
BEGIN:VTIMEZONE
TZID:America/Los_Angeles
BEGIN:DAYLIGHT
TZOFFSETFROM:-0800
TZOFFSETTO:-0700
TZNAME:PDT
DTSTART:20220313T100000
END:DAYLIGHT
BEGIN:STANDARD
TZOFFSETFROM:-0700
TZOFFSETTO:-0800
TZNAME:PST
DTSTART:20221106T090000
END:STANDARD
BEGIN:DAYLIGHT
TZOFFSETFROM:-0800
TZOFFSETTO:-0700
TZNAME:PDT
DTSTART:20230312T100000
END:DAYLIGHT
BEGIN:STANDARD
TZOFFSETFROM:-0700
TZOFFSETTO:-0800
TZNAME:PST
DTSTART:20231105T090000
END:STANDARD
BEGIN:DAYLIGHT
TZOFFSETFROM:-0800
TZOFFSETTO:-0700
TZNAME:PDT
DTSTART:20240310T100000
END:DAYLIGHT
BEGIN:STANDARD
TZOFFSETFROM:-0700
TZOFFSETTO:-0800
TZNAME:PST
DTSTART:20241103T090000
END:STANDARD
END:VTIMEZONE
BEGIN:VEVENT
DTSTART;TZID=America/Los_Angeles:20230802T133000
DTEND;TZID=America/Los_Angeles:20230802T153000
DTSTAMP:20260422T063209
CREATED:20230525T224632Z
LAST-MODIFIED:20230526T173726Z
UID:20001457-1690983000-1690990200@www.ohanloncenter.org
SUMMARY:Writing from the Heart w/ Dr. PELLER MARION (on Zoom)
DESCRIPTION:An adventurous mix of writing\nand some art too \nThis FREE drop-in and on-going Zoom group requires no experience. All you need to bring is a notebook and a pen. Peller will bring the instruction\, inspiration\, safe space\, writing and art prompts. \n\nFind your writing voice.\nDive into your creativity.\nDeepen your writing practice.  \nShare your stories\, memories\, and inspirations.\nGet steady positive affirmation for your work in a  community of passionate writers.\n\n  \nFirst and and fourth Wednesdays each month\n1:30 p.m. to 3:30 p.m. \nContact facilitator Peller Marion via email to get the zoom link\npellermarion@gmail.com\nDonations accepted to O’Hanlon Center for the Arts\n616 Throckmorton Avenue • Mill Valley • CA • 94941 \n  \n\n  \nFacilitated by Dr. Peller Marion\, author of five books and exhibiting artist and psychologist.\nFor more workshops led by Peller: go to O’Hanlon Center for the Arts (www.ohanloncenter.org) or www.pellermarion.com\nemail facilitator with questions:pellermarion@gmail.com
URL:https://www.ohanloncenter.org/event/writing-from-the-heart-w-dr-peller-marion-on-zoom/2023-08-02/
LOCATION:O’Hanlon Center for the Arts
CATEGORIES:Literary Arts,Virtual
ORGANIZER;CN="OHCA Staff":MAILTO:office@ohanloncenter.org
END:VEVENT
BEGIN:VEVENT
DTSTART;TZID=America/Los_Angeles:20230803T140000
DTEND;TZID=America/Los_Angeles:20230803T153000
DTSTAMP:20260422T063209
CREATED:20230526T203634Z
LAST-MODIFIED:20230912T171530Z
UID:20001496-1691071200-1691076600@www.ohanloncenter.org
SUMMARY:O’Hanlon Poetry Collective on Zoom
DESCRIPTION:For O’Hanlon Member poets and poetry lovers. \nHosted by Suz Lipman and Noni Garner. \nA bi-monthly online gathering with OHCA resident poet Cruwys Brown and 2010-2012 Poet Laureate of Marin County\, CB Follett and others to explore\, read and discuss poetry. \nThis group is currently at maximum capacity of 12 active participants. If you’d like to get on the wait list please email office@ohanloncenter.org. \nOHCA Members only\n12 people max. $10 per session. \n  \nPayment for Current Poetry group members\n 
URL:https://www.ohanloncenter.org/event/ohanlon-poetry-collective-on-zoom/2023-08-03/
CATEGORIES:Literary Arts,Virtual
ORGANIZER;CN="OHCA Staff":MAILTO:office@ohanloncenter.org
END:VEVENT
BEGIN:VEVENT
DTSTART;TZID=America/Los_Angeles:20230817T140000
DTEND;TZID=America/Los_Angeles:20230817T153000
DTSTAMP:20260422T063209
CREATED:20230526T203634Z
LAST-MODIFIED:20230912T171530Z
UID:20001497-1692280800-1692286200@www.ohanloncenter.org
SUMMARY:O’Hanlon Poetry Collective on Zoom
DESCRIPTION:For O’Hanlon Member poets and poetry lovers. \nHosted by Suz Lipman and Noni Garner. \nA bi-monthly online gathering with OHCA resident poet Cruwys Brown and 2010-2012 Poet Laureate of Marin County\, CB Follett and others to explore\, read and discuss poetry. \nThis group is currently at maximum capacity of 12 active participants. If you’d like to get on the wait list please email office@ohanloncenter.org. \nOHCA Members only\n12 people max. $10 per session. \n  \nPayment for Current Poetry group members\n 
URL:https://www.ohanloncenter.org/event/ohanlon-poetry-collective-on-zoom/2023-08-17/
CATEGORIES:Literary Arts,Virtual
ORGANIZER;CN="OHCA Staff":MAILTO:office@ohanloncenter.org
END:VEVENT
BEGIN:VEVENT
DTSTART;TZID=America/Los_Angeles:20230819T143000
DTEND;TZID=America/Los_Angeles:20230819T154500
DTSTAMP:20260422T063209
CREATED:20230612T220120Z
LAST-MODIFIED:20230612T222747Z
UID:20001501-1692455400-1692459900@www.ohanloncenter.org
SUMMARY:Marin Poetry Center's Traveling Show at O'Hanlon
DESCRIPTION:MPC Traveling Show: Episode 9\n\nSATURDAY\, AUGUST 19th | 2:30-3:45 PM\nO’HANLON CENTER FOR THE ARTS \nHost: Mark Meierding\nReaders: Lonner Holden\, Maxine Flasher-Düzgünes\, Jan Seagrave\, Gabrielle Rilleau\, Elizabeth Underwood\, Gail Entrekin\, Laurel Feigenbaum \nAll Library events are free. Call 415-868-0252 or visit www.marinlibrary.org \nEvents sponsored or conducted by the County of Marin are held in accessible sites. For accommodation requests call 415-473-3220 (voice)\, CRS dial 711\, or email library@marincounty.org at least four work days in advance. Documents are available in alternative formats\, upon request.
URL:https://www.ohanloncenter.org/event/marin-poetry-centers-traveling-show-at-ohanlon/
LOCATION:O’Hanlon Center for the Arts
CATEGORIES:Community Events,Literary Arts,Performing Arts
END:VEVENT
BEGIN:VEVENT
DTSTART;TZID=America/Los_Angeles:20230823T133000
DTEND;TZID=America/Los_Angeles:20230823T153000
DTSTAMP:20260422T063209
CREATED:20230525T224632Z
LAST-MODIFIED:20230526T173726Z
UID:20001458-1692797400-1692804600@www.ohanloncenter.org
SUMMARY:Writing from the Heart w/ Dr. PELLER MARION (on Zoom)
DESCRIPTION:An adventurous mix of writing\nand some art too \nThis FREE drop-in and on-going Zoom group requires no experience. All you need to bring is a notebook and a pen. Peller will bring the instruction\, inspiration\, safe space\, writing and art prompts. \n\nFind your writing voice.\nDive into your creativity.\nDeepen your writing practice.  \nShare your stories\, memories\, and inspirations.\nGet steady positive affirmation for your work in a  community of passionate writers.\n\n  \nFirst and and fourth Wednesdays each month\n1:30 p.m. to 3:30 p.m. \nContact facilitator Peller Marion via email to get the zoom link\npellermarion@gmail.com\nDonations accepted to O’Hanlon Center for the Arts\n616 Throckmorton Avenue • Mill Valley • CA • 94941 \n  \n\n  \nFacilitated by Dr. Peller Marion\, author of five books and exhibiting artist and psychologist.\nFor more workshops led by Peller: go to O’Hanlon Center for the Arts (www.ohanloncenter.org) or www.pellermarion.com\nemail facilitator with questions:pellermarion@gmail.com
URL:https://www.ohanloncenter.org/event/writing-from-the-heart-w-dr-peller-marion-on-zoom/2023-08-23/
LOCATION:O’Hanlon Center for the Arts
CATEGORIES:Literary Arts,Virtual
ORGANIZER;CN="OHCA Staff":MAILTO:office@ohanloncenter.org
END:VEVENT
BEGIN:VEVENT
DTSTART;TZID=America/Los_Angeles:20230824T100000
DTEND;TZID=America/Los_Angeles:20230824T160000
DTSTAMP:20260422T063209
CREATED:20230810T214836Z
LAST-MODIFIED:20230810T215843Z
UID:20001650-1692871200-1692892800@www.ohanloncenter.org
SUMMARY:Creative Writing: Day-long Workshop w/ ABBY WASSERMAN
DESCRIPTION:  \nAbby Wasserman is offering a rare full day creative writing workshop. Immerse yourself in a supportive and creative writing environment. \n$75 or pre-paid class credit \nPlease Register and pay below \n(Please use the 2nd Free option only if you’re using pre-paid class credits.) \n\n  \nAbby is a journalist\, author\, and editor who has been leading OHCA writing groups for 15 years. \nabbywasserman.net
URL:https://www.ohanloncenter.org/event/creative-writing-day-long-workshop-w-abby-wasserman/
LOCATION:O’Hanlon Center for the Arts
CATEGORIES:Literary Arts
ORGANIZER;CN="OHCA Staff":MAILTO:office@ohanloncenter.org
END:VEVENT
BEGIN:VEVENT
DTSTART;TZID=America/Los_Angeles:20230831T140000
DTEND;TZID=America/Los_Angeles:20230831T153000
DTSTAMP:20260422T063209
CREATED:20230526T203634Z
LAST-MODIFIED:20230912T171530Z
UID:20001498-1693490400-1693495800@www.ohanloncenter.org
SUMMARY:O’Hanlon Poetry Collective on Zoom
DESCRIPTION:For O’Hanlon Member poets and poetry lovers. \nHosted by Suz Lipman and Noni Garner. \nA bi-monthly online gathering with OHCA resident poet Cruwys Brown and 2010-2012 Poet Laureate of Marin County\, CB Follett and others to explore\, read and discuss poetry. \nThis group is currently at maximum capacity of 12 active participants. If you’d like to get on the wait list please email office@ohanloncenter.org. \nOHCA Members only\n12 people max. $10 per session. \n  \nPayment for Current Poetry group members\n 
URL:https://www.ohanloncenter.org/event/ohanlon-poetry-collective-on-zoom/2023-08-31/
CATEGORIES:Literary Arts,Virtual
ORGANIZER;CN="OHCA Staff":MAILTO:office@ohanloncenter.org
END:VEVENT
END:VCALENDAR