BEGIN:VCALENDAR
VERSION:2.0
PRODID:-//O&#039;Hanlon Center for the Arts - ECPv6.15.17.1//NONSGML v1.0//EN
CALSCALE:GREGORIAN
METHOD:PUBLISH
X-WR-CALNAME:O&#039;Hanlon Center for the Arts
X-ORIGINAL-URL:https://www.ohanloncenter.org
X-WR-CALDESC:Events for O&#039;Hanlon Center for the Arts
REFRESH-INTERVAL;VALUE=DURATION:PT1H
X-Robots-Tag:noindex
X-PUBLISHED-TTL:PT1H
BEGIN:VTIMEZONE
TZID:America/Los_Angeles
BEGIN:DAYLIGHT
TZOFFSETFROM:-0800
TZOFFSETTO:-0700
TZNAME:PDT
DTSTART:20250309T100000
END:DAYLIGHT
BEGIN:STANDARD
TZOFFSETFROM:-0700
TZOFFSETTO:-0800
TZNAME:PST
DTSTART:20251102T090000
END:STANDARD
BEGIN:DAYLIGHT
TZOFFSETFROM:-0800
TZOFFSETTO:-0700
TZNAME:PDT
DTSTART:20260308T100000
END:DAYLIGHT
BEGIN:STANDARD
TZOFFSETFROM:-0700
TZOFFSETTO:-0800
TZNAME:PST
DTSTART:20261101T090000
END:STANDARD
BEGIN:DAYLIGHT
TZOFFSETFROM:-0800
TZOFFSETTO:-0700
TZNAME:PDT
DTSTART:20270314T100000
END:DAYLIGHT
BEGIN:STANDARD
TZOFFSETFROM:-0700
TZOFFSETTO:-0800
TZNAME:PST
DTSTART:20271107T090000
END:STANDARD
END:VTIMEZONE
BEGIN:VEVENT
DTSTART;TZID=America/Los_Angeles:20260210T150000
DTEND;TZID=America/Los_Angeles:20260210T170000
DTSTAMP:20260422T070115
CREATED:20260104T072615Z
LAST-MODIFIED:20260104T072934Z
UID:20004308-1770735600-1770742800@www.ohanloncenter.org
SUMMARY:O'Hanlon Stitching Circle - Facilitated by Sarah McNeil and Naomi Tamura - Feb 10
DESCRIPTION:O'Hanlon Stitching CircleFacilitated by Naomi Tamura and Sarah McNeil\n				\n			\n				\n				\n				\n				\n				When – Second and Fourth Tuesday of the Month 3-5pm in the Loft \nGather in the Loft and share your latest fiber project – be it crochet\, knitting\, embroidery\, mending or sewing. Sarah and Naomi enjoy the camaraderie of stitching with others. While we can support you in your endeavor\, we are not prepared to instruct\, just share in the journey with you.  \nO’Hanlon Members Free non-members drop in charge $10 \nParticipants must bring their own materials \nMax 8 participants\n			\n			\n				\n				\n				\n				\n				\n				\n				\n				\n				\n				\n			\n			\n				\n				\n				\n				\n				\n				\n				\n				\n				\n				\n			\n			\n				\n				\n				\n				\n			\n				\n				\n				\n				\n				\n				\n			\n				\n				\n				\n				\n			\n				\n				\n				\n				\n				\n				\n				\n				\n				\n				\n				\n			\n			\n				\n				\n				\n				\n				\n				\n				\n				\n				\n				About Sarah McNeil and Naomi Tamura \nSarah McNeil and Naomi Tamura have enjoyed creative partnership through two successful group crochet collaborations with fellow O’Hanlon members. Both projects were juried into the annual O’Hanlon Fiber Arts Show: “Coral Reef”\, exhibited in 2024 and “Wild Garden”\, exhibited in 2025.In addition to crochet\, Sarah enjoys embroidering on paper and fabric\, as well as creating textile collages inspired by traditional quilting. Naomi likes to try all fiber arts\, but mainly crochets\, knits and sews\, when she’s not drawing or painting. Drawing on their distinct passions and skills\, Sarah and Naomi each bring a unique and inspiring stamp to their sewing and stitching projects.
URL:https://www.ohanloncenter.org/event/ohanlon-stitching-circle-facilitated-by-sarah-mcneil-and-naomi-tamura-2/
LOCATION:O’Hanlon Center for the Arts
CATEGORIES:Community Events,Visual Arts
ORGANIZER;CN="OHCA Staff":MAILTO:office@ohanloncenter.org
END:VEVENT
BEGIN:VEVENT
DTSTART;TZID=America/Los_Angeles:20260214T190000
DTEND;TZID=America/Los_Angeles:20260214T203000
DTSTAMP:20260422T070115
CREATED:20251216T194126Z
LAST-MODIFIED:20260212T183930Z
UID:20004229-1771095600-1771101000@www.ohanloncenter.org
SUMMARY:SOLD OUT A Romantic\, intimate evening of Jazz with Deborah Winters
DESCRIPTION:Enjoy an unforgettable Valentine’s evening filled with radiant musical artistry of passionate\, soulful jazz ballads and more. This exclusive concert features the acclaimed Deborah Winters\, with Ken Cook on piano and John Hoy on guitar—a trio known for their lush\, intimate\, and beautifully expressive performances. \nA lifelong San Francisco Bay Area resident\, Deborah Winters brings a rich musical lineage to the stage. Raised in a household alive with Big Band jazz and classical dance\, her artistry was shaped early on by the sounds of Ella Fitzgerald\, Duke Ellington\, Stan Kenton\, and Woody Herman\, as well as the influence of singer-songwriters such as Joni Mitchell\, James Taylor\, and Rickie Lee Jones. Her background in theater and performance lends a storytelling depth to every song. \nOver the years\, Winters has performed throughout San Francisco and collaborated with some of the Bay Area’s most respected musicians\, including Tony Williams\, Bobby McFerrin and the Voicestra\, Frank Martin\, Akira Tana\, Tammy Hall and brazilian guitarist Jose Neto to name a few. Other successful collaborations include Noah Griffin and the Cole Porter Society\,  Grammy winning jazz pianist\, Laurence Hobgood (Kurt Elling) and world renown drummer Harold Jones (Tony Bennett\, Count Basie Orchestra). \n Joined by Ken Cook and John Hoy\, she creates an evening of jazz that is warm\, nuanced\, and deeply engaging—perfect for a Valentine’s celebration. \nSeating is limited to 50 guests.Ticket: $30 \nReserve your tickets today!
URL:https://www.ohanloncenter.org/event/a-jazzy-valentines-deborah-winters-in-concert/
LOCATION:O’Hanlon Center for the Arts
CATEGORIES:Community Events,Performing Arts,Special Events
ORGANIZER;CN="OHCA Staff":MAILTO:office@ohanloncenter.org
END:VEVENT
END:VCALENDAR