BEGIN:VCALENDAR
VERSION:2.0
PRODID:-//O&#039;Hanlon Center for the Arts - ECPv6.15.17.1//NONSGML v1.0//EN
CALSCALE:GREGORIAN
METHOD:PUBLISH
X-ORIGINAL-URL:https://www.ohanloncenter.org
X-WR-CALDESC:Events for O&#039;Hanlon Center for the Arts
REFRESH-INTERVAL;VALUE=DURATION:PT1H
X-Robots-Tag:noindex
X-PUBLISHED-TTL:PT1H
BEGIN:VTIMEZONE
TZID:America/Los_Angeles
BEGIN:DAYLIGHT
TZOFFSETFROM:-0800
TZOFFSETTO:-0700
TZNAME:PDT
DTSTART:20250309T100000
END:DAYLIGHT
BEGIN:STANDARD
TZOFFSETFROM:-0700
TZOFFSETTO:-0800
TZNAME:PST
DTSTART:20251102T090000
END:STANDARD
BEGIN:DAYLIGHT
TZOFFSETFROM:-0800
TZOFFSETTO:-0700
TZNAME:PDT
DTSTART:20260308T100000
END:DAYLIGHT
BEGIN:STANDARD
TZOFFSETFROM:-0700
TZOFFSETTO:-0800
TZNAME:PST
DTSTART:20261101T090000
END:STANDARD
BEGIN:DAYLIGHT
TZOFFSETFROM:-0800
TZOFFSETTO:-0700
TZNAME:PDT
DTSTART:20270314T100000
END:DAYLIGHT
BEGIN:STANDARD
TZOFFSETFROM:-0700
TZOFFSETTO:-0800
TZNAME:PST
DTSTART:20271107T090000
END:STANDARD
END:VTIMEZONE
BEGIN:VEVENT
DTSTART;TZID=America/Los_Angeles:20260303T143000
DTEND;TZID=America/Los_Angeles:20260303T153000
DTSTAMP:20260419T090752
CREATED:20260108T204625Z
LAST-MODIFIED:20260108T210234Z
UID:20004381-1772548200-1772551800@www.ohanloncenter.org
SUMMARY:Sing O - Facilitated by Christine Lemor
DESCRIPTION:Members: Free | Non-members: $10Payment at the doorAt the Loft Gallery
URL:https://www.ohanloncenter.org/event/sing-o-facilitated-by-christine-lemor/2026-03-03/
LOCATION:O’Hanlon Center for the Arts
CATEGORIES:Community Events,Performing Arts
ORGANIZER;CN="OHCA Staff":MAILTO:office@ohanloncenter.org
END:VEVENT
BEGIN:VEVENT
DTSTART;TZID=America/Los_Angeles:20260303T173000
DTEND;TZID=America/Los_Angeles:20260303T190000
DTSTAMP:20260419T090752
CREATED:20260220T210806Z
LAST-MODIFIED:20260220T210848Z
UID:20004441-1772559000-1772564400@www.ohanloncenter.org
SUMMARY:Bits & Pieces - First Tuesday Art Walk Reception
DESCRIPTION:Soft Opening for our March Gallery Exhibition: Bits and Pieces. 5:30 – 7 in the Gallery.
URL:https://www.ohanloncenter.org/event/bits-pieces-first-tuesday-art-walk-reception/
LOCATION:O’Hanlon Center for the Arts
CATEGORIES:Community Events,Special Events,Visual Arts
ORGANIZER;CN="OHCA Staff":MAILTO:office@ohanloncenter.org
END:VEVENT
BEGIN:VEVENT
DTSTART;TZID=America/Los_Angeles:20260303T173000
DTEND;TZID=America/Los_Angeles:20260303T193000
DTSTAMP:20260419T090752
CREATED:20260220T210337Z
LAST-MODIFIED:20260220T211021Z
UID:20004440-1772559000-1772566200@www.ohanloncenter.org
SUMMARY:LOFT Art Opening - Robb Havassy "Liquid Daydreams"
DESCRIPTION:Meet the artist  – Our March Loft Show:
URL:https://www.ohanloncenter.org/event/loft-art-opening-robb-havassy-liquid-daydreams/
LOCATION:O’Hanlon Center for the Arts
CATEGORIES:Community Events,Special Events,Visual Arts
ORGANIZER;CN="OHCA Staff":MAILTO:office@ohanloncenter.org
END:VEVENT
BEGIN:VEVENT
DTSTART;TZID=America/Los_Angeles:20260307T190000
DTEND;TZID=America/Los_Angeles:20260307T203000
DTSTAMP:20260419T090752
CREATED:20260130T215026Z
LAST-MODIFIED:20260306T181416Z
UID:20004426-1772910000-1772915400@www.ohanloncenter.org
SUMMARY:Sold Out: Mads Tolling & John R. Burr in Concert – Ramblin’
DESCRIPTION:Special Event Concert\n			\n				\n				\n				\n				\n				Mads Tolling & John R. Burr — Ramblin’ \nSOLD OUT \n  \nSaturday\, March 7 • 7:00 pm \nJoin us for a captivating evening of genre-crossing music with Mads Tolling and John R. Burr\, celebrating their acclaimed album Ramblin’ (Blue Coast Records). \nHaving first met in 2015\, Tolling and Burr bring a deep musical rapport to the stage. Their collaboration explores inventive arrangements drawn from across the musical landscape—featuring songs by Toto\, Lennon/McCartney\, Victor Young\, and John McLaughlin\, alongside selections from the Great American Songbook and original compositions by both artists. \nThis performance will include highlights from Ramblin’ as well as additional favorites\, offering a richly textured evening of artistry\, improvisation\, and musical storytelling. \nTickets: $30 \nMax. 50 guests \n			\n			\n				\n				\n				\n				\n				\n				\n				\n				\n				\n				\n			\n			\n				\n				\n				\n				\n			\n				\n				\n				\n				\n				\n				\n				\n				\n				\n				\n				About the Artists\n			\n				\n				\n				\n				\n				MADS TOLLINGMads Tolling is a two-time Grammy Award-Winning Violinist and the 2016 Winner of DownBeat Critics Rising Star Poll. As a former nine-year member of both Turtle Island Quartet and bassist Stanley Clarke’s band\, Mads has spent most of his professional life touring internationally. Mads has been featured on NPR’s Morning Edition\, and his recordings have received rave reviews in DownBeat Magazine\, Strings Magazine\, Washington Post and San Francisco Chronicle. He has performed with Chick Corea\, Ramsey Lewis\, Kenny Barron\, Paquito D’Rivera\, and he is a member of Bob Weir & Wolf Bros\, appearing on three album releases from Red Rocks and Radio City Music Hall. In 2015 Mads was commissioned to write a violin concerto by the late great conductor Michael Morgan\, which he performed with Oakland Symphony at the Paramount Theatre. madstolling.com \n			\n				\n				\n				\n				\n				JOHN R. BURR \nJohn R. Burr is one of the most in-demand pianists around the Bay Area. He has toured extensively with Maria Muldaur and The Alison Brown Quartet. Mads and John met back in 2015\, and in 2023 released their first album together\, Ramblin’ on Blue Coast Records. The CD\, which was recorded a day before the COVID lockdowns 2020\, features creative arrangements of songs from all corners of the music world\, including Toto\, Lennon/McCartney\, Victor Young and John McLaughlin.
URL:https://www.ohanloncenter.org/event/mads-tolling-john-r-burr-in-concert-ramblin/
LOCATION:O’Hanlon Center for the Arts
CATEGORIES:Community Events,Performing Arts,Special Events
ORGANIZER;CN="OHCA Staff":MAILTO:office@ohanloncenter.org
END:VEVENT
BEGIN:VEVENT
DTSTART;TZID=America/Los_Angeles:20260308T140000
DTEND;TZID=America/Los_Angeles:20260308T160000
DTSTAMP:20260419T090753
CREATED:20260220T211339Z
LAST-MODIFIED:20260220T213726Z
UID:20004442-1772978400-1772985600@www.ohanloncenter.org
SUMMARY:Artists Roundtable and Reception: Bits and Pieces
DESCRIPTION:All welcome to hear the artists and juror Donna Seager\, discuss the work in the March gallery show.
URL:https://www.ohanloncenter.org/event/artists-roundtable-and-reception-bits-and-pieces/
LOCATION:O’Hanlon Center for the Arts
CATEGORIES:Community Events,Visual Arts
ORGANIZER;CN="OHCA Staff":MAILTO:office@ohanloncenter.org
END:VEVENT
BEGIN:VEVENT
DTSTART;TZID=America/Los_Angeles:20260310T150000
DTEND;TZID=America/Los_Angeles:20260310T170000
DTSTAMP:20260419T090753
CREATED:20260104T073259Z
LAST-MODIFIED:20260104T073451Z
UID:20004309-1773154800-1773162000@www.ohanloncenter.org
SUMMARY:O'Hanlon Stitching Circle - Facilitated by Sarah McNeil and Naomi Tamura - Mar 10
DESCRIPTION:O'Hanlon Stitching CircleFacilitated by Naomi Tamura and Sarah McNeil\n				\n			\n				\n				\n				\n				\n				When – Second and Fourth Tuesday of the Month 3-5pm in the Loft \nGather in the Loft and share your latest fiber project – be it crochet\, knitting\, embroidery\, mending or sewing. Sarah and Naomi enjoy the camaraderie of stitching with others. While we can support you in your endeavor\, we are not prepared to instruct\, just share in the journey with you.  \nO’Hanlon Members Free non-members drop in charge $10 \nParticipants must bring their own materials \nMax 8 participants\n			\n			\n				\n				\n				\n				\n				\n				\n				\n				\n				\n				\n			\n			\n				\n				\n				\n				\n				\n				\n				\n				\n				\n				\n			\n			\n				\n				\n				\n				\n			\n				\n				\n				\n				\n				\n				\n			\n				\n				\n				\n				\n			\n				\n				\n				\n				\n				\n				\n				\n				\n				\n				\n				\n			\n			\n				\n				\n				\n				\n				\n				\n				\n				\n				\n				About Sarah McNeil and Naomi Tamura \nSarah McNeil and Naomi Tamura have enjoyed creative partnership through two successful group crochet collaborations with fellow O’Hanlon members. Both projects were juried into the annual O’Hanlon Fiber Arts Show: “Coral Reef”\, exhibited in 2024 and “Wild Garden”\, exhibited in 2025.In addition to crochet\, Sarah enjoys embroidering on paper and fabric\, as well as creating textile collages inspired by traditional quilting. Naomi likes to try all fiber arts\, but mainly crochets\, knits and sews\, when she’s not drawing or painting. Drawing on their distinct passions and skills\, Sarah and Naomi each bring a unique and inspiring stamp to their sewing and stitching projects.
URL:https://www.ohanloncenter.org/event/ohanlon-stitching-circle-facilitated-by-sarah-mcneil-and-naomi-tamura-mar-10/
LOCATION:O’Hanlon Center for the Arts
CATEGORIES:Community Events,Visual Arts
ORGANIZER;CN="OHCA Staff":MAILTO:office@ohanloncenter.org
END:VEVENT
BEGIN:VEVENT
DTSTART;TZID=America/Los_Angeles:20260311T150000
DTEND;TZID=America/Los_Angeles:20260311T170000
DTSTAMP:20260419T090753
CREATED:20260210T185750Z
LAST-MODIFIED:20260210T194819Z
UID:20004429-1773241200-1773248400@www.ohanloncenter.org
SUMMARY:Marin Poetry Center's Distinguished Visiting Poet Series 2026
DESCRIPTION:PLEASE RSVP
URL:https://www.ohanloncenter.org/event/marin-poetry-centers-distinguished-visiting-poet-series-2026/
LOCATION:O’Hanlon Center for the Arts
CATEGORIES:Community Events,Literary Arts
ORGANIZER;CN="OHCA Staff":MAILTO:office@ohanloncenter.org
END:VEVENT
BEGIN:VEVENT
DTSTART;TZID=America/Los_Angeles:20260314T190000
DTEND;TZID=America/Los_Angeles:20260314T203000
DTSTAMP:20260419T090753
CREATED:20260217T195844Z
LAST-MODIFIED:20260314T173341Z
UID:20004430-1773514800-1773520200@www.ohanloncenter.org
SUMMARY:CBD In Concert
DESCRIPTION:CBD is a four-piece folk band built on shared voices\, mutual respect\, and a deep love of song.  This Bay Area Supergroup brings together songwriters Claudia Russell and Christopher Smith\, multi-instrumentalist Bruce Kaplan\, and bassist Daniel Patrick. With two distinctive writers at its core and an eclectic sound that draws on Original tunes\, Americana\, and bluegrass traditions\, CBD plays with the ease of old friends and the spark of something new. Their performances are rich with harmony\, humor\, and engaging songs that linger long after the show. \nAdvanced ticket sale ends at 4:00 pm day of show. Tickets will be available at door starting at 6:30.
URL:https://www.ohanloncenter.org/event/cbd-in-concert/
CATEGORIES:Community Events,Performing Arts,Special Events
END:VEVENT
BEGIN:VEVENT
DTSTART;TZID=America/Los_Angeles:20260317T150000
DTEND;TZID=America/Los_Angeles:20260317T170000
DTSTAMP:20260419T090753
CREATED:20260108T200543Z
LAST-MODIFIED:20260305T210921Z
UID:20004377-1773759600-1773766800@www.ohanloncenter.org
SUMMARY:The Collage Club: Cut\, Paste\, Create Together! This week in the Gallery!
DESCRIPTION:The Collage Club: Cut\, Paste\, Create Together!Facilitated by Sarah McNeil\n				\n			\n				\n				\n				\n				\n				When – Third Tuesday of the Month 3-5pm. This week in the Gallery! \nThis is all about the joy of creating in community at O’Hanlon.  Gather your supplies (paper scraps\, magazines\, ideas) and join a friendly group of makers. It’s a casual\, no-stress space where we sit down\, share materials\, swap ideas\, and inspire one another. No experience necessary—just the desire to cut\, arrange\, and paste! \nO’Hanlon Members Free non-members drop in charge $10 \nIf you would like to make use of O’Hanlon supplies in the loft then we ask for a $5 materials fee \n			\n			\n				\n				\n				\n				\n				\n				\n				\n				\n				\n				\n			\n			\n				\n				\n				\n				\n				\n				\n				\n				\n				\n				\n			\n			\n				\n				\n				\n				\n			\n				\n				\n				\n				\n				\n				\n			\n				\n				\n				\n				\n			\n				\n				\n				\n				\n				\n				\n				\n				\n				\n				\n				\n			\n			\n				\n				\n				\n				\n				\n				\n				\n				\n				\n				About Sarah McNeil \nSarah is a mixed media collage artist. She lives in Mill Valley and is an active board member at O’Hanlon. You can explore some of her work here at www.sarahmcneilart.com
URL:https://www.ohanloncenter.org/event/the-collage-club-cut-paste-create-together-2/
LOCATION:O’Hanlon Center for the Arts
CATEGORIES:Community Events,Visual Arts
ORGANIZER;CN="OHCA Staff":MAILTO:office@ohanloncenter.org
END:VEVENT
BEGIN:VEVENT
DTSTART;TZID=America/Los_Angeles:20260324T150000
DTEND;TZID=America/Los_Angeles:20260324T170000
DTSTAMP:20260419T090753
CREATED:20260113T200829Z
LAST-MODIFIED:20260113T202208Z
UID:20004402-1774364400-1774371600@www.ohanloncenter.org
SUMMARY:O'Hanlon Stitching Circle - Facilitated by Sarah McNeil and Naomi Tamura - March 24
DESCRIPTION:O'Hanlon Stitching CircleFacilitated by Naomi Tamura and Sarah McNeil\n				\n			\n				\n				\n				\n				\n				When – Second and Fourth Tuesday of the Month 3-5pm in the Loft \nGather in the Loft and share your latest fiber project – be it crochet\, knitting\, embroidery\, mending or sewing. Sarah and Naomi enjoy the camaraderie of stitching with others. While we can support you in your endeavor\, we are not prepared to instruct\, just share in the journey with you.  \nO’Hanlon Members Free non-members drop in charge $10 \nParticipants must bring their own materials \nMax 8 participants\n			\n			\n				\n				\n				\n				\n				\n				\n				\n				\n				\n				\n			\n			\n				\n				\n				\n				\n				\n				\n				\n				\n				\n				\n			\n			\n				\n				\n				\n				\n			\n				\n				\n				\n				\n				\n				\n			\n				\n				\n				\n				\n			\n				\n				\n				\n				\n				\n				\n				\n				\n				\n				\n				\n			\n			\n				\n				\n				\n				\n				\n				\n				\n				\n				\n				About Sarah McNeil and Naomi Tamura \nSarah McNeil and Naomi Tamura have enjoyed creative partnership through two successful group crochet collaborations with fellow O’Hanlon members. Both projects were juried into the annual O’Hanlon Fiber Arts Show: “Coral Reef”\, exhibited in 2024 and “Wild Garden”\, exhibited in 2025.In addition to crochet\, Sarah enjoys embroidering on paper and fabric\, as well as creating textile collages inspired by traditional quilting. Naomi likes to try all fiber arts\, but mainly crochets\, knits and sews\, when she’s not drawing or painting. Drawing on their distinct passions and skills\, Sarah and Naomi each bring a unique and inspiring stamp to their sewing and stitching projects.
URL:https://www.ohanloncenter.org/event/ohanlon-stitching-circle-facilitated-by-sarah-mcneil-and-naomi-tamura-10/
LOCATION:O’Hanlon Center for the Arts
CATEGORIES:Community Events,Visual Arts
ORGANIZER;CN="OHCA Staff":MAILTO:office@ohanloncenter.org
END:VEVENT
BEGIN:VEVENT
DTSTART;TZID=America/Los_Angeles:20260329T130000
DTEND;TZID=America/Los_Angeles:20260329T150000
DTSTAMP:20260419T090753
CREATED:20251209T194042Z
LAST-MODIFIED:20260317T195259Z
UID:20003813-1774789200-1774796400@www.ohanloncenter.org
SUMMARY:Sunday Family Art Day
DESCRIPTION:A monthly child-led art workshop with seasonal and nature themes layered into the activity \nwith Catherine Taylor Tai\nThe O’Hanlon Loft is a space for children (and grownups) to come get messy\, try new things and have fun. We will experiment with paint\, crayons\, glue\, glitter and found objects depending on the season and age of participants.  \nWorkshop will take place in the O’Hanlon Loft Studio. \nLast Sunday of the month\, 1-3 pm. \n$60 per family Plus $10 materials to be paid to facilitator day of event \n  \n  \n\nABOUT CATHERINE \nCatherine Taylor Tai is an artist\, mother and health coach. She has enjoyed raising her three children around the world from NYC to Singapore and now Northern California.  \nShe is an advocate of forest school and the arts and loves when the two meet.  \n \n  \n  \n  \n  \n  \n  \n  \n\n  \n			\n				\n\n	\n	\n			\n\n\n	\n		Sunday Family Art Day$60.00 \n\n	\n	\n		\n		\n		Sunday Family Art Day quantity\n	\n	\n\n		Add to cart\n\n			\n\n	\n\n\n	\n	\n		SKU: sunday-family-art\n\n	\n	Category: Youth and Family\n	\n	\n\n	\n\n	\n	\n		\n							\n					\n						Description					\n				\n					\n					\n				\n	Description\n\nA monthly child-led art workshop with seasonal and nature themes layered into the activity.
URL:https://www.ohanloncenter.org/event/sunday-family-art-day/2026-03-29/
LOCATION:O’Hanlon Center for the Arts
CATEGORIES:Community Events,Visual Arts,Youth & Family
ORGANIZER;CN="OHCA Staff":MAILTO:office@ohanloncenter.org
END:VEVENT
END:VCALENDAR