BEGIN:VCALENDAR
VERSION:2.0
PRODID:-//O&#039;Hanlon Center for the Arts - ECPv6.15.17.1//NONSGML v1.0//EN
CALSCALE:GREGORIAN
METHOD:PUBLISH
X-ORIGINAL-URL:https://www.ohanloncenter.org
X-WR-CALDESC:Events for O&#039;Hanlon Center for the Arts
REFRESH-INTERVAL;VALUE=DURATION:PT1H
X-Robots-Tag:noindex
X-PUBLISHED-TTL:PT1H
BEGIN:VTIMEZONE
TZID:America/Los_Angeles
BEGIN:DAYLIGHT
TZOFFSETFROM:-0800
TZOFFSETTO:-0700
TZNAME:PDT
DTSTART:20250309T100000
END:DAYLIGHT
BEGIN:STANDARD
TZOFFSETFROM:-0700
TZOFFSETTO:-0800
TZNAME:PST
DTSTART:20251102T090000
END:STANDARD
BEGIN:DAYLIGHT
TZOFFSETFROM:-0800
TZOFFSETTO:-0700
TZNAME:PDT
DTSTART:20260308T100000
END:DAYLIGHT
BEGIN:STANDARD
TZOFFSETFROM:-0700
TZOFFSETTO:-0800
TZNAME:PST
DTSTART:20261101T090000
END:STANDARD
BEGIN:DAYLIGHT
TZOFFSETFROM:-0800
TZOFFSETTO:-0700
TZNAME:PDT
DTSTART:20270314T100000
END:DAYLIGHT
BEGIN:STANDARD
TZOFFSETFROM:-0700
TZOFFSETTO:-0800
TZNAME:PST
DTSTART:20271107T090000
END:STANDARD
END:VTIMEZONE
BEGIN:VEVENT
DTSTART;TZID=America/Los_Angeles:20260110T160000
DTEND;TZID=America/Los_Angeles:20260110T180000
DTSTAMP:20260419T121804
CREATED:20251211T204919Z
LAST-MODIFIED:20260103T185555Z
UID:20003835-1768060800-1768068000@www.ohanloncenter.org
SUMMARY:OHCA'S Member Show - Art Talk & Reception
DESCRIPTION:ANNUAL MEMBERS’ SHOW 2026\nJanuary 6 – 26\, 2026 \nJoin us for theArtist Talk & ReceptionSaturday\, January 10 • 4–6 pmEveryone welcome — walk in and enjoy!
URL:https://www.ohanloncenter.org/event/ohcas-member-show-art-talk-reception/
LOCATION:O’Hanlon Center for the Arts
CATEGORIES:Community Events,Special Events,Visual Arts
ORGANIZER;CN="OHCA Staff":MAILTO:office@ohanloncenter.org
END:VEVENT
BEGIN:VEVENT
DTSTART;TZID=America/Los_Angeles:20260113T150000
DTEND;TZID=America/Los_Angeles:20260113T170000
DTSTAMP:20260419T121804
CREATED:20260104T071910Z
LAST-MODIFIED:20260113T204608Z
UID:20004307-1768316400-1768323600@www.ohanloncenter.org
SUMMARY:O'Hanlon Stitching Circle - Facilitated by Sarah McNeil and Naomi Tamura
DESCRIPTION:O'Hanlon Stitching CircleFacilitated by Naomi Tamura and Sarah McNeil\n				\n			\n				\n				\n				\n				\n				When – Second and Fourth Tuesday of the Month 3-5pm in the Loft \nGather in the Loft and share your latest fiber project – be it crochet\, knitting\, embroidery\, mending or sewing. Sarah and Naomi enjoy the camaraderie of stitching with others. While we can support you in your endeavor\, we are not prepared to instruct\, just share in the journey with you.  \nO’Hanlon Members Free non-members drop in charge $10 \nParticipants must bring their own materials \nMax 8 participants\n			\n			\n				\n				\n				\n				\n				\n				\n				\n				\n				\n				\n			\n			\n				\n				\n				\n				\n				\n				\n				\n				\n				\n				\n			\n			\n				\n				\n				\n				\n			\n				\n				\n				\n				\n				\n				\n			\n				\n				\n				\n				\n			\n				\n				\n				\n				\n				\n				\n				\n				\n				\n				\n				\n			\n			\n				\n				\n				\n				\n				\n				\n				\n				\n				\n				About Sarah McNeil and Naomi Tamura \nSarah McNeil and Naomi Tamura have enjoyed creative partnership through two successful group crochet collaborations with fellow O’Hanlon members. Both projects were juried into the annual O’Hanlon Fiber Arts Show: “Coral Reef”\, exhibited in 2024 and “Wild Garden”\, exhibited in 2025.In addition to crochet\, Sarah enjoys embroidering on paper and fabric\, as well as creating textile collages inspired by traditional quilting. Naomi likes to try all fiber arts\, but mainly crochets\, knits and sews\, when she’s not drawing or painting. Drawing on their distinct passions and skills\, Sarah and Naomi each bring a unique and inspiring stamp to their sewing and stitching projects.
URL:https://www.ohanloncenter.org/event/ohanlon-stitching-circle-facilitated-by-sarah-mcneil-and-naomi-tamura/
LOCATION:O’Hanlon Center for the Arts
CATEGORIES:Community Events,Visual Arts
ORGANIZER;CN="OHCA Staff":MAILTO:office@ohanloncenter.org
END:VEVENT
BEGIN:VEVENT
DTSTART;TZID=America/Los_Angeles:20260118T190000
DTEND;TZID=America/Los_Angeles:20260118T213000
DTSTAMP:20260419T121804
CREATED:20251204T210335Z
LAST-MODIFIED:20260108T234439Z
UID:20003803-1768762800-1768771800@www.ohanloncenter.org
SUMMARY:The Art of Healing - A Benefit Concert in Honor of Oshalla Marcus at Throckmorton Theatre
DESCRIPTION:The Art of Healing - A Benefit Concert in Honor of Oshalla Marcus3 Marin non-profit arts organizations:  Artworks Downtown\, O’Hanlon Center for the Arts and Throckmorton Theatre  have come together to support another Community Arts Leader in need.\n				\n			\n			\n				\n				\n				\n				\n			\n				\n				\n				\n				\n				\n				\n				\n				\n				\n				\n				\n			\n			\n				\n				\n				\n				\n				\n				\n				\n				\n				\n				The Art of Healing\, a powerful benefit concert dedicated to supporting the recovery of Oshalla Marcus\, Executive Director of the Marin City Arts & Culture Center\, who is courageously healing from a life-threatening stroke. This special evening is designed as a musical journey of healing\, featuring artists whose work centers on restoration\, resilience\, and the transformative power of sound. Every performance of the evening is a tribute to the power of music to restore\, uplift\, and reconnect us to one another. \nThese amazing musicians have donated their time and talent! \nMUSICAL LINE UP \n\nSTEVEN HALPERN — globally recognized pioneer of modern sound healing. Listen on YouTube\nJAMES HENRY AND THE HANDS ON FIRE BAND — Billy Johnson\, Drums; Ben Flint and Bob Crawford\, Keys; Charles Spikes\, Guitar; Eddie M.\, Sax; James Henry\, Percussion; Victor Little\, Bass\nCRAIG JESSUP — celebrated Cabaret Performer and Musical Storyteller\nPIWAI AND THE BASSMINT QUARTET — Piwai Vocalist\, Mbira Artist\, and Healing Music Practitioner with:Joan Torres\, Double Fret Bass; Autmn Salowah\, Standup Bass; Mustapha Dondadha\, Drums; Simon Mulwa\, Guitar\nGARY YOST — Handpan rhythms and ethereal melodies\n\nLet’s come together for an unforgettable night of inspiration\, honoring Oshalla’s leadership and raising essential funds for her long-term rehabilitation and therapeutic care. \nEvent will be held at Throckmorton Theatre 142 Throckmorton Avenue\, Mill Valley \n\n			\n				GET YOUR TICKETS HERE\n			\n			\n				\n				\n				\n				\n			\n				\n				\n				\n				\n				\n				\n				\n				\n				\n				\n				MUSIC LINEUP\n			\n			\n				\n				\n				\n				\n			\n				\n				\n				\n				\n				\n				\n				\n				\n				\n				\n				\n			\n				\n				\n				\n				\n				STEVEN HALPERN\nPioneer of modern sound healing \n			\n			\n				\n				\n				\n				\n			\n				\n				\n				\n				\n				\n				\n				\n				\n				\n				\n				\n			\n				\n				\n				\n				\n				JAMES HENRY AND THE HANDS ON FIRE BAND\nWorld Fusion Afro Beat \n			\n			\n				\n				\n				\n				\n			\n				\n				\n				\n				\n				\n				\n				\n				\n				\n				\n				\n			\n				\n				\n				\n				\n				 CRAIG JESSUP\nCelebrated Cabaret Performer and Musical Storyteller \n			\n			\n				\n				\n				\n				\n			\n				\n				\n				\n				\n				\n				\n				\n				\n				\n				\n				\n			\n				\n				\n				\n				\n				 PIWAI AND THE BASSMINT QUARTET \n  \n			\n			\n				\n				\n				\n				\n			\n				\n				\n				\n				\n				\n				\n				\n				\n				\n				\n				\n			\n				\n				\n				\n				\n				GARY YOSTHandpan rhythms and ethereal melodies \n 
URL:https://www.ohanloncenter.org/event/the-art-of-healing-honoring-oshalla-marcus-at-throckmorton-theatre/
LOCATION:O’Hanlon Center for the Arts
CATEGORIES:Community Events,Performing Arts,Special Events
ORGANIZER;CN="OHCA Staff":MAILTO:office@ohanloncenter.org
END:VEVENT
BEGIN:VEVENT
DTSTART;TZID=America/Los_Angeles:20260120T150000
DTEND;TZID=America/Los_Angeles:20260120T170000
DTSTAMP:20260419T121804
CREATED:20260104T080031Z
LAST-MODIFIED:20260203T012208Z
UID:20004319-1768921200-1768928400@www.ohanloncenter.org
SUMMARY:The Collage Club: Cut\, Paste\, Create Together!
DESCRIPTION:The Collage Club: Cut\, Paste\, Create Together!Facilitated by Sarah McNeil\n				\n			\n				\n				\n				\n				\n				When – Third Tuesday of the Month 3-5pm in the Loft \nThis is all about the joy of creating in community at O’Hanlon.  Gather your supplies (paper scraps\, magazines\, ideas) and join a friendly group of makers. It’s a casual\, no-stress space where we sit down\, share materials\, swap ideas\, and inspire one another. No experience necessary—just the desire to cut\, arrange\, and paste! \nO’Hanlon Members Free non-members drop in charge $10 \nIf you would like to make use of O’Hanlon supplies in the loft then we ask for a $5 materials fee \n			\n			\n				\n				\n				\n				\n				\n				\n				\n				\n				\n				\n			\n			\n				\n				\n				\n				\n				\n				\n				\n				\n				\n				\n			\n			\n				\n				\n				\n				\n			\n				\n				\n				\n				\n				\n				\n			\n				\n				\n				\n				\n			\n				\n				\n				\n				\n				\n				\n				\n				\n				\n				\n				\n			\n			\n				\n				\n				\n				\n				\n				\n				\n				\n				\n				About Sarah McNeil \nSarah is a mixed media collage artist. She lives in Mill Valley and is an active board member at O’Hanlon. You can explore some of her work here at www.sarahmcneilart.com \n 
URL:https://www.ohanloncenter.org/event/the-collage-club-cut-paste-create-together/
LOCATION:O’Hanlon Center for the Arts
CATEGORIES:Community Events,Visual Arts
ORGANIZER;CN="OHCA Staff":MAILTO:office@ohanloncenter.org
END:VEVENT
BEGIN:VEVENT
DTSTART;TZID=America/Los_Angeles:20260125T130000
DTEND;TZID=America/Los_Angeles:20260125T150000
DTSTAMP:20260419T121804
CREATED:20251209T194930Z
LAST-MODIFIED:20251209T194933Z
UID:20003811-1769346000-1769353200@www.ohanloncenter.org
SUMMARY:Sunday Family Art Day
DESCRIPTION:A monthly child-led art workshop with seasonal and nature themes layered into the activity \nwith Catherine Taylor Tai\nThe O’Hanlon Loft is a space for children (and grownups) to come get messy\, try new things and have fun. We will experiment with paint\, crayons\, glue\, glitter and found objects depending on the season and age of participants.  \nWorkshop will take place in the O’Hanlon Loft Studio. \nLast Sunday of the month\, 1-3 pm. \n$40 per family Plus $5 materials to be paid to facilitator day of event \n  \n  \n\nABOUT CATHERINE \nCatherine Taylor Tai is an artist\, mother and health coach. She has enjoyed raising her three children around the world from NYC to Singapore and now Northern California.  \nShe is an advocate of forest school and the arts and loves when the two meet.  \n \n  \n  \n  \n  \n  \n  \n  \n\n  \n			\n				\n\n	\n	\n			\n\n\n	\n		Sunday Family Art Day$60.00 \n\n	\n	\n		\n		\n		Sunday Family Art Day quantity\n	\n	\n\n		Add to cart\n\n			\n\n	\n\n\n	\n	\n		SKU: sunday-family-art\n\n	\n	Category: Youth and Family\n	\n	\n\n	\n\n	\n	\n		\n							\n					\n						Description					\n				\n					\n					\n				\n	Description\n\nA monthly child-led art workshop with seasonal and nature themes layered into the activity.
URL:https://www.ohanloncenter.org/event/sunday-family-art-day-2/
LOCATION:O’Hanlon Center for the Arts
CATEGORIES:Community Events,Visual Arts,Youth & Family
ORGANIZER;CN="OHCA Staff":MAILTO:office@ohanloncenter.org
END:VEVENT
BEGIN:VEVENT
DTSTART;TZID=America/Los_Angeles:20260127T150000
DTEND;TZID=America/Los_Angeles:20260127T170000
DTSTAMP:20260419T121804
CREATED:20260113T200117Z
LAST-MODIFIED:20260113T203835Z
UID:20004400-1769526000-1769533200@www.ohanloncenter.org
SUMMARY:O'Hanlon Stitching Circle - Facilitated by Sarah McNeil and Naomi Tamura - January 27
DESCRIPTION:O'Hanlon Stitching CircleFacilitated by Naomi Tamura and Sarah McNeil\n				\n			\n				\n				\n				\n				\n				When – Second and Fourth Tuesday of the Month 3-5pm in the Loft \nGather in the Loft and share your latest fiber project – be it crochet\, knitting\, embroidery\, mending or sewing. Sarah and Naomi enjoy the camaraderie of stitching with others. While we can support you in your endeavor\, we are not prepared to instruct\, just share in the journey with you.  \nO’Hanlon Members Free non-members drop in charge $10 \nParticipants must bring their own materials \nMax 8 participants\n			\n			\n				\n				\n				\n				\n				\n				\n				\n				\n				\n				\n			\n			\n				\n				\n				\n				\n				\n				\n				\n				\n				\n				\n			\n			\n				\n				\n				\n				\n			\n				\n				\n				\n				\n				\n				\n			\n				\n				\n				\n				\n			\n				\n				\n				\n				\n				\n				\n				\n				\n				\n				\n				\n			\n			\n				\n				\n				\n				\n				\n				\n				\n				\n				\n				About Sarah McNeil and Naomi Tamura \nSarah McNeil and Naomi Tamura have enjoyed creative partnership through two successful group crochet collaborations with fellow O’Hanlon members. Both projects were juried into the annual O’Hanlon Fiber Arts Show: “Coral Reef”\, exhibited in 2024 and “Wild Garden”\, exhibited in 2025.In addition to crochet\, Sarah enjoys embroidering on paper and fabric\, as well as creating textile collages inspired by traditional quilting. Naomi likes to try all fiber arts\, but mainly crochets\, knits and sews\, when she’s not drawing or painting. Drawing on their distinct passions and skills\, Sarah and Naomi each bring a unique and inspiring stamp to their sewing and stitching projects.
URL:https://www.ohanloncenter.org/event/ohanlon-stitching-circle-facilitated-by-sarah-mcneil-and-naomi-tamura-7/
LOCATION:O’Hanlon Center for the Arts
CATEGORIES:Community Events,Visual Arts
ORGANIZER;CN="OHCA Staff":MAILTO:office@ohanloncenter.org
END:VEVENT
END:VCALENDAR