BEGIN:VCALENDAR
VERSION:2.0
PRODID:-//O&#039;Hanlon Center for the Arts - ECPv6.15.17.1//NONSGML v1.0//EN
CALSCALE:GREGORIAN
METHOD:PUBLISH
X-ORIGINAL-URL:https://www.ohanloncenter.org
X-WR-CALDESC:Events for O&#039;Hanlon Center for the Arts
REFRESH-INTERVAL;VALUE=DURATION:PT1H
X-Robots-Tag:noindex
X-PUBLISHED-TTL:PT1H
BEGIN:VTIMEZONE
TZID:America/Los_Angeles
BEGIN:DAYLIGHT
TZOFFSETFROM:-0800
TZOFFSETTO:-0700
TZNAME:PDT
DTSTART:20240310T100000
END:DAYLIGHT
BEGIN:STANDARD
TZOFFSETFROM:-0700
TZOFFSETTO:-0800
TZNAME:PST
DTSTART:20241103T090000
END:STANDARD
BEGIN:DAYLIGHT
TZOFFSETFROM:-0800
TZOFFSETTO:-0700
TZNAME:PDT
DTSTART:20250309T100000
END:DAYLIGHT
BEGIN:STANDARD
TZOFFSETFROM:-0700
TZOFFSETTO:-0800
TZNAME:PST
DTSTART:20251102T090000
END:STANDARD
BEGIN:DAYLIGHT
TZOFFSETFROM:-0800
TZOFFSETTO:-0700
TZNAME:PDT
DTSTART:20260308T100000
END:DAYLIGHT
BEGIN:STANDARD
TZOFFSETFROM:-0700
TZOFFSETTO:-0800
TZNAME:PST
DTSTART:20261101T090000
END:STANDARD
END:VTIMEZONE
BEGIN:VEVENT
DTSTART;TZID=America/Los_Angeles:20251101T190000
DTEND;TZID=America/Los_Angeles:20251101T210000
DTSTAMP:20260419T153700
CREATED:20251004T184823Z
LAST-MODIFIED:20251027T221337Z
UID:20003404-1762023600-1762030800@www.ohanloncenter.org
SUMMARY:C.B.D. in Concert
DESCRIPTION:C.B.D. – Original Music with Deep Roots \nC.B.D. is a new collaboration featuring Christopher Smith\, Bruce Kaplan\, Daniel Patrick\, and Claudia Russell—four musicians with deep roots in the Bay Area music scene. Together\, they create a sound that is both fresh and steeped in tradition\, blending original songwriting\, eclectic Americana\, and the lyrical spirit of British folk music. \n \n\nChristopher Smith\, a gifted songwriter and guitarist\, is known for his evocative melodies and poetic lyricism.\nBruce Kaplan\, a versatile instrumentalist\, adds texture and color on mandolin\, guitar\, and vocals\, drawing on a lifetime of playing roots and folk music.\nDaniel Patrick\, bassist and vocalist\, provides the rhythmic foundation while contributing to the band’s vocal blend and arranging finesse.\nClaudia Russell\, an acclaimed singer and songwriter\, brings warmth and clarity with her expressive vocals and strong original material.\n\nBRING A BEVERAGE TO SHARE!
URL:https://www.ohanloncenter.org/event/c-b-d-in-concert/
LOCATION:O’Hanlon Center for the Arts
CATEGORIES:Community Events,Performing Arts,Special Events
ORGANIZER;CN="OHCA Staff":MAILTO:office@ohanloncenter.org
END:VEVENT
BEGIN:VEVENT
DTSTART;TZID=America/Los_Angeles:20251102T140000
DTEND;TZID=America/Los_Angeles:20251102T170000
DTSTAMP:20260419T153700
CREATED:20250930T190833Z
LAST-MODIFIED:20251009T192913Z
UID:20003402-1762092000-1762102800@www.ohanloncenter.org
SUMMARY:Day of the Dead / Día de los Muertos Altar
DESCRIPTION:Day of the Dead / Día de los Muertos AltarJoin us for our 4th annual community altar\, a grand tradition of remembrance and community connection. From October 29th through 31st\, 12 – 2 pm\, you are invited to bring photos\, keepsakes\, or small mementos to honor our loved ones and all those who have gone before us. Please drop off contributions in the Loft at OHCA to be placed on the altar as part of this collective celebration. If you want them returned\, label them with your name and number. \nThe altar will remain on view throughout the month of November\, with a special opening reception on November 2 from 2–5 pm. Come enjoy traditional food and drink\, music\, and moments of storytelling where we can share about our ancestors and the paths they opened for us. \nThis beautiful tradition is not only about honoring those who came before—it is also a wonderful celebration of life itself\, a reminder of the beauty of our days\, and an invitation to reflect with gratitude and heart.  \n \nIf you have questions please contact Laura: Lauradiecks@mac.com\n \nPlease RSVO below.\n			\n			\n				\n				\n				\n				\n			\n				\n				\n				\n				\n				\n				\n				\n				\n				\n				\n				Altar del Día de Muertos.\n\n Acompáñenos a nuestro 4° altar del Día de Muertos \, una gran tradición y conexión comunitaria. Del 29 al 31 de octubre\, 12 – 2 pm\, le invitamos a traer fotos\, recuerdos o pequeños artículos ara honrar a nuestros seres queridos y a todos aquellos que ya no están con nosotros . Favor de dejar sus contribuciones en el Loft de OHCA para que se coloquen en el altar como parte de éste homenaje. Si desea que se le devuelvan\,  pro favor etiquételas con su nombre y número de teléfono. \n\n\nLa ofrenda de día de muertos permanecerá en exhibición durante todo el mes de noviembre. Tendremos  una recepción especial el 2 de noviembre de 2 a 5 p. m. Venga a disfrutar de comida y bebida tradicionales\, música y la oportunidad de compartir memorias sobre nuestros antepasados ​​y los caminos que nos abrieron. \n\nEsta hermosa tradición no solo se trata de honrar a quienes nos precedieron\, sino también es una maravillosa celebración de la vida misma\, un recordatorio de la belleza de nuestros días y una invitación a reflexionar con gratitud y corazón.
URL:https://www.ohanloncenter.org/event/day-of-the-dead-dia-de-los-muertos-altar/
LOCATION:O’Hanlon Center for the Arts
CATEGORIES:Community Events,Mind,Special Events,Spirit
ORGANIZER;CN="OHCA Staff":MAILTO:office@ohanloncenter.org
END:VEVENT
BEGIN:VEVENT
DTSTART;TZID=America/Los_Angeles:20251104T173000
DTEND;TZID=America/Los_Angeles:20251104T190000
DTSTAMP:20260419T153700
CREATED:20251027T222430Z
LAST-MODIFIED:20251027T222527Z
UID:20003488-1762277400-1762282800@www.ohanloncenter.org
SUMMARY:First Tuesday Art Walk and Fantastic Fiber's Last Reception
DESCRIPTION:Last chance to see the Fiber show in the evening.  Show closes Nov 13.’\nImage below: Wild Garden by Naomi Tamura\, J’Amy Tarr\, Jackie La Lanne and Sarah McNeil.
URL:https://www.ohanloncenter.org/event/first-tuesday-art-walk-and-fantastic-fibers-last-reception/
LOCATION:O’Hanlon Center for the Arts
CATEGORIES:Community Events,Visual Arts
ORGANIZER;CN="OHCA Staff":MAILTO:office@ohanloncenter.org
END:VEVENT
BEGIN:VEVENT
DTSTART;TZID=America/Los_Angeles:20251109T150000
DTEND;TZID=America/Los_Angeles:20251109T163000
DTSTAMP:20260419T153700
CREATED:20250909T195517Z
LAST-MODIFIED:20251007T014456Z
UID:20003399-1762700400-1762705800@www.ohanloncenter.org
SUMMARY:Maria Muldaur in Concert with Neil Fontano
DESCRIPTION:Maria Muldaur in Concert with Neil Fontano\nSunday\, November 9\, 2025Doors 2:30 pm | Show 3:00 pmO’Hanlon Center for the ArtsTickets: $30 | Seating limited to 55 \nO’Hanlon Center is thrilled to welcome local music legend Maria Muldaur for an intimate acoustic concert in our gallery. She’ll be joined by brilliant young piano “hotshot” Neil Fontano for an afternoon of unforgettable music. \nThe concert celebrates the release of Maria’s critically acclaimed 44th album\, One Hour Mama: The Blues of Victoria Spivey\, now topping the Blues Charts. In addition\, Maria and Neil will treat us to a rollicking repertoire of Naughty Bawdy Blues and Swingin’ Syncopated Jazz from the 1920s and ’30s. \nIn Maria’s words: \n“Neil has mastered stride piano & other piano styles of that era with amazing skill\, flair & creativity\, swings his ass off\, & it’s an absolute joy to perform this music with him. This will be a rare & special musical event you won’t want to miss!” \nSeating is limited — reserve your tickets early! \n			\n				\n				\n				\n				\n				About Maria Muldaur: \nMaria Muldaur is best known world-wide for her 1973 mega-hit “Midnight at the Oasis\,” which received several Grammy nominations\, and enshrined her forever in the hearts of Baby Boomers everywhere; but despite her considerable pop music success\, her 60-year career could best be described as a long and adventurous odyssey through the various forms of American Roots Music. \nDuring the Folk Revival of the early ’60s\, she began exploring and singing early Blues\, Bluegrass and Appalachian “Old Timey” Music\, beginning her recording career in 1963 with the Even Dozen Jug Band\, and shortly thereafter joining the very popular Jim Kweskin Jug Band\, touring and recording with them throughout the ’60s. \nIn the 50 years since “Midnight at the Oasis” Maria has toured extensively worldwide and has recorded 44 solo albums covering all kinds of American Roots Music\, including Blues\, Gospel\, R&B\, Jug Band\, Jazz and Big Band (not to mention several award-winning children’s albums). She has now settled comfortably into her favorite idiom\, the Blues. Often joining forces with some of the top names in the business\, Maria has recorded and produced on-average an album per year\, several of which have been nominated for Grammys and other awards.
URL:https://www.ohanloncenter.org/event/maria-muldaur-in-concert-with-neil-fontano/
LOCATION:O’Hanlon Center for the Arts
CATEGORIES:Community Events,Performing Arts,Special Events
ATTACH;FMTTYPE=image/jpeg:https://www.ohanloncenter.org/wp-content/uploads/2025/09/Corrected-MM-Acoustic-concert.jpg
ORGANIZER;CN="OHCA Staff":MAILTO:office@ohanloncenter.org
END:VEVENT
BEGIN:VEVENT
DTSTART;TZID=America/Los_Angeles:20251123T110000
DTEND;TZID=America/Los_Angeles:20251123T123000
DTSTAMP:20260419T153701
CREATED:20251021T202844Z
LAST-MODIFIED:20251021T203403Z
UID:20003407-1763895600-1763901000@www.ohanloncenter.org
SUMMARY:Community Gratitude Meditation with Catherine Flaxman
DESCRIPTION:
URL:https://www.ohanloncenter.org/event/community-gratitude-meditation-with-catherine-flaxman-2025/
LOCATION:O’Hanlon Center for the Arts
CATEGORIES:Body & Spirit,Community Events,Meditative Arts,Special Events
ORGANIZER;CN="OHCA Staff":MAILTO:office@ohanloncenter.org
END:VEVENT
END:VCALENDAR