BEGIN:VCALENDAR
VERSION:2.0
PRODID:-//O&#039;Hanlon Center for the Arts - ECPv6.15.17.1//NONSGML v1.0//EN
CALSCALE:GREGORIAN
METHOD:PUBLISH
X-ORIGINAL-URL:https://www.ohanloncenter.org
X-WR-CALDESC:Events for O&#039;Hanlon Center for the Arts
REFRESH-INTERVAL;VALUE=DURATION:PT1H
X-Robots-Tag:noindex
X-PUBLISHED-TTL:PT1H
BEGIN:VTIMEZONE
TZID:America/Los_Angeles
BEGIN:DAYLIGHT
TZOFFSETFROM:-0800
TZOFFSETTO:-0700
TZNAME:PDT
DTSTART:20250309T100000
END:DAYLIGHT
BEGIN:STANDARD
TZOFFSETFROM:-0700
TZOFFSETTO:-0800
TZNAME:PST
DTSTART:20251102T090000
END:STANDARD
BEGIN:DAYLIGHT
TZOFFSETFROM:-0800
TZOFFSETTO:-0700
TZNAME:PDT
DTSTART:20260308T100000
END:DAYLIGHT
BEGIN:STANDARD
TZOFFSETFROM:-0700
TZOFFSETTO:-0800
TZNAME:PST
DTSTART:20261101T090000
END:STANDARD
BEGIN:DAYLIGHT
TZOFFSETFROM:-0800
TZOFFSETTO:-0700
TZNAME:PDT
DTSTART:20270314T100000
END:DAYLIGHT
BEGIN:STANDARD
TZOFFSETFROM:-0700
TZOFFSETTO:-0800
TZNAME:PST
DTSTART:20271107T090000
END:STANDARD
END:VTIMEZONE
BEGIN:VEVENT
DTSTART;TZID=America/Los_Angeles:20260605T190000
DTEND;TZID=America/Los_Angeles:20260605T203000
DTSTAMP:20260423T042140
CREATED:20260421T185658Z
LAST-MODIFIED:20260421T190238Z
UID:20004519-1780686000-1780691400@www.ohanloncenter.org
SUMMARY:Ian Dogole and René Jenkins - Sacred Spaces and Wild Places
DESCRIPTION:Join us for this Special Event!\n			\n			\n				\n				\n				\n				\n			\n				\n				\n				\n				\n				\n				\n				\n				\n				\n				\n				Friday June 5\, 2026  7:00 pmTickets $30 \nTwo adventurous musical spirits who delight in the here and now. Over the last decade\, internationally acclaimed recording artist and multi-percussionist Ian Dogole (www.iandogole.com) and master multi-instrumentalist and sound healer René Jenkins (www.vibetherapy.org) have developed a symbiotic chemistry that knows no bounds. Their musical forays are deeply rooted in the ancestral indigenous music cultures of the Americas\, Africa and beyond\, and when combined with their irrepressible spirit of adventure\, the result is a sonic feast for the senses and an uplifting\, healing experience that is transformational. 
URL:https://www.ohanloncenter.org/event/ian-dogole-and-rene-jenkins-sacred-spaces-and-wild-places/
LOCATION:O’Hanlon Center for the Arts
CATEGORIES:Body & Spirit,Special Events
ORGANIZER;CN="OHCA Staff":MAILTO:office@ohanloncenter.org
END:VEVENT
END:VCALENDAR