BEGIN:VCALENDAR
VERSION:2.0
PRODID:-//O&#039;Hanlon Center for the Arts - ECPv6.15.17.1//NONSGML v1.0//EN
CALSCALE:GREGORIAN
METHOD:PUBLISH
X-WR-CALNAME:O&#039;Hanlon Center for the Arts
X-ORIGINAL-URL:https://www.ohanloncenter.org
X-WR-CALDESC:Events for O&#039;Hanlon Center for the Arts
REFRESH-INTERVAL;VALUE=DURATION:PT1H
X-Robots-Tag:noindex
X-PUBLISHED-TTL:PT1H
BEGIN:VTIMEZONE
TZID:America/Los_Angeles
BEGIN:DAYLIGHT
TZOFFSETFROM:-0800
TZOFFSETTO:-0700
TZNAME:PDT
DTSTART:20250309T100000
END:DAYLIGHT
BEGIN:STANDARD
TZOFFSETFROM:-0700
TZOFFSETTO:-0800
TZNAME:PST
DTSTART:20251102T090000
END:STANDARD
BEGIN:DAYLIGHT
TZOFFSETFROM:-0800
TZOFFSETTO:-0700
TZNAME:PDT
DTSTART:20260308T100000
END:DAYLIGHT
BEGIN:STANDARD
TZOFFSETFROM:-0700
TZOFFSETTO:-0800
TZNAME:PST
DTSTART:20261101T090000
END:STANDARD
BEGIN:DAYLIGHT
TZOFFSETFROM:-0800
TZOFFSETTO:-0700
TZNAME:PDT
DTSTART:20270314T100000
END:DAYLIGHT
BEGIN:STANDARD
TZOFFSETFROM:-0700
TZOFFSETTO:-0800
TZNAME:PST
DTSTART:20271107T090000
END:STANDARD
END:VTIMEZONE
BEGIN:VEVENT
DTSTART;TZID=America/Los_Angeles:20260421T100000
DTEND;TZID=America/Los_Angeles:20260421T140000
DTSTAMP:20260421T025824
CREATED:20251124T081233Z
LAST-MODIFIED:20260317T215937Z
UID:20004460-1776765600-1776780000@www.ohanloncenter.org
SUMMARY:Tuesday Perception Workshop
DESCRIPTION:Perception Workshops Description \nThe Perception Workshops at O’Hanlon welcome all artists and the art-curious. Rather than focusing on formal principles or strict rules\, these workshops emphasize curiosity\, exploration\, and creative play. They spark imagination by encouraging learning through doing\, observation\, acceptance\, and practice. Participants are supported in taking risks\, experimenting freely\, and developing their own visual language in an open\, encouraging environment. \nEach session begins with a simple prompt or exercise. From there\, participants may build on their initial ideas or take them in entirely new directions. At the end\, the group comes together to share discoveries through looking\, reflection\, and discussion\, celebrating the process as much as the result. \nMost materials are provided\, but participants are welcome to bring their own. \nCost: \n\n$30.00 Non-members\n$25.00 Members or Members can purchase a 10x card for $200\n$5.00 Materials fee\n\nPlease contact the office to purchase.
URL:https://www.ohanloncenter.org/event/tuesday-perception-workshop-2026/2026-04-21/
LOCATION:O’Hanlon Center for the Arts
CATEGORIES:Visual Arts
ORGANIZER;CN="OHCA Staff":MAILTO:office@ohanloncenter.org
END:VEVENT
BEGIN:VEVENT
DTSTART;TZID=America/Los_Angeles:20260421T150000
DTEND;TZID=America/Los_Angeles:20260421T170000
DTSTAMP:20260421T025824
CREATED:20260108T200730Z
LAST-MODIFIED:20260203T011601Z
UID:20004378-1776783600-1776790800@www.ohanloncenter.org
SUMMARY:The Collage Club: Cut\, Paste\, Create Together!
DESCRIPTION:The Collage Club: Cut\, Paste\, Create Together!Facilitated by Sarah McNeil\n				\n			\n				\n				\n				\n				\n				When – Third Tuesday of the Month 3-5pm in the Loft \nThis is all about the joy of creating in community at O’Hanlon.  Gather your supplies (paper scraps\, magazines\, ideas) and join a friendly group of makers. It’s a casual\, no-stress space where we sit down\, share materials\, swap ideas\, and inspire one another. No experience necessary—just the desire to cut\, arrange\, and paste! \nO’Hanlon Members Free non-members drop in charge $10 \nIf you would like to make use of O’Hanlon supplies in the loft then we ask for a $5 materials fee \n			\n			\n				\n				\n				\n				\n				\n				\n				\n				\n				\n				\n			\n			\n				\n				\n				\n				\n				\n				\n				\n				\n				\n				\n			\n			\n				\n				\n				\n				\n			\n				\n				\n				\n				\n				\n				\n			\n				\n				\n				\n				\n			\n				\n				\n				\n				\n				\n				\n				\n				\n				\n				\n				\n			\n			\n				\n				\n				\n				\n				\n				\n				\n				\n				\n				About Sarah McNeil \nSarah is a mixed media collage artist. She lives in Mill Valley and is an active board member at O’Hanlon. You can explore some of her work here at www.sarahmcneilart.com
URL:https://www.ohanloncenter.org/event/the-collage-club-cut-paste-create-together-3/
LOCATION:O’Hanlon Center for the Arts
CATEGORIES:Visual Arts
ORGANIZER;CN="OHCA Staff":MAILTO:office@ohanloncenter.org
END:VEVENT
END:VCALENDAR